BEGIN:VCALENDAR
VERSION:2.0
PRODID:-//Men Sharpen Men - ECPv6.15.20//NONSGML v1.0//EN
CALSCALE:GREGORIAN
METHOD:PUBLISH
X-ORIGINAL-URL:https://mensharpenmen.org
X-WR-CALDESC:Events for Men Sharpen Men
REFRESH-INTERVAL;VALUE=DURATION:PT1H
X-Robots-Tag:noindex
X-PUBLISHED-TTL:PT1H
BEGIN:VTIMEZONE
TZID:America/Los_Angeles
BEGIN:DAYLIGHT
TZOFFSETFROM:-0800
TZOFFSETTO:-0700
TZNAME:PDT
DTSTART:20260308T100000
END:DAYLIGHT
BEGIN:STANDARD
TZOFFSETFROM:-0700
TZOFFSETTO:-0800
TZNAME:PST
DTSTART:20261101T090000
END:STANDARD
BEGIN:DAYLIGHT
TZOFFSETFROM:-0800
TZOFFSETTO:-0700
TZNAME:PDT
DTSTART:20270314T100000
END:DAYLIGHT
BEGIN:STANDARD
TZOFFSETFROM:-0700
TZOFFSETTO:-0800
TZNAME:PST
DTSTART:20271107T090000
END:STANDARD
BEGIN:DAYLIGHT
TZOFFSETFROM:-0800
TZOFFSETTO:-0700
TZNAME:PDT
DTSTART:20280312T100000
END:DAYLIGHT
BEGIN:STANDARD
TZOFFSETFROM:-0700
TZOFFSETTO:-0800
TZNAME:PST
DTSTART:20281105T090000
END:STANDARD
BEGIN:DAYLIGHT
TZOFFSETFROM:-0800
TZOFFSETTO:-0700
TZNAME:PDT
DTSTART:20290311T100000
END:DAYLIGHT
BEGIN:STANDARD
TZOFFSETFROM:-0700
TZOFFSETTO:-0800
TZNAME:PST
DTSTART:20291104T090000
END:STANDARD
END:VTIMEZONE
BEGIN:VEVENT
DTSTART;TZID=America/Los_Angeles:20271030T080000
DTEND;TZID=America/Los_Angeles:20271030T090000
DTSTAMP:20260425T091643
CREATED:20260215T060800Z
LAST-MODIFIED:20260215T060800Z
UID:10001452-1824883200-1824886800@mensharpenmen.org
SUMMARY:Saturday Morning Coffee & Study of The Word of God
DESCRIPTION:
URL:https://mensharpenmen.org/event/saturday-morning-coffee-study-of-the-word-of-god/2027-10-30/
LOCATION:Red Brick Building\, 8303 Alondra Blvd\, Paramount\, 90723\, United States
CATEGORIES:Bible Study
ATTACH;FMTTYPE=image/jpeg:https://mensharpenmen.org/wp-content/uploads/2023/12/19147-scaled.jpg
ORGANIZER;CN="Phillip Hendren":MAILTO:info@mensharpenmen.org
GEO:33.889572;-118.154455
X-APPLE-STRUCTURED-LOCATION;VALUE=URI;X-ADDRESS=Red Brick Building 8303 Alondra Blvd Paramount 90723 United States;X-APPLE-RADIUS=500;X-TITLE=8303 Alondra Blvd:geo:-118.154455,33.889572
END:VEVENT
BEGIN:VEVENT
DTSTART;TZID=America/Los_Angeles:20271106T080000
DTEND;TZID=America/Los_Angeles:20271106T090000
DTSTAMP:20260425T091643
CREATED:20260215T060800Z
LAST-MODIFIED:20260215T060800Z
UID:10001453-1825488000-1825491600@mensharpenmen.org
SUMMARY:Saturday Morning Coffee & Study of The Word of God
DESCRIPTION:
URL:https://mensharpenmen.org/event/saturday-morning-coffee-study-of-the-word-of-god/2027-11-06/
LOCATION:Red Brick Building\, 8303 Alondra Blvd\, Paramount\, 90723\, United States
CATEGORIES:Bible Study
ATTACH;FMTTYPE=image/jpeg:https://mensharpenmen.org/wp-content/uploads/2023/12/19147-scaled.jpg
ORGANIZER;CN="Phillip Hendren":MAILTO:info@mensharpenmen.org
GEO:33.889572;-118.154455
X-APPLE-STRUCTURED-LOCATION;VALUE=URI;X-ADDRESS=Red Brick Building 8303 Alondra Blvd Paramount 90723 United States;X-APPLE-RADIUS=500;X-TITLE=8303 Alondra Blvd:geo:-118.154455,33.889572
END:VEVENT
BEGIN:VEVENT
DTSTART;TZID=America/Los_Angeles:20271113T080000
DTEND;TZID=America/Los_Angeles:20271113T090000
DTSTAMP:20260425T091643
CREATED:20260215T060800Z
LAST-MODIFIED:20260215T060800Z
UID:10001454-1826092800-1826096400@mensharpenmen.org
SUMMARY:Saturday Morning Coffee & Study of The Word of God
DESCRIPTION:
URL:https://mensharpenmen.org/event/saturday-morning-coffee-study-of-the-word-of-god/2027-11-13/
LOCATION:Red Brick Building\, 8303 Alondra Blvd\, Paramount\, 90723\, United States
CATEGORIES:Bible Study
ATTACH;FMTTYPE=image/jpeg:https://mensharpenmen.org/wp-content/uploads/2023/12/19147-scaled.jpg
ORGANIZER;CN="Phillip Hendren":MAILTO:info@mensharpenmen.org
GEO:33.889572;-118.154455
X-APPLE-STRUCTURED-LOCATION;VALUE=URI;X-ADDRESS=Red Brick Building 8303 Alondra Blvd Paramount 90723 United States;X-APPLE-RADIUS=500;X-TITLE=8303 Alondra Blvd:geo:-118.154455,33.889572
END:VEVENT
BEGIN:VEVENT
DTSTART;TZID=America/Los_Angeles:20271120T080000
DTEND;TZID=America/Los_Angeles:20271120T090000
DTSTAMP:20260425T091643
CREATED:20260215T060800Z
LAST-MODIFIED:20260215T060800Z
UID:10001455-1826697600-1826701200@mensharpenmen.org
SUMMARY:Saturday Morning Coffee & Study of The Word of God
DESCRIPTION:
URL:https://mensharpenmen.org/event/saturday-morning-coffee-study-of-the-word-of-god/2027-11-20/
LOCATION:Red Brick Building\, 8303 Alondra Blvd\, Paramount\, 90723\, United States
CATEGORIES:Bible Study
ATTACH;FMTTYPE=image/jpeg:https://mensharpenmen.org/wp-content/uploads/2023/12/19147-scaled.jpg
ORGANIZER;CN="Phillip Hendren":MAILTO:info@mensharpenmen.org
GEO:33.889572;-118.154455
X-APPLE-STRUCTURED-LOCATION;VALUE=URI;X-ADDRESS=Red Brick Building 8303 Alondra Blvd Paramount 90723 United States;X-APPLE-RADIUS=500;X-TITLE=8303 Alondra Blvd:geo:-118.154455,33.889572
END:VEVENT
BEGIN:VEVENT
DTSTART;TZID=America/Los_Angeles:20271127T080000
DTEND;TZID=America/Los_Angeles:20271127T090000
DTSTAMP:20260425T091643
CREATED:20260215T060800Z
LAST-MODIFIED:20260215T060800Z
UID:10001456-1827302400-1827306000@mensharpenmen.org
SUMMARY:Saturday Morning Coffee & Study of The Word of God
DESCRIPTION:
URL:https://mensharpenmen.org/event/saturday-morning-coffee-study-of-the-word-of-god/2027-11-27/
LOCATION:Red Brick Building\, 8303 Alondra Blvd\, Paramount\, 90723\, United States
CATEGORIES:Bible Study
ATTACH;FMTTYPE=image/jpeg:https://mensharpenmen.org/wp-content/uploads/2023/12/19147-scaled.jpg
ORGANIZER;CN="Phillip Hendren":MAILTO:info@mensharpenmen.org
GEO:33.889572;-118.154455
X-APPLE-STRUCTURED-LOCATION;VALUE=URI;X-ADDRESS=Red Brick Building 8303 Alondra Blvd Paramount 90723 United States;X-APPLE-RADIUS=500;X-TITLE=8303 Alondra Blvd:geo:-118.154455,33.889572
END:VEVENT
BEGIN:VEVENT
DTSTART;TZID=America/Los_Angeles:20271204T080000
DTEND;TZID=America/Los_Angeles:20271204T090000
DTSTAMP:20260425T091643
CREATED:20260215T060800Z
LAST-MODIFIED:20260215T060800Z
UID:10001457-1827907200-1827910800@mensharpenmen.org
SUMMARY:Saturday Morning Coffee & Study of The Word of God
DESCRIPTION:
URL:https://mensharpenmen.org/event/saturday-morning-coffee-study-of-the-word-of-god/2027-12-04/
LOCATION:Red Brick Building\, 8303 Alondra Blvd\, Paramount\, 90723\, United States
CATEGORIES:Bible Study
ATTACH;FMTTYPE=image/jpeg:https://mensharpenmen.org/wp-content/uploads/2023/12/19147-scaled.jpg
ORGANIZER;CN="Phillip Hendren":MAILTO:info@mensharpenmen.org
GEO:33.889572;-118.154455
X-APPLE-STRUCTURED-LOCATION;VALUE=URI;X-ADDRESS=Red Brick Building 8303 Alondra Blvd Paramount 90723 United States;X-APPLE-RADIUS=500;X-TITLE=8303 Alondra Blvd:geo:-118.154455,33.889572
END:VEVENT
BEGIN:VEVENT
DTSTART;TZID=America/Los_Angeles:20271211T080000
DTEND;TZID=America/Los_Angeles:20271211T090000
DTSTAMP:20260425T091643
CREATED:20260215T060800Z
LAST-MODIFIED:20260215T060800Z
UID:10001458-1828512000-1828515600@mensharpenmen.org
SUMMARY:Saturday Morning Coffee & Study of The Word of God
DESCRIPTION:
URL:https://mensharpenmen.org/event/saturday-morning-coffee-study-of-the-word-of-god/2027-12-11/
LOCATION:Red Brick Building\, 8303 Alondra Blvd\, Paramount\, 90723\, United States
CATEGORIES:Bible Study
ATTACH;FMTTYPE=image/jpeg:https://mensharpenmen.org/wp-content/uploads/2023/12/19147-scaled.jpg
ORGANIZER;CN="Phillip Hendren":MAILTO:info@mensharpenmen.org
GEO:33.889572;-118.154455
X-APPLE-STRUCTURED-LOCATION;VALUE=URI;X-ADDRESS=Red Brick Building 8303 Alondra Blvd Paramount 90723 United States;X-APPLE-RADIUS=500;X-TITLE=8303 Alondra Blvd:geo:-118.154455,33.889572
END:VEVENT
BEGIN:VEVENT
DTSTART;TZID=America/Los_Angeles:20271218T080000
DTEND;TZID=America/Los_Angeles:20271218T090000
DTSTAMP:20260425T091643
CREATED:20260215T060800Z
LAST-MODIFIED:20260215T060800Z
UID:10001459-1829116800-1829120400@mensharpenmen.org
SUMMARY:Saturday Morning Coffee & Study of The Word of God
DESCRIPTION:
URL:https://mensharpenmen.org/event/saturday-morning-coffee-study-of-the-word-of-god/2027-12-18/
LOCATION:Red Brick Building\, 8303 Alondra Blvd\, Paramount\, 90723\, United States
CATEGORIES:Bible Study
ATTACH;FMTTYPE=image/jpeg:https://mensharpenmen.org/wp-content/uploads/2023/12/19147-scaled.jpg
ORGANIZER;CN="Phillip Hendren":MAILTO:info@mensharpenmen.org
GEO:33.889572;-118.154455
X-APPLE-STRUCTURED-LOCATION;VALUE=URI;X-ADDRESS=Red Brick Building 8303 Alondra Blvd Paramount 90723 United States;X-APPLE-RADIUS=500;X-TITLE=8303 Alondra Blvd:geo:-118.154455,33.889572
END:VEVENT
BEGIN:VEVENT
DTSTART;TZID=America/Los_Angeles:20271225T080000
DTEND;TZID=America/Los_Angeles:20271225T090000
DTSTAMP:20260425T091643
CREATED:20260215T060800Z
LAST-MODIFIED:20260215T060800Z
UID:10001460-1829721600-1829725200@mensharpenmen.org
SUMMARY:Saturday Morning Coffee & Study of The Word of God
DESCRIPTION:
URL:https://mensharpenmen.org/event/saturday-morning-coffee-study-of-the-word-of-god/2027-12-25/
LOCATION:Red Brick Building\, 8303 Alondra Blvd\, Paramount\, 90723\, United States
CATEGORIES:Bible Study
ATTACH;FMTTYPE=image/jpeg:https://mensharpenmen.org/wp-content/uploads/2023/12/19147-scaled.jpg
ORGANIZER;CN="Phillip Hendren":MAILTO:info@mensharpenmen.org
GEO:33.889572;-118.154455
X-APPLE-STRUCTURED-LOCATION;VALUE=URI;X-ADDRESS=Red Brick Building 8303 Alondra Blvd Paramount 90723 United States;X-APPLE-RADIUS=500;X-TITLE=8303 Alondra Blvd:geo:-118.154455,33.889572
END:VEVENT
BEGIN:VEVENT
DTSTART;TZID=America/Los_Angeles:20280101T080000
DTEND;TZID=America/Los_Angeles:20280101T090000
DTSTAMP:20260425T091643
CREATED:20260215T060800Z
LAST-MODIFIED:20260215T060800Z
UID:10001461-1830326400-1830330000@mensharpenmen.org
SUMMARY:Saturday Morning Coffee & Study of The Word of God
DESCRIPTION:
URL:https://mensharpenmen.org/event/saturday-morning-coffee-study-of-the-word-of-god/2028-01-01/
LOCATION:Red Brick Building\, 8303 Alondra Blvd\, Paramount\, 90723\, United States
CATEGORIES:Bible Study
ATTACH;FMTTYPE=image/jpeg:https://mensharpenmen.org/wp-content/uploads/2023/12/19147-scaled.jpg
ORGANIZER;CN="Phillip Hendren":MAILTO:info@mensharpenmen.org
GEO:33.889572;-118.154455
X-APPLE-STRUCTURED-LOCATION;VALUE=URI;X-ADDRESS=Red Brick Building 8303 Alondra Blvd Paramount 90723 United States;X-APPLE-RADIUS=500;X-TITLE=8303 Alondra Blvd:geo:-118.154455,33.889572
END:VEVENT
BEGIN:VEVENT
DTSTART;TZID=America/Los_Angeles:20280108T080000
DTEND;TZID=America/Los_Angeles:20280108T090000
DTSTAMP:20260425T091643
CREATED:20260215T060800Z
LAST-MODIFIED:20260215T060800Z
UID:10001462-1830931200-1830934800@mensharpenmen.org
SUMMARY:Saturday Morning Coffee & Study of The Word of God
DESCRIPTION:
URL:https://mensharpenmen.org/event/saturday-morning-coffee-study-of-the-word-of-god/2028-01-08/
LOCATION:Red Brick Building\, 8303 Alondra Blvd\, Paramount\, 90723\, United States
CATEGORIES:Bible Study
ATTACH;FMTTYPE=image/jpeg:https://mensharpenmen.org/wp-content/uploads/2023/12/19147-scaled.jpg
ORGANIZER;CN="Phillip Hendren":MAILTO:info@mensharpenmen.org
GEO:33.889572;-118.154455
X-APPLE-STRUCTURED-LOCATION;VALUE=URI;X-ADDRESS=Red Brick Building 8303 Alondra Blvd Paramount 90723 United States;X-APPLE-RADIUS=500;X-TITLE=8303 Alondra Blvd:geo:-118.154455,33.889572
END:VEVENT
BEGIN:VEVENT
DTSTART;TZID=America/Los_Angeles:20280115T080000
DTEND;TZID=America/Los_Angeles:20280115T090000
DTSTAMP:20260425T091643
CREATED:20260215T060800Z
LAST-MODIFIED:20260215T060800Z
UID:10001463-1831536000-1831539600@mensharpenmen.org
SUMMARY:Saturday Morning Coffee & Study of The Word of God
DESCRIPTION:
URL:https://mensharpenmen.org/event/saturday-morning-coffee-study-of-the-word-of-god/2028-01-15/
LOCATION:Red Brick Building\, 8303 Alondra Blvd\, Paramount\, 90723\, United States
CATEGORIES:Bible Study
ATTACH;FMTTYPE=image/jpeg:https://mensharpenmen.org/wp-content/uploads/2023/12/19147-scaled.jpg
ORGANIZER;CN="Phillip Hendren":MAILTO:info@mensharpenmen.org
GEO:33.889572;-118.154455
X-APPLE-STRUCTURED-LOCATION;VALUE=URI;X-ADDRESS=Red Brick Building 8303 Alondra Blvd Paramount 90723 United States;X-APPLE-RADIUS=500;X-TITLE=8303 Alondra Blvd:geo:-118.154455,33.889572
END:VEVENT
BEGIN:VEVENT
DTSTART;TZID=America/Los_Angeles:20280122T080000
DTEND;TZID=America/Los_Angeles:20280122T090000
DTSTAMP:20260425T091643
CREATED:20260215T060800Z
LAST-MODIFIED:20260215T060800Z
UID:10001464-1832140800-1832144400@mensharpenmen.org
SUMMARY:Saturday Morning Coffee & Study of The Word of God
DESCRIPTION:
URL:https://mensharpenmen.org/event/saturday-morning-coffee-study-of-the-word-of-god/2028-01-22/
LOCATION:Red Brick Building\, 8303 Alondra Blvd\, Paramount\, 90723\, United States
CATEGORIES:Bible Study
ATTACH;FMTTYPE=image/jpeg:https://mensharpenmen.org/wp-content/uploads/2023/12/19147-scaled.jpg
ORGANIZER;CN="Phillip Hendren":MAILTO:info@mensharpenmen.org
GEO:33.889572;-118.154455
X-APPLE-STRUCTURED-LOCATION;VALUE=URI;X-ADDRESS=Red Brick Building 8303 Alondra Blvd Paramount 90723 United States;X-APPLE-RADIUS=500;X-TITLE=8303 Alondra Blvd:geo:-118.154455,33.889572
END:VEVENT
BEGIN:VEVENT
DTSTART;TZID=America/Los_Angeles:20280129T080000
DTEND;TZID=America/Los_Angeles:20280129T090000
DTSTAMP:20260425T091643
CREATED:20260215T060800Z
LAST-MODIFIED:20260215T060800Z
UID:10001465-1832745600-1832749200@mensharpenmen.org
SUMMARY:Saturday Morning Coffee & Study of The Word of God
DESCRIPTION:
URL:https://mensharpenmen.org/event/saturday-morning-coffee-study-of-the-word-of-god/2028-01-29/
LOCATION:Red Brick Building\, 8303 Alondra Blvd\, Paramount\, 90723\, United States
CATEGORIES:Bible Study
ATTACH;FMTTYPE=image/jpeg:https://mensharpenmen.org/wp-content/uploads/2023/12/19147-scaled.jpg
ORGANIZER;CN="Phillip Hendren":MAILTO:info@mensharpenmen.org
GEO:33.889572;-118.154455
X-APPLE-STRUCTURED-LOCATION;VALUE=URI;X-ADDRESS=Red Brick Building 8303 Alondra Blvd Paramount 90723 United States;X-APPLE-RADIUS=500;X-TITLE=8303 Alondra Blvd:geo:-118.154455,33.889572
END:VEVENT
BEGIN:VEVENT
DTSTART;TZID=America/Los_Angeles:20280205T080000
DTEND;TZID=America/Los_Angeles:20280205T090000
DTSTAMP:20260425T091643
CREATED:20260215T060800Z
LAST-MODIFIED:20260215T060800Z
UID:10001466-1833350400-1833354000@mensharpenmen.org
SUMMARY:Saturday Morning Coffee & Study of The Word of God
DESCRIPTION:
URL:https://mensharpenmen.org/event/saturday-morning-coffee-study-of-the-word-of-god/2028-02-05/
LOCATION:Red Brick Building\, 8303 Alondra Blvd\, Paramount\, 90723\, United States
CATEGORIES:Bible Study
ATTACH;FMTTYPE=image/jpeg:https://mensharpenmen.org/wp-content/uploads/2023/12/19147-scaled.jpg
ORGANIZER;CN="Phillip Hendren":MAILTO:info@mensharpenmen.org
GEO:33.889572;-118.154455
X-APPLE-STRUCTURED-LOCATION;VALUE=URI;X-ADDRESS=Red Brick Building 8303 Alondra Blvd Paramount 90723 United States;X-APPLE-RADIUS=500;X-TITLE=8303 Alondra Blvd:geo:-118.154455,33.889572
END:VEVENT
BEGIN:VEVENT
DTSTART;TZID=America/Los_Angeles:20280212T080000
DTEND;TZID=America/Los_Angeles:20280212T090000
DTSTAMP:20260425T091643
CREATED:20260215T060800Z
LAST-MODIFIED:20260215T060800Z
UID:10001467-1833955200-1833958800@mensharpenmen.org
SUMMARY:Saturday Morning Coffee & Study of The Word of God
DESCRIPTION:
URL:https://mensharpenmen.org/event/saturday-morning-coffee-study-of-the-word-of-god/2028-02-12/
LOCATION:Red Brick Building\, 8303 Alondra Blvd\, Paramount\, 90723\, United States
CATEGORIES:Bible Study
ATTACH;FMTTYPE=image/jpeg:https://mensharpenmen.org/wp-content/uploads/2023/12/19147-scaled.jpg
ORGANIZER;CN="Phillip Hendren":MAILTO:info@mensharpenmen.org
GEO:33.889572;-118.154455
X-APPLE-STRUCTURED-LOCATION;VALUE=URI;X-ADDRESS=Red Brick Building 8303 Alondra Blvd Paramount 90723 United States;X-APPLE-RADIUS=500;X-TITLE=8303 Alondra Blvd:geo:-118.154455,33.889572
END:VEVENT
BEGIN:VEVENT
DTSTART;TZID=America/Los_Angeles:20280219T080000
DTEND;TZID=America/Los_Angeles:20280219T090000
DTSTAMP:20260425T091643
CREATED:20260215T060800Z
LAST-MODIFIED:20260215T060800Z
UID:10001468-1834560000-1834563600@mensharpenmen.org
SUMMARY:Saturday Morning Coffee & Study of The Word of God
DESCRIPTION:
URL:https://mensharpenmen.org/event/saturday-morning-coffee-study-of-the-word-of-god/2028-02-19/
LOCATION:Red Brick Building\, 8303 Alondra Blvd\, Paramount\, 90723\, United States
CATEGORIES:Bible Study
ATTACH;FMTTYPE=image/jpeg:https://mensharpenmen.org/wp-content/uploads/2023/12/19147-scaled.jpg
ORGANIZER;CN="Phillip Hendren":MAILTO:info@mensharpenmen.org
GEO:33.889572;-118.154455
X-APPLE-STRUCTURED-LOCATION;VALUE=URI;X-ADDRESS=Red Brick Building 8303 Alondra Blvd Paramount 90723 United States;X-APPLE-RADIUS=500;X-TITLE=8303 Alondra Blvd:geo:-118.154455,33.889572
END:VEVENT
BEGIN:VEVENT
DTSTART;TZID=America/Los_Angeles:20280226T080000
DTEND;TZID=America/Los_Angeles:20280226T090000
DTSTAMP:20260425T091643
CREATED:20260215T060800Z
LAST-MODIFIED:20260215T060800Z
UID:10001469-1835164800-1835168400@mensharpenmen.org
SUMMARY:Saturday Morning Coffee & Study of The Word of God
DESCRIPTION:
URL:https://mensharpenmen.org/event/saturday-morning-coffee-study-of-the-word-of-god/2028-02-26/
LOCATION:Red Brick Building\, 8303 Alondra Blvd\, Paramount\, 90723\, United States
CATEGORIES:Bible Study
ATTACH;FMTTYPE=image/jpeg:https://mensharpenmen.org/wp-content/uploads/2023/12/19147-scaled.jpg
ORGANIZER;CN="Phillip Hendren":MAILTO:info@mensharpenmen.org
GEO:33.889572;-118.154455
X-APPLE-STRUCTURED-LOCATION;VALUE=URI;X-ADDRESS=Red Brick Building 8303 Alondra Blvd Paramount 90723 United States;X-APPLE-RADIUS=500;X-TITLE=8303 Alondra Blvd:geo:-118.154455,33.889572
END:VEVENT
BEGIN:VEVENT
DTSTART;TZID=America/Los_Angeles:20280304T080000
DTEND;TZID=America/Los_Angeles:20280304T090000
DTSTAMP:20260425T091643
CREATED:20260215T060800Z
LAST-MODIFIED:20260215T060800Z
UID:10001470-1835769600-1835773200@mensharpenmen.org
SUMMARY:Saturday Morning Coffee & Study of The Word of God
DESCRIPTION:
URL:https://mensharpenmen.org/event/saturday-morning-coffee-study-of-the-word-of-god/2028-03-04/
LOCATION:Red Brick Building\, 8303 Alondra Blvd\, Paramount\, 90723\, United States
CATEGORIES:Bible Study
ATTACH;FMTTYPE=image/jpeg:https://mensharpenmen.org/wp-content/uploads/2023/12/19147-scaled.jpg
ORGANIZER;CN="Phillip Hendren":MAILTO:info@mensharpenmen.org
GEO:33.889572;-118.154455
X-APPLE-STRUCTURED-LOCATION;VALUE=URI;X-ADDRESS=Red Brick Building 8303 Alondra Blvd Paramount 90723 United States;X-APPLE-RADIUS=500;X-TITLE=8303 Alondra Blvd:geo:-118.154455,33.889572
END:VEVENT
BEGIN:VEVENT
DTSTART;TZID=America/Los_Angeles:20280311T080000
DTEND;TZID=America/Los_Angeles:20280311T090000
DTSTAMP:20260425T091643
CREATED:20260215T060800Z
LAST-MODIFIED:20260215T060800Z
UID:10001471-1836374400-1836378000@mensharpenmen.org
SUMMARY:Saturday Morning Coffee & Study of The Word of God
DESCRIPTION:
URL:https://mensharpenmen.org/event/saturday-morning-coffee-study-of-the-word-of-god/2028-03-11/
LOCATION:Red Brick Building\, 8303 Alondra Blvd\, Paramount\, 90723\, United States
CATEGORIES:Bible Study
ATTACH;FMTTYPE=image/jpeg:https://mensharpenmen.org/wp-content/uploads/2023/12/19147-scaled.jpg
ORGANIZER;CN="Phillip Hendren":MAILTO:info@mensharpenmen.org
GEO:33.889572;-118.154455
X-APPLE-STRUCTURED-LOCATION;VALUE=URI;X-ADDRESS=Red Brick Building 8303 Alondra Blvd Paramount 90723 United States;X-APPLE-RADIUS=500;X-TITLE=8303 Alondra Blvd:geo:-118.154455,33.889572
END:VEVENT
BEGIN:VEVENT
DTSTART;TZID=America/Los_Angeles:20280318T080000
DTEND;TZID=America/Los_Angeles:20280318T090000
DTSTAMP:20260425T091643
CREATED:20260215T060800Z
LAST-MODIFIED:20260215T060800Z
UID:10001472-1836979200-1836982800@mensharpenmen.org
SUMMARY:Saturday Morning Coffee & Study of The Word of God
DESCRIPTION:
URL:https://mensharpenmen.org/event/saturday-morning-coffee-study-of-the-word-of-god/2028-03-18/
LOCATION:Red Brick Building\, 8303 Alondra Blvd\, Paramount\, 90723\, United States
CATEGORIES:Bible Study
ATTACH;FMTTYPE=image/jpeg:https://mensharpenmen.org/wp-content/uploads/2023/12/19147-scaled.jpg
ORGANIZER;CN="Phillip Hendren":MAILTO:info@mensharpenmen.org
GEO:33.889572;-118.154455
X-APPLE-STRUCTURED-LOCATION;VALUE=URI;X-ADDRESS=Red Brick Building 8303 Alondra Blvd Paramount 90723 United States;X-APPLE-RADIUS=500;X-TITLE=8303 Alondra Blvd:geo:-118.154455,33.889572
END:VEVENT
BEGIN:VEVENT
DTSTART;TZID=America/Los_Angeles:20280325T080000
DTEND;TZID=America/Los_Angeles:20280325T090000
DTSTAMP:20260425T091643
CREATED:20260215T060800Z
LAST-MODIFIED:20260215T060800Z
UID:10001473-1837584000-1837587600@mensharpenmen.org
SUMMARY:Saturday Morning Coffee & Study of The Word of God
DESCRIPTION:
URL:https://mensharpenmen.org/event/saturday-morning-coffee-study-of-the-word-of-god/2028-03-25/
LOCATION:Red Brick Building\, 8303 Alondra Blvd\, Paramount\, 90723\, United States
CATEGORIES:Bible Study
ATTACH;FMTTYPE=image/jpeg:https://mensharpenmen.org/wp-content/uploads/2023/12/19147-scaled.jpg
ORGANIZER;CN="Phillip Hendren":MAILTO:info@mensharpenmen.org
GEO:33.889572;-118.154455
X-APPLE-STRUCTURED-LOCATION;VALUE=URI;X-ADDRESS=Red Brick Building 8303 Alondra Blvd Paramount 90723 United States;X-APPLE-RADIUS=500;X-TITLE=8303 Alondra Blvd:geo:-118.154455,33.889572
END:VEVENT
BEGIN:VEVENT
DTSTART;TZID=America/Los_Angeles:20280401T080000
DTEND;TZID=America/Los_Angeles:20280401T090000
DTSTAMP:20260425T091643
CREATED:20260215T060800Z
LAST-MODIFIED:20260215T060800Z
UID:10001474-1838188800-1838192400@mensharpenmen.org
SUMMARY:Saturday Morning Coffee & Study of The Word of God
DESCRIPTION:
URL:https://mensharpenmen.org/event/saturday-morning-coffee-study-of-the-word-of-god/2028-04-01/
LOCATION:Red Brick Building\, 8303 Alondra Blvd\, Paramount\, 90723\, United States
CATEGORIES:Bible Study
ATTACH;FMTTYPE=image/jpeg:https://mensharpenmen.org/wp-content/uploads/2023/12/19147-scaled.jpg
ORGANIZER;CN="Phillip Hendren":MAILTO:info@mensharpenmen.org
GEO:33.889572;-118.154455
X-APPLE-STRUCTURED-LOCATION;VALUE=URI;X-ADDRESS=Red Brick Building 8303 Alondra Blvd Paramount 90723 United States;X-APPLE-RADIUS=500;X-TITLE=8303 Alondra Blvd:geo:-118.154455,33.889572
END:VEVENT
BEGIN:VEVENT
DTSTART;TZID=America/Los_Angeles:20280408T080000
DTEND;TZID=America/Los_Angeles:20280408T090000
DTSTAMP:20260425T091643
CREATED:20260215T060800Z
LAST-MODIFIED:20260215T060800Z
UID:10001475-1838793600-1838797200@mensharpenmen.org
SUMMARY:Saturday Morning Coffee & Study of The Word of God
DESCRIPTION:
URL:https://mensharpenmen.org/event/saturday-morning-coffee-study-of-the-word-of-god/2028-04-08/
LOCATION:Red Brick Building\, 8303 Alondra Blvd\, Paramount\, 90723\, United States
CATEGORIES:Bible Study
ATTACH;FMTTYPE=image/jpeg:https://mensharpenmen.org/wp-content/uploads/2023/12/19147-scaled.jpg
ORGANIZER;CN="Phillip Hendren":MAILTO:info@mensharpenmen.org
GEO:33.889572;-118.154455
X-APPLE-STRUCTURED-LOCATION;VALUE=URI;X-ADDRESS=Red Brick Building 8303 Alondra Blvd Paramount 90723 United States;X-APPLE-RADIUS=500;X-TITLE=8303 Alondra Blvd:geo:-118.154455,33.889572
END:VEVENT
BEGIN:VEVENT
DTSTART;TZID=America/Los_Angeles:20280415T080000
DTEND;TZID=America/Los_Angeles:20280415T090000
DTSTAMP:20260425T091643
CREATED:20260215T060800Z
LAST-MODIFIED:20260215T060800Z
UID:10001476-1839398400-1839402000@mensharpenmen.org
SUMMARY:Saturday Morning Coffee & Study of The Word of God
DESCRIPTION:
URL:https://mensharpenmen.org/event/saturday-morning-coffee-study-of-the-word-of-god/2028-04-15/
LOCATION:Red Brick Building\, 8303 Alondra Blvd\, Paramount\, 90723\, United States
CATEGORIES:Bible Study
ATTACH;FMTTYPE=image/jpeg:https://mensharpenmen.org/wp-content/uploads/2023/12/19147-scaled.jpg
ORGANIZER;CN="Phillip Hendren":MAILTO:info@mensharpenmen.org
GEO:33.889572;-118.154455
X-APPLE-STRUCTURED-LOCATION;VALUE=URI;X-ADDRESS=Red Brick Building 8303 Alondra Blvd Paramount 90723 United States;X-APPLE-RADIUS=500;X-TITLE=8303 Alondra Blvd:geo:-118.154455,33.889572
END:VEVENT
BEGIN:VEVENT
DTSTART;TZID=America/Los_Angeles:20280422T080000
DTEND;TZID=America/Los_Angeles:20280422T090000
DTSTAMP:20260425T091643
CREATED:20260215T060800Z
LAST-MODIFIED:20260215T060800Z
UID:10001477-1840003200-1840006800@mensharpenmen.org
SUMMARY:Saturday Morning Coffee & Study of The Word of God
DESCRIPTION:
URL:https://mensharpenmen.org/event/saturday-morning-coffee-study-of-the-word-of-god/2028-04-22/
LOCATION:Red Brick Building\, 8303 Alondra Blvd\, Paramount\, 90723\, United States
CATEGORIES:Bible Study
ATTACH;FMTTYPE=image/jpeg:https://mensharpenmen.org/wp-content/uploads/2023/12/19147-scaled.jpg
ORGANIZER;CN="Phillip Hendren":MAILTO:info@mensharpenmen.org
GEO:33.889572;-118.154455
X-APPLE-STRUCTURED-LOCATION;VALUE=URI;X-ADDRESS=Red Brick Building 8303 Alondra Blvd Paramount 90723 United States;X-APPLE-RADIUS=500;X-TITLE=8303 Alondra Blvd:geo:-118.154455,33.889572
END:VEVENT
BEGIN:VEVENT
DTSTART;TZID=America/Los_Angeles:20280429T080000
DTEND;TZID=America/Los_Angeles:20280429T090000
DTSTAMP:20260425T091643
CREATED:20260215T060800Z
LAST-MODIFIED:20260215T060800Z
UID:10001478-1840608000-1840611600@mensharpenmen.org
SUMMARY:Saturday Morning Coffee & Study of The Word of God
DESCRIPTION:
URL:https://mensharpenmen.org/event/saturday-morning-coffee-study-of-the-word-of-god/2028-04-29/
LOCATION:Red Brick Building\, 8303 Alondra Blvd\, Paramount\, 90723\, United States
CATEGORIES:Bible Study
ATTACH;FMTTYPE=image/jpeg:https://mensharpenmen.org/wp-content/uploads/2023/12/19147-scaled.jpg
ORGANIZER;CN="Phillip Hendren":MAILTO:info@mensharpenmen.org
GEO:33.889572;-118.154455
X-APPLE-STRUCTURED-LOCATION;VALUE=URI;X-ADDRESS=Red Brick Building 8303 Alondra Blvd Paramount 90723 United States;X-APPLE-RADIUS=500;X-TITLE=8303 Alondra Blvd:geo:-118.154455,33.889572
END:VEVENT
BEGIN:VEVENT
DTSTART;TZID=America/Los_Angeles:20280506T080000
DTEND;TZID=America/Los_Angeles:20280506T090000
DTSTAMP:20260425T091643
CREATED:20260215T060800Z
LAST-MODIFIED:20260215T060800Z
UID:10001479-1841212800-1841216400@mensharpenmen.org
SUMMARY:Saturday Morning Coffee & Study of The Word of God
DESCRIPTION:
URL:https://mensharpenmen.org/event/saturday-morning-coffee-study-of-the-word-of-god/2028-05-06/
LOCATION:Red Brick Building\, 8303 Alondra Blvd\, Paramount\, 90723\, United States
CATEGORIES:Bible Study
ATTACH;FMTTYPE=image/jpeg:https://mensharpenmen.org/wp-content/uploads/2023/12/19147-scaled.jpg
ORGANIZER;CN="Phillip Hendren":MAILTO:info@mensharpenmen.org
GEO:33.889572;-118.154455
X-APPLE-STRUCTURED-LOCATION;VALUE=URI;X-ADDRESS=Red Brick Building 8303 Alondra Blvd Paramount 90723 United States;X-APPLE-RADIUS=500;X-TITLE=8303 Alondra Blvd:geo:-118.154455,33.889572
END:VEVENT
BEGIN:VEVENT
DTSTART;TZID=America/Los_Angeles:20280513T080000
DTEND;TZID=America/Los_Angeles:20280513T090000
DTSTAMP:20260425T091643
CREATED:20260215T060800Z
LAST-MODIFIED:20260215T060800Z
UID:10001480-1841817600-1841821200@mensharpenmen.org
SUMMARY:Saturday Morning Coffee & Study of The Word of God
DESCRIPTION:
URL:https://mensharpenmen.org/event/saturday-morning-coffee-study-of-the-word-of-god/2028-05-13/
LOCATION:Red Brick Building\, 8303 Alondra Blvd\, Paramount\, 90723\, United States
CATEGORIES:Bible Study
ATTACH;FMTTYPE=image/jpeg:https://mensharpenmen.org/wp-content/uploads/2023/12/19147-scaled.jpg
ORGANIZER;CN="Phillip Hendren":MAILTO:info@mensharpenmen.org
GEO:33.889572;-118.154455
X-APPLE-STRUCTURED-LOCATION;VALUE=URI;X-ADDRESS=Red Brick Building 8303 Alondra Blvd Paramount 90723 United States;X-APPLE-RADIUS=500;X-TITLE=8303 Alondra Blvd:geo:-118.154455,33.889572
END:VEVENT
BEGIN:VEVENT
DTSTART;TZID=America/Los_Angeles:20280520T080000
DTEND;TZID=America/Los_Angeles:20280520T090000
DTSTAMP:20260425T091643
CREATED:20260215T060800Z
LAST-MODIFIED:20260215T060800Z
UID:10001481-1842422400-1842426000@mensharpenmen.org
SUMMARY:Saturday Morning Coffee & Study of The Word of God
DESCRIPTION:
URL:https://mensharpenmen.org/event/saturday-morning-coffee-study-of-the-word-of-god/2028-05-20/
LOCATION:Red Brick Building\, 8303 Alondra Blvd\, Paramount\, 90723\, United States
CATEGORIES:Bible Study
ATTACH;FMTTYPE=image/jpeg:https://mensharpenmen.org/wp-content/uploads/2023/12/19147-scaled.jpg
ORGANIZER;CN="Phillip Hendren":MAILTO:info@mensharpenmen.org
GEO:33.889572;-118.154455
X-APPLE-STRUCTURED-LOCATION;VALUE=URI;X-ADDRESS=Red Brick Building 8303 Alondra Blvd Paramount 90723 United States;X-APPLE-RADIUS=500;X-TITLE=8303 Alondra Blvd:geo:-118.154455,33.889572
END:VEVENT
END:VCALENDAR