BEGIN:VCALENDAR
VERSION:2.0
PRODID:-//Men Sharpen Men - ECPv6.15.20//NONSGML v1.0//EN
CALSCALE:GREGORIAN
METHOD:PUBLISH
X-WR-CALNAME:Men Sharpen Men
X-ORIGINAL-URL:https://mensharpenmen.org
X-WR-CALDESC:Events for Men Sharpen Men
REFRESH-INTERVAL;VALUE=DURATION:PT1H
X-Robots-Tag:noindex
X-PUBLISHED-TTL:PT1H
BEGIN:VTIMEZONE
TZID:America/Los_Angeles
BEGIN:DAYLIGHT
TZOFFSETFROM:-0800
TZOFFSETTO:-0700
TZNAME:PDT
DTSTART:20250309T100000
END:DAYLIGHT
BEGIN:STANDARD
TZOFFSETFROM:-0700
TZOFFSETTO:-0800
TZNAME:PST
DTSTART:20251102T090000
END:STANDARD
BEGIN:DAYLIGHT
TZOFFSETFROM:-0800
TZOFFSETTO:-0700
TZNAME:PDT
DTSTART:20260308T100000
END:DAYLIGHT
BEGIN:STANDARD
TZOFFSETFROM:-0700
TZOFFSETTO:-0800
TZNAME:PST
DTSTART:20261101T090000
END:STANDARD
BEGIN:DAYLIGHT
TZOFFSETFROM:-0800
TZOFFSETTO:-0700
TZNAME:PDT
DTSTART:20270314T100000
END:DAYLIGHT
BEGIN:STANDARD
TZOFFSETFROM:-0700
TZOFFSETTO:-0800
TZNAME:PST
DTSTART:20271107T090000
END:STANDARD
BEGIN:DAYLIGHT
TZOFFSETFROM:-0800
TZOFFSETTO:-0700
TZNAME:PDT
DTSTART:20280312T100000
END:DAYLIGHT
BEGIN:STANDARD
TZOFFSETFROM:-0700
TZOFFSETTO:-0800
TZNAME:PST
DTSTART:20281105T090000
END:STANDARD
END:VTIMEZONE
BEGIN:VEVENT
DTSTART;TZID=America/Los_Angeles:20261121T080000
DTEND;TZID=America/Los_Angeles:20261121T090000
DTSTAMP:20260423T161108
CREATED:20260215T060800Z
LAST-MODIFIED:20260215T060800Z
UID:10001403-1795248000-1795251600@mensharpenmen.org
SUMMARY:Saturday Morning Coffee & Study of The Word of God
DESCRIPTION:
URL:https://mensharpenmen.org/event/saturday-morning-coffee-study-of-the-word-of-god/2026-11-21/
LOCATION:Red Brick Building\, 8303 Alondra Blvd\, Paramount\, 90723\, United States
CATEGORIES:Bible Study
ATTACH;FMTTYPE=image/jpeg:https://mensharpenmen.org/wp-content/uploads/2023/12/19147-scaled.jpg
ORGANIZER;CN="Phillip Hendren":MAILTO:info@mensharpenmen.org
GEO:33.889572;-118.154455
X-APPLE-STRUCTURED-LOCATION;VALUE=URI;X-ADDRESS=Red Brick Building 8303 Alondra Blvd Paramount 90723 United States;X-APPLE-RADIUS=500;X-TITLE=8303 Alondra Blvd:geo:-118.154455,33.889572
END:VEVENT
BEGIN:VEVENT
DTSTART;TZID=America/Los_Angeles:20261128T080000
DTEND;TZID=America/Los_Angeles:20261128T090000
DTSTAMP:20260423T161108
CREATED:20260215T060800Z
LAST-MODIFIED:20260215T060800Z
UID:10001404-1795852800-1795856400@mensharpenmen.org
SUMMARY:Saturday Morning Coffee & Study of The Word of God
DESCRIPTION:
URL:https://mensharpenmen.org/event/saturday-morning-coffee-study-of-the-word-of-god/2026-11-28/
LOCATION:Red Brick Building\, 8303 Alondra Blvd\, Paramount\, 90723\, United States
CATEGORIES:Bible Study
ATTACH;FMTTYPE=image/jpeg:https://mensharpenmen.org/wp-content/uploads/2023/12/19147-scaled.jpg
ORGANIZER;CN="Phillip Hendren":MAILTO:info@mensharpenmen.org
GEO:33.889572;-118.154455
X-APPLE-STRUCTURED-LOCATION;VALUE=URI;X-ADDRESS=Red Brick Building 8303 Alondra Blvd Paramount 90723 United States;X-APPLE-RADIUS=500;X-TITLE=8303 Alondra Blvd:geo:-118.154455,33.889572
END:VEVENT
BEGIN:VEVENT
DTSTART;TZID=America/Los_Angeles:20261205T080000
DTEND;TZID=America/Los_Angeles:20261205T090000
DTSTAMP:20260423T161108
CREATED:20260215T060800Z
LAST-MODIFIED:20260215T060800Z
UID:10001405-1796457600-1796461200@mensharpenmen.org
SUMMARY:Saturday Morning Coffee & Study of The Word of God
DESCRIPTION:
URL:https://mensharpenmen.org/event/saturday-morning-coffee-study-of-the-word-of-god/2026-12-05/
LOCATION:Red Brick Building\, 8303 Alondra Blvd\, Paramount\, 90723\, United States
CATEGORIES:Bible Study
ATTACH;FMTTYPE=image/jpeg:https://mensharpenmen.org/wp-content/uploads/2023/12/19147-scaled.jpg
ORGANIZER;CN="Phillip Hendren":MAILTO:info@mensharpenmen.org
GEO:33.889572;-118.154455
X-APPLE-STRUCTURED-LOCATION;VALUE=URI;X-ADDRESS=Red Brick Building 8303 Alondra Blvd Paramount 90723 United States;X-APPLE-RADIUS=500;X-TITLE=8303 Alondra Blvd:geo:-118.154455,33.889572
END:VEVENT
BEGIN:VEVENT
DTSTART;TZID=America/Los_Angeles:20261212T080000
DTEND;TZID=America/Los_Angeles:20261212T090000
DTSTAMP:20260423T161108
CREATED:20260215T060800Z
LAST-MODIFIED:20260215T060800Z
UID:10001406-1797062400-1797066000@mensharpenmen.org
SUMMARY:Saturday Morning Coffee & Study of The Word of God
DESCRIPTION:
URL:https://mensharpenmen.org/event/saturday-morning-coffee-study-of-the-word-of-god/2026-12-12/
LOCATION:Red Brick Building\, 8303 Alondra Blvd\, Paramount\, 90723\, United States
CATEGORIES:Bible Study
ATTACH;FMTTYPE=image/jpeg:https://mensharpenmen.org/wp-content/uploads/2023/12/19147-scaled.jpg
ORGANIZER;CN="Phillip Hendren":MAILTO:info@mensharpenmen.org
GEO:33.889572;-118.154455
X-APPLE-STRUCTURED-LOCATION;VALUE=URI;X-ADDRESS=Red Brick Building 8303 Alondra Blvd Paramount 90723 United States;X-APPLE-RADIUS=500;X-TITLE=8303 Alondra Blvd:geo:-118.154455,33.889572
END:VEVENT
BEGIN:VEVENT
DTSTART;TZID=America/Los_Angeles:20261219T080000
DTEND;TZID=America/Los_Angeles:20261219T090000
DTSTAMP:20260423T161108
CREATED:20260215T060800Z
LAST-MODIFIED:20260215T060800Z
UID:10001407-1797667200-1797670800@mensharpenmen.org
SUMMARY:Saturday Morning Coffee & Study of The Word of God
DESCRIPTION:
URL:https://mensharpenmen.org/event/saturday-morning-coffee-study-of-the-word-of-god/2026-12-19/
LOCATION:Red Brick Building\, 8303 Alondra Blvd\, Paramount\, 90723\, United States
CATEGORIES:Bible Study
ATTACH;FMTTYPE=image/jpeg:https://mensharpenmen.org/wp-content/uploads/2023/12/19147-scaled.jpg
ORGANIZER;CN="Phillip Hendren":MAILTO:info@mensharpenmen.org
GEO:33.889572;-118.154455
X-APPLE-STRUCTURED-LOCATION;VALUE=URI;X-ADDRESS=Red Brick Building 8303 Alondra Blvd Paramount 90723 United States;X-APPLE-RADIUS=500;X-TITLE=8303 Alondra Blvd:geo:-118.154455,33.889572
END:VEVENT
BEGIN:VEVENT
DTSTART;TZID=America/Los_Angeles:20261226T080000
DTEND;TZID=America/Los_Angeles:20261226T090000
DTSTAMP:20260423T161108
CREATED:20260215T060800Z
LAST-MODIFIED:20260215T060800Z
UID:10001408-1798272000-1798275600@mensharpenmen.org
SUMMARY:Saturday Morning Coffee & Study of The Word of God
DESCRIPTION:
URL:https://mensharpenmen.org/event/saturday-morning-coffee-study-of-the-word-of-god/2026-12-26/
LOCATION:Red Brick Building\, 8303 Alondra Blvd\, Paramount\, 90723\, United States
CATEGORIES:Bible Study
ATTACH;FMTTYPE=image/jpeg:https://mensharpenmen.org/wp-content/uploads/2023/12/19147-scaled.jpg
ORGANIZER;CN="Phillip Hendren":MAILTO:info@mensharpenmen.org
GEO:33.889572;-118.154455
X-APPLE-STRUCTURED-LOCATION;VALUE=URI;X-ADDRESS=Red Brick Building 8303 Alondra Blvd Paramount 90723 United States;X-APPLE-RADIUS=500;X-TITLE=8303 Alondra Blvd:geo:-118.154455,33.889572
END:VEVENT
BEGIN:VEVENT
DTSTART;TZID=America/Los_Angeles:20270102T080000
DTEND;TZID=America/Los_Angeles:20270102T090000
DTSTAMP:20260423T161109
CREATED:20260215T060800Z
LAST-MODIFIED:20260215T060800Z
UID:10001409-1798876800-1798880400@mensharpenmen.org
SUMMARY:Saturday Morning Coffee & Study of The Word of God
DESCRIPTION:
URL:https://mensharpenmen.org/event/saturday-morning-coffee-study-of-the-word-of-god/2027-01-02/
LOCATION:Red Brick Building\, 8303 Alondra Blvd\, Paramount\, 90723\, United States
CATEGORIES:Bible Study
ATTACH;FMTTYPE=image/jpeg:https://mensharpenmen.org/wp-content/uploads/2023/12/19147-scaled.jpg
ORGANIZER;CN="Phillip Hendren":MAILTO:info@mensharpenmen.org
GEO:33.889572;-118.154455
X-APPLE-STRUCTURED-LOCATION;VALUE=URI;X-ADDRESS=Red Brick Building 8303 Alondra Blvd Paramount 90723 United States;X-APPLE-RADIUS=500;X-TITLE=8303 Alondra Blvd:geo:-118.154455,33.889572
END:VEVENT
BEGIN:VEVENT
DTSTART;TZID=America/Los_Angeles:20270109T080000
DTEND;TZID=America/Los_Angeles:20270109T090000
DTSTAMP:20260423T161109
CREATED:20260215T060800Z
LAST-MODIFIED:20260215T060800Z
UID:10001410-1799481600-1799485200@mensharpenmen.org
SUMMARY:Saturday Morning Coffee & Study of The Word of God
DESCRIPTION:
URL:https://mensharpenmen.org/event/saturday-morning-coffee-study-of-the-word-of-god/2027-01-09/
LOCATION:Red Brick Building\, 8303 Alondra Blvd\, Paramount\, 90723\, United States
CATEGORIES:Bible Study
ATTACH;FMTTYPE=image/jpeg:https://mensharpenmen.org/wp-content/uploads/2023/12/19147-scaled.jpg
ORGANIZER;CN="Phillip Hendren":MAILTO:info@mensharpenmen.org
GEO:33.889572;-118.154455
X-APPLE-STRUCTURED-LOCATION;VALUE=URI;X-ADDRESS=Red Brick Building 8303 Alondra Blvd Paramount 90723 United States;X-APPLE-RADIUS=500;X-TITLE=8303 Alondra Blvd:geo:-118.154455,33.889572
END:VEVENT
BEGIN:VEVENT
DTSTART;TZID=America/Los_Angeles:20270116T080000
DTEND;TZID=America/Los_Angeles:20270116T090000
DTSTAMP:20260423T161109
CREATED:20260215T060800Z
LAST-MODIFIED:20260215T060800Z
UID:10001411-1800086400-1800090000@mensharpenmen.org
SUMMARY:Saturday Morning Coffee & Study of The Word of God
DESCRIPTION:
URL:https://mensharpenmen.org/event/saturday-morning-coffee-study-of-the-word-of-god/2027-01-16/
LOCATION:Red Brick Building\, 8303 Alondra Blvd\, Paramount\, 90723\, United States
CATEGORIES:Bible Study
ATTACH;FMTTYPE=image/jpeg:https://mensharpenmen.org/wp-content/uploads/2023/12/19147-scaled.jpg
ORGANIZER;CN="Phillip Hendren":MAILTO:info@mensharpenmen.org
GEO:33.889572;-118.154455
X-APPLE-STRUCTURED-LOCATION;VALUE=URI;X-ADDRESS=Red Brick Building 8303 Alondra Blvd Paramount 90723 United States;X-APPLE-RADIUS=500;X-TITLE=8303 Alondra Blvd:geo:-118.154455,33.889572
END:VEVENT
BEGIN:VEVENT
DTSTART;TZID=America/Los_Angeles:20270123T080000
DTEND;TZID=America/Los_Angeles:20270123T090000
DTSTAMP:20260423T161109
CREATED:20260215T060800Z
LAST-MODIFIED:20260215T060800Z
UID:10001412-1800691200-1800694800@mensharpenmen.org
SUMMARY:Saturday Morning Coffee & Study of The Word of God
DESCRIPTION:
URL:https://mensharpenmen.org/event/saturday-morning-coffee-study-of-the-word-of-god/2027-01-23/
LOCATION:Red Brick Building\, 8303 Alondra Blvd\, Paramount\, 90723\, United States
CATEGORIES:Bible Study
ATTACH;FMTTYPE=image/jpeg:https://mensharpenmen.org/wp-content/uploads/2023/12/19147-scaled.jpg
ORGANIZER;CN="Phillip Hendren":MAILTO:info@mensharpenmen.org
GEO:33.889572;-118.154455
X-APPLE-STRUCTURED-LOCATION;VALUE=URI;X-ADDRESS=Red Brick Building 8303 Alondra Blvd Paramount 90723 United States;X-APPLE-RADIUS=500;X-TITLE=8303 Alondra Blvd:geo:-118.154455,33.889572
END:VEVENT
BEGIN:VEVENT
DTSTART;TZID=America/Los_Angeles:20270130T080000
DTEND;TZID=America/Los_Angeles:20270130T090000
DTSTAMP:20260423T161109
CREATED:20260215T060800Z
LAST-MODIFIED:20260215T060800Z
UID:10001413-1801296000-1801299600@mensharpenmen.org
SUMMARY:Saturday Morning Coffee & Study of The Word of God
DESCRIPTION:
URL:https://mensharpenmen.org/event/saturday-morning-coffee-study-of-the-word-of-god/2027-01-30/
LOCATION:Red Brick Building\, 8303 Alondra Blvd\, Paramount\, 90723\, United States
CATEGORIES:Bible Study
ATTACH;FMTTYPE=image/jpeg:https://mensharpenmen.org/wp-content/uploads/2023/12/19147-scaled.jpg
ORGANIZER;CN="Phillip Hendren":MAILTO:info@mensharpenmen.org
GEO:33.889572;-118.154455
X-APPLE-STRUCTURED-LOCATION;VALUE=URI;X-ADDRESS=Red Brick Building 8303 Alondra Blvd Paramount 90723 United States;X-APPLE-RADIUS=500;X-TITLE=8303 Alondra Blvd:geo:-118.154455,33.889572
END:VEVENT
BEGIN:VEVENT
DTSTART;TZID=America/Los_Angeles:20270206T080000
DTEND;TZID=America/Los_Angeles:20270206T090000
DTSTAMP:20260423T161109
CREATED:20260215T060800Z
LAST-MODIFIED:20260215T060800Z
UID:10001414-1801900800-1801904400@mensharpenmen.org
SUMMARY:Saturday Morning Coffee & Study of The Word of God
DESCRIPTION:
URL:https://mensharpenmen.org/event/saturday-morning-coffee-study-of-the-word-of-god/2027-02-06/
LOCATION:Red Brick Building\, 8303 Alondra Blvd\, Paramount\, 90723\, United States
CATEGORIES:Bible Study
ATTACH;FMTTYPE=image/jpeg:https://mensharpenmen.org/wp-content/uploads/2023/12/19147-scaled.jpg
ORGANIZER;CN="Phillip Hendren":MAILTO:info@mensharpenmen.org
GEO:33.889572;-118.154455
X-APPLE-STRUCTURED-LOCATION;VALUE=URI;X-ADDRESS=Red Brick Building 8303 Alondra Blvd Paramount 90723 United States;X-APPLE-RADIUS=500;X-TITLE=8303 Alondra Blvd:geo:-118.154455,33.889572
END:VEVENT
BEGIN:VEVENT
DTSTART;TZID=America/Los_Angeles:20270213T080000
DTEND;TZID=America/Los_Angeles:20270213T090000
DTSTAMP:20260423T161109
CREATED:20260215T060800Z
LAST-MODIFIED:20260215T060800Z
UID:10001415-1802505600-1802509200@mensharpenmen.org
SUMMARY:Saturday Morning Coffee & Study of The Word of God
DESCRIPTION:
URL:https://mensharpenmen.org/event/saturday-morning-coffee-study-of-the-word-of-god/2027-02-13/
LOCATION:Red Brick Building\, 8303 Alondra Blvd\, Paramount\, 90723\, United States
CATEGORIES:Bible Study
ATTACH;FMTTYPE=image/jpeg:https://mensharpenmen.org/wp-content/uploads/2023/12/19147-scaled.jpg
ORGANIZER;CN="Phillip Hendren":MAILTO:info@mensharpenmen.org
GEO:33.889572;-118.154455
X-APPLE-STRUCTURED-LOCATION;VALUE=URI;X-ADDRESS=Red Brick Building 8303 Alondra Blvd Paramount 90723 United States;X-APPLE-RADIUS=500;X-TITLE=8303 Alondra Blvd:geo:-118.154455,33.889572
END:VEVENT
BEGIN:VEVENT
DTSTART;TZID=America/Los_Angeles:20270220T080000
DTEND;TZID=America/Los_Angeles:20270220T090000
DTSTAMP:20260423T161109
CREATED:20260215T060800Z
LAST-MODIFIED:20260215T060800Z
UID:10001416-1803110400-1803114000@mensharpenmen.org
SUMMARY:Saturday Morning Coffee & Study of The Word of God
DESCRIPTION:
URL:https://mensharpenmen.org/event/saturday-morning-coffee-study-of-the-word-of-god/2027-02-20/
LOCATION:Red Brick Building\, 8303 Alondra Blvd\, Paramount\, 90723\, United States
CATEGORIES:Bible Study
ATTACH;FMTTYPE=image/jpeg:https://mensharpenmen.org/wp-content/uploads/2023/12/19147-scaled.jpg
ORGANIZER;CN="Phillip Hendren":MAILTO:info@mensharpenmen.org
GEO:33.889572;-118.154455
X-APPLE-STRUCTURED-LOCATION;VALUE=URI;X-ADDRESS=Red Brick Building 8303 Alondra Blvd Paramount 90723 United States;X-APPLE-RADIUS=500;X-TITLE=8303 Alondra Blvd:geo:-118.154455,33.889572
END:VEVENT
BEGIN:VEVENT
DTSTART;TZID=America/Los_Angeles:20270227T080000
DTEND;TZID=America/Los_Angeles:20270227T090000
DTSTAMP:20260423T161109
CREATED:20260215T060800Z
LAST-MODIFIED:20260215T060800Z
UID:10001417-1803715200-1803718800@mensharpenmen.org
SUMMARY:Saturday Morning Coffee & Study of The Word of God
DESCRIPTION:
URL:https://mensharpenmen.org/event/saturday-morning-coffee-study-of-the-word-of-god/2027-02-27/
LOCATION:Red Brick Building\, 8303 Alondra Blvd\, Paramount\, 90723\, United States
CATEGORIES:Bible Study
ATTACH;FMTTYPE=image/jpeg:https://mensharpenmen.org/wp-content/uploads/2023/12/19147-scaled.jpg
ORGANIZER;CN="Phillip Hendren":MAILTO:info@mensharpenmen.org
GEO:33.889572;-118.154455
X-APPLE-STRUCTURED-LOCATION;VALUE=URI;X-ADDRESS=Red Brick Building 8303 Alondra Blvd Paramount 90723 United States;X-APPLE-RADIUS=500;X-TITLE=8303 Alondra Blvd:geo:-118.154455,33.889572
END:VEVENT
BEGIN:VEVENT
DTSTART;TZID=America/Los_Angeles:20270306T080000
DTEND;TZID=America/Los_Angeles:20270306T090000
DTSTAMP:20260423T161109
CREATED:20260215T060800Z
LAST-MODIFIED:20260215T060800Z
UID:10001418-1804320000-1804323600@mensharpenmen.org
SUMMARY:Saturday Morning Coffee & Study of The Word of God
DESCRIPTION:
URL:https://mensharpenmen.org/event/saturday-morning-coffee-study-of-the-word-of-god/2027-03-06/
LOCATION:Red Brick Building\, 8303 Alondra Blvd\, Paramount\, 90723\, United States
CATEGORIES:Bible Study
ATTACH;FMTTYPE=image/jpeg:https://mensharpenmen.org/wp-content/uploads/2023/12/19147-scaled.jpg
ORGANIZER;CN="Phillip Hendren":MAILTO:info@mensharpenmen.org
GEO:33.889572;-118.154455
X-APPLE-STRUCTURED-LOCATION;VALUE=URI;X-ADDRESS=Red Brick Building 8303 Alondra Blvd Paramount 90723 United States;X-APPLE-RADIUS=500;X-TITLE=8303 Alondra Blvd:geo:-118.154455,33.889572
END:VEVENT
BEGIN:VEVENT
DTSTART;TZID=America/Los_Angeles:20270313T080000
DTEND;TZID=America/Los_Angeles:20270313T090000
DTSTAMP:20260423T161109
CREATED:20260215T060800Z
LAST-MODIFIED:20260215T060800Z
UID:10001419-1804924800-1804928400@mensharpenmen.org
SUMMARY:Saturday Morning Coffee & Study of The Word of God
DESCRIPTION:
URL:https://mensharpenmen.org/event/saturday-morning-coffee-study-of-the-word-of-god/2027-03-13/
LOCATION:Red Brick Building\, 8303 Alondra Blvd\, Paramount\, 90723\, United States
CATEGORIES:Bible Study
ATTACH;FMTTYPE=image/jpeg:https://mensharpenmen.org/wp-content/uploads/2023/12/19147-scaled.jpg
ORGANIZER;CN="Phillip Hendren":MAILTO:info@mensharpenmen.org
GEO:33.889572;-118.154455
X-APPLE-STRUCTURED-LOCATION;VALUE=URI;X-ADDRESS=Red Brick Building 8303 Alondra Blvd Paramount 90723 United States;X-APPLE-RADIUS=500;X-TITLE=8303 Alondra Blvd:geo:-118.154455,33.889572
END:VEVENT
BEGIN:VEVENT
DTSTART;TZID=America/Los_Angeles:20270320T080000
DTEND;TZID=America/Los_Angeles:20270320T090000
DTSTAMP:20260423T161109
CREATED:20260215T060800Z
LAST-MODIFIED:20260215T060800Z
UID:10001420-1805529600-1805533200@mensharpenmen.org
SUMMARY:Saturday Morning Coffee & Study of The Word of God
DESCRIPTION:
URL:https://mensharpenmen.org/event/saturday-morning-coffee-study-of-the-word-of-god/2027-03-20/
LOCATION:Red Brick Building\, 8303 Alondra Blvd\, Paramount\, 90723\, United States
CATEGORIES:Bible Study
ATTACH;FMTTYPE=image/jpeg:https://mensharpenmen.org/wp-content/uploads/2023/12/19147-scaled.jpg
ORGANIZER;CN="Phillip Hendren":MAILTO:info@mensharpenmen.org
GEO:33.889572;-118.154455
X-APPLE-STRUCTURED-LOCATION;VALUE=URI;X-ADDRESS=Red Brick Building 8303 Alondra Blvd Paramount 90723 United States;X-APPLE-RADIUS=500;X-TITLE=8303 Alondra Blvd:geo:-118.154455,33.889572
END:VEVENT
BEGIN:VEVENT
DTSTART;TZID=America/Los_Angeles:20270327T080000
DTEND;TZID=America/Los_Angeles:20270327T090000
DTSTAMP:20260423T161109
CREATED:20260215T060800Z
LAST-MODIFIED:20260215T060800Z
UID:10001421-1806134400-1806138000@mensharpenmen.org
SUMMARY:Saturday Morning Coffee & Study of The Word of God
DESCRIPTION:
URL:https://mensharpenmen.org/event/saturday-morning-coffee-study-of-the-word-of-god/2027-03-27/
LOCATION:Red Brick Building\, 8303 Alondra Blvd\, Paramount\, 90723\, United States
CATEGORIES:Bible Study
ATTACH;FMTTYPE=image/jpeg:https://mensharpenmen.org/wp-content/uploads/2023/12/19147-scaled.jpg
ORGANIZER;CN="Phillip Hendren":MAILTO:info@mensharpenmen.org
GEO:33.889572;-118.154455
X-APPLE-STRUCTURED-LOCATION;VALUE=URI;X-ADDRESS=Red Brick Building 8303 Alondra Blvd Paramount 90723 United States;X-APPLE-RADIUS=500;X-TITLE=8303 Alondra Blvd:geo:-118.154455,33.889572
END:VEVENT
BEGIN:VEVENT
DTSTART;TZID=America/Los_Angeles:20270403T080000
DTEND;TZID=America/Los_Angeles:20270403T090000
DTSTAMP:20260423T161109
CREATED:20260215T060800Z
LAST-MODIFIED:20260215T060800Z
UID:10001422-1806739200-1806742800@mensharpenmen.org
SUMMARY:Saturday Morning Coffee & Study of The Word of God
DESCRIPTION:
URL:https://mensharpenmen.org/event/saturday-morning-coffee-study-of-the-word-of-god/2027-04-03/
LOCATION:Red Brick Building\, 8303 Alondra Blvd\, Paramount\, 90723\, United States
CATEGORIES:Bible Study
ATTACH;FMTTYPE=image/jpeg:https://mensharpenmen.org/wp-content/uploads/2023/12/19147-scaled.jpg
ORGANIZER;CN="Phillip Hendren":MAILTO:info@mensharpenmen.org
GEO:33.889572;-118.154455
X-APPLE-STRUCTURED-LOCATION;VALUE=URI;X-ADDRESS=Red Brick Building 8303 Alondra Blvd Paramount 90723 United States;X-APPLE-RADIUS=500;X-TITLE=8303 Alondra Blvd:geo:-118.154455,33.889572
END:VEVENT
BEGIN:VEVENT
DTSTART;TZID=America/Los_Angeles:20270410T080000
DTEND;TZID=America/Los_Angeles:20270410T090000
DTSTAMP:20260423T161109
CREATED:20260215T060800Z
LAST-MODIFIED:20260215T060800Z
UID:10001423-1807344000-1807347600@mensharpenmen.org
SUMMARY:Saturday Morning Coffee & Study of The Word of God
DESCRIPTION:
URL:https://mensharpenmen.org/event/saturday-morning-coffee-study-of-the-word-of-god/2027-04-10/
LOCATION:Red Brick Building\, 8303 Alondra Blvd\, Paramount\, 90723\, United States
CATEGORIES:Bible Study
ATTACH;FMTTYPE=image/jpeg:https://mensharpenmen.org/wp-content/uploads/2023/12/19147-scaled.jpg
ORGANIZER;CN="Phillip Hendren":MAILTO:info@mensharpenmen.org
GEO:33.889572;-118.154455
X-APPLE-STRUCTURED-LOCATION;VALUE=URI;X-ADDRESS=Red Brick Building 8303 Alondra Blvd Paramount 90723 United States;X-APPLE-RADIUS=500;X-TITLE=8303 Alondra Blvd:geo:-118.154455,33.889572
END:VEVENT
BEGIN:VEVENT
DTSTART;TZID=America/Los_Angeles:20270417T080000
DTEND;TZID=America/Los_Angeles:20270417T090000
DTSTAMP:20260423T161109
CREATED:20260215T060800Z
LAST-MODIFIED:20260215T060800Z
UID:10001424-1807948800-1807952400@mensharpenmen.org
SUMMARY:Saturday Morning Coffee & Study of The Word of God
DESCRIPTION:
URL:https://mensharpenmen.org/event/saturday-morning-coffee-study-of-the-word-of-god/2027-04-17/
LOCATION:Red Brick Building\, 8303 Alondra Blvd\, Paramount\, 90723\, United States
CATEGORIES:Bible Study
ATTACH;FMTTYPE=image/jpeg:https://mensharpenmen.org/wp-content/uploads/2023/12/19147-scaled.jpg
ORGANIZER;CN="Phillip Hendren":MAILTO:info@mensharpenmen.org
GEO:33.889572;-118.154455
X-APPLE-STRUCTURED-LOCATION;VALUE=URI;X-ADDRESS=Red Brick Building 8303 Alondra Blvd Paramount 90723 United States;X-APPLE-RADIUS=500;X-TITLE=8303 Alondra Blvd:geo:-118.154455,33.889572
END:VEVENT
BEGIN:VEVENT
DTSTART;TZID=America/Los_Angeles:20270424T080000
DTEND;TZID=America/Los_Angeles:20270424T090000
DTSTAMP:20260423T161109
CREATED:20260215T060800Z
LAST-MODIFIED:20260215T060800Z
UID:10001425-1808553600-1808557200@mensharpenmen.org
SUMMARY:Saturday Morning Coffee & Study of The Word of God
DESCRIPTION:
URL:https://mensharpenmen.org/event/saturday-morning-coffee-study-of-the-word-of-god/2027-04-24/
LOCATION:Red Brick Building\, 8303 Alondra Blvd\, Paramount\, 90723\, United States
CATEGORIES:Bible Study
ATTACH;FMTTYPE=image/jpeg:https://mensharpenmen.org/wp-content/uploads/2023/12/19147-scaled.jpg
ORGANIZER;CN="Phillip Hendren":MAILTO:info@mensharpenmen.org
GEO:33.889572;-118.154455
X-APPLE-STRUCTURED-LOCATION;VALUE=URI;X-ADDRESS=Red Brick Building 8303 Alondra Blvd Paramount 90723 United States;X-APPLE-RADIUS=500;X-TITLE=8303 Alondra Blvd:geo:-118.154455,33.889572
END:VEVENT
BEGIN:VEVENT
DTSTART;TZID=America/Los_Angeles:20270501T080000
DTEND;TZID=America/Los_Angeles:20270501T090000
DTSTAMP:20260423T161109
CREATED:20260215T060800Z
LAST-MODIFIED:20260215T060800Z
UID:10001426-1809158400-1809162000@mensharpenmen.org
SUMMARY:Saturday Morning Coffee & Study of The Word of God
DESCRIPTION:
URL:https://mensharpenmen.org/event/saturday-morning-coffee-study-of-the-word-of-god/2027-05-01/
LOCATION:Red Brick Building\, 8303 Alondra Blvd\, Paramount\, 90723\, United States
CATEGORIES:Bible Study
ATTACH;FMTTYPE=image/jpeg:https://mensharpenmen.org/wp-content/uploads/2023/12/19147-scaled.jpg
ORGANIZER;CN="Phillip Hendren":MAILTO:info@mensharpenmen.org
GEO:33.889572;-118.154455
X-APPLE-STRUCTURED-LOCATION;VALUE=URI;X-ADDRESS=Red Brick Building 8303 Alondra Blvd Paramount 90723 United States;X-APPLE-RADIUS=500;X-TITLE=8303 Alondra Blvd:geo:-118.154455,33.889572
END:VEVENT
BEGIN:VEVENT
DTSTART;TZID=America/Los_Angeles:20270508T080000
DTEND;TZID=America/Los_Angeles:20270508T090000
DTSTAMP:20260423T161109
CREATED:20260215T060800Z
LAST-MODIFIED:20260215T060800Z
UID:10001427-1809763200-1809766800@mensharpenmen.org
SUMMARY:Saturday Morning Coffee & Study of The Word of God
DESCRIPTION:
URL:https://mensharpenmen.org/event/saturday-morning-coffee-study-of-the-word-of-god/2027-05-08/
LOCATION:Red Brick Building\, 8303 Alondra Blvd\, Paramount\, 90723\, United States
CATEGORIES:Bible Study
ATTACH;FMTTYPE=image/jpeg:https://mensharpenmen.org/wp-content/uploads/2023/12/19147-scaled.jpg
ORGANIZER;CN="Phillip Hendren":MAILTO:info@mensharpenmen.org
GEO:33.889572;-118.154455
X-APPLE-STRUCTURED-LOCATION;VALUE=URI;X-ADDRESS=Red Brick Building 8303 Alondra Blvd Paramount 90723 United States;X-APPLE-RADIUS=500;X-TITLE=8303 Alondra Blvd:geo:-118.154455,33.889572
END:VEVENT
BEGIN:VEVENT
DTSTART;TZID=America/Los_Angeles:20270515T080000
DTEND;TZID=America/Los_Angeles:20270515T090000
DTSTAMP:20260423T161109
CREATED:20260215T060800Z
LAST-MODIFIED:20260215T060800Z
UID:10001428-1810368000-1810371600@mensharpenmen.org
SUMMARY:Saturday Morning Coffee & Study of The Word of God
DESCRIPTION:
URL:https://mensharpenmen.org/event/saturday-morning-coffee-study-of-the-word-of-god/2027-05-15/
LOCATION:Red Brick Building\, 8303 Alondra Blvd\, Paramount\, 90723\, United States
CATEGORIES:Bible Study
ATTACH;FMTTYPE=image/jpeg:https://mensharpenmen.org/wp-content/uploads/2023/12/19147-scaled.jpg
ORGANIZER;CN="Phillip Hendren":MAILTO:info@mensharpenmen.org
GEO:33.889572;-118.154455
X-APPLE-STRUCTURED-LOCATION;VALUE=URI;X-ADDRESS=Red Brick Building 8303 Alondra Blvd Paramount 90723 United States;X-APPLE-RADIUS=500;X-TITLE=8303 Alondra Blvd:geo:-118.154455,33.889572
END:VEVENT
BEGIN:VEVENT
DTSTART;TZID=America/Los_Angeles:20270522T080000
DTEND;TZID=America/Los_Angeles:20270522T090000
DTSTAMP:20260423T161109
CREATED:20260215T060800Z
LAST-MODIFIED:20260215T060800Z
UID:10001429-1810972800-1810976400@mensharpenmen.org
SUMMARY:Saturday Morning Coffee & Study of The Word of God
DESCRIPTION:
URL:https://mensharpenmen.org/event/saturday-morning-coffee-study-of-the-word-of-god/2027-05-22/
LOCATION:Red Brick Building\, 8303 Alondra Blvd\, Paramount\, 90723\, United States
CATEGORIES:Bible Study
ATTACH;FMTTYPE=image/jpeg:https://mensharpenmen.org/wp-content/uploads/2023/12/19147-scaled.jpg
ORGANIZER;CN="Phillip Hendren":MAILTO:info@mensharpenmen.org
GEO:33.889572;-118.154455
X-APPLE-STRUCTURED-LOCATION;VALUE=URI;X-ADDRESS=Red Brick Building 8303 Alondra Blvd Paramount 90723 United States;X-APPLE-RADIUS=500;X-TITLE=8303 Alondra Blvd:geo:-118.154455,33.889572
END:VEVENT
BEGIN:VEVENT
DTSTART;TZID=America/Los_Angeles:20270529T080000
DTEND;TZID=America/Los_Angeles:20270529T090000
DTSTAMP:20260423T161109
CREATED:20260215T060800Z
LAST-MODIFIED:20260215T060800Z
UID:10001430-1811577600-1811581200@mensharpenmen.org
SUMMARY:Saturday Morning Coffee & Study of The Word of God
DESCRIPTION:
URL:https://mensharpenmen.org/event/saturday-morning-coffee-study-of-the-word-of-god/2027-05-29/
LOCATION:Red Brick Building\, 8303 Alondra Blvd\, Paramount\, 90723\, United States
CATEGORIES:Bible Study
ATTACH;FMTTYPE=image/jpeg:https://mensharpenmen.org/wp-content/uploads/2023/12/19147-scaled.jpg
ORGANIZER;CN="Phillip Hendren":MAILTO:info@mensharpenmen.org
GEO:33.889572;-118.154455
X-APPLE-STRUCTURED-LOCATION;VALUE=URI;X-ADDRESS=Red Brick Building 8303 Alondra Blvd Paramount 90723 United States;X-APPLE-RADIUS=500;X-TITLE=8303 Alondra Blvd:geo:-118.154455,33.889572
END:VEVENT
BEGIN:VEVENT
DTSTART;TZID=America/Los_Angeles:20270605T080000
DTEND;TZID=America/Los_Angeles:20270605T090000
DTSTAMP:20260423T161109
CREATED:20260215T060800Z
LAST-MODIFIED:20260215T060800Z
UID:10001431-1812182400-1812186000@mensharpenmen.org
SUMMARY:Saturday Morning Coffee & Study of The Word of God
DESCRIPTION:
URL:https://mensharpenmen.org/event/saturday-morning-coffee-study-of-the-word-of-god/2027-06-05/
LOCATION:Red Brick Building\, 8303 Alondra Blvd\, Paramount\, 90723\, United States
CATEGORIES:Bible Study
ATTACH;FMTTYPE=image/jpeg:https://mensharpenmen.org/wp-content/uploads/2023/12/19147-scaled.jpg
ORGANIZER;CN="Phillip Hendren":MAILTO:info@mensharpenmen.org
GEO:33.889572;-118.154455
X-APPLE-STRUCTURED-LOCATION;VALUE=URI;X-ADDRESS=Red Brick Building 8303 Alondra Blvd Paramount 90723 United States;X-APPLE-RADIUS=500;X-TITLE=8303 Alondra Blvd:geo:-118.154455,33.889572
END:VEVENT
BEGIN:VEVENT
DTSTART;TZID=America/Los_Angeles:20270612T080000
DTEND;TZID=America/Los_Angeles:20270612T090000
DTSTAMP:20260423T161109
CREATED:20260215T060800Z
LAST-MODIFIED:20260215T060800Z
UID:10001432-1812787200-1812790800@mensharpenmen.org
SUMMARY:Saturday Morning Coffee & Study of The Word of God
DESCRIPTION:
URL:https://mensharpenmen.org/event/saturday-morning-coffee-study-of-the-word-of-god/2027-06-12/
LOCATION:Red Brick Building\, 8303 Alondra Blvd\, Paramount\, 90723\, United States
CATEGORIES:Bible Study
ATTACH;FMTTYPE=image/jpeg:https://mensharpenmen.org/wp-content/uploads/2023/12/19147-scaled.jpg
ORGANIZER;CN="Phillip Hendren":MAILTO:info@mensharpenmen.org
GEO:33.889572;-118.154455
X-APPLE-STRUCTURED-LOCATION;VALUE=URI;X-ADDRESS=Red Brick Building 8303 Alondra Blvd Paramount 90723 United States;X-APPLE-RADIUS=500;X-TITLE=8303 Alondra Blvd:geo:-118.154455,33.889572
END:VEVENT
END:VCALENDAR