BEGIN:VCALENDAR
VERSION:2.0
PRODID:-//Men Sharpen Men - ECPv6.15.20//NONSGML v1.0//EN
CALSCALE:GREGORIAN
METHOD:PUBLISH
X-WR-CALNAME:Men Sharpen Men
X-ORIGINAL-URL:https://mensharpenmen.org
X-WR-CALDESC:Events for Men Sharpen Men
REFRESH-INTERVAL;VALUE=DURATION:PT1H
X-Robots-Tag:noindex
X-PUBLISHED-TTL:PT1H
BEGIN:VTIMEZONE
TZID:America/Los_Angeles
BEGIN:DAYLIGHT
TZOFFSETFROM:-0800
TZOFFSETTO:-0700
TZNAME:PDT
DTSTART:20260308T100000
END:DAYLIGHT
BEGIN:STANDARD
TZOFFSETFROM:-0700
TZOFFSETTO:-0800
TZNAME:PST
DTSTART:20261101T090000
END:STANDARD
BEGIN:DAYLIGHT
TZOFFSETFROM:-0800
TZOFFSETTO:-0700
TZNAME:PDT
DTSTART:20270314T100000
END:DAYLIGHT
BEGIN:STANDARD
TZOFFSETFROM:-0700
TZOFFSETTO:-0800
TZNAME:PST
DTSTART:20271107T090000
END:STANDARD
BEGIN:DAYLIGHT
TZOFFSETFROM:-0800
TZOFFSETTO:-0700
TZNAME:PDT
DTSTART:20280312T100000
END:DAYLIGHT
BEGIN:STANDARD
TZOFFSETFROM:-0700
TZOFFSETTO:-0800
TZNAME:PST
DTSTART:20281105T090000
END:STANDARD
END:VTIMEZONE
BEGIN:VEVENT
DTSTART;TZID=America/Los_Angeles:20270417T080000
DTEND;TZID=America/Los_Angeles:20270417T090000
DTSTAMP:20260424T010525
CREATED:20260215T060800Z
LAST-MODIFIED:20260215T060800Z
UID:10001424-1807948800-1807952400@mensharpenmen.org
SUMMARY:Saturday Morning Coffee & Study of The Word of God
DESCRIPTION:
URL:https://mensharpenmen.org/event/saturday-morning-coffee-study-of-the-word-of-god/2027-04-17/
LOCATION:Red Brick Building\, 8303 Alondra Blvd\, Paramount\, 90723\, United States
CATEGORIES:Bible Study
ATTACH;FMTTYPE=image/jpeg:https://mensharpenmen.org/wp-content/uploads/2023/12/19147-scaled.jpg
ORGANIZER;CN="Phillip Hendren":MAILTO:info@mensharpenmen.org
GEO:33.889572;-118.154455
X-APPLE-STRUCTURED-LOCATION;VALUE=URI;X-ADDRESS=Red Brick Building 8303 Alondra Blvd Paramount 90723 United States;X-APPLE-RADIUS=500;X-TITLE=8303 Alondra Blvd:geo:-118.154455,33.889572
END:VEVENT
BEGIN:VEVENT
DTSTART;TZID=America/Los_Angeles:20270424T080000
DTEND;TZID=America/Los_Angeles:20270424T090000
DTSTAMP:20260424T010525
CREATED:20260215T060800Z
LAST-MODIFIED:20260215T060800Z
UID:10001425-1808553600-1808557200@mensharpenmen.org
SUMMARY:Saturday Morning Coffee & Study of The Word of God
DESCRIPTION:
URL:https://mensharpenmen.org/event/saturday-morning-coffee-study-of-the-word-of-god/2027-04-24/
LOCATION:Red Brick Building\, 8303 Alondra Blvd\, Paramount\, 90723\, United States
CATEGORIES:Bible Study
ATTACH;FMTTYPE=image/jpeg:https://mensharpenmen.org/wp-content/uploads/2023/12/19147-scaled.jpg
ORGANIZER;CN="Phillip Hendren":MAILTO:info@mensharpenmen.org
GEO:33.889572;-118.154455
X-APPLE-STRUCTURED-LOCATION;VALUE=URI;X-ADDRESS=Red Brick Building 8303 Alondra Blvd Paramount 90723 United States;X-APPLE-RADIUS=500;X-TITLE=8303 Alondra Blvd:geo:-118.154455,33.889572
END:VEVENT
BEGIN:VEVENT
DTSTART;TZID=America/Los_Angeles:20270501T080000
DTEND;TZID=America/Los_Angeles:20270501T090000
DTSTAMP:20260424T010525
CREATED:20260215T060800Z
LAST-MODIFIED:20260215T060800Z
UID:10001426-1809158400-1809162000@mensharpenmen.org
SUMMARY:Saturday Morning Coffee & Study of The Word of God
DESCRIPTION:
URL:https://mensharpenmen.org/event/saturday-morning-coffee-study-of-the-word-of-god/2027-05-01/
LOCATION:Red Brick Building\, 8303 Alondra Blvd\, Paramount\, 90723\, United States
CATEGORIES:Bible Study
ATTACH;FMTTYPE=image/jpeg:https://mensharpenmen.org/wp-content/uploads/2023/12/19147-scaled.jpg
ORGANIZER;CN="Phillip Hendren":MAILTO:info@mensharpenmen.org
GEO:33.889572;-118.154455
X-APPLE-STRUCTURED-LOCATION;VALUE=URI;X-ADDRESS=Red Brick Building 8303 Alondra Blvd Paramount 90723 United States;X-APPLE-RADIUS=500;X-TITLE=8303 Alondra Blvd:geo:-118.154455,33.889572
END:VEVENT
BEGIN:VEVENT
DTSTART;TZID=America/Los_Angeles:20270508T080000
DTEND;TZID=America/Los_Angeles:20270508T090000
DTSTAMP:20260424T010525
CREATED:20260215T060800Z
LAST-MODIFIED:20260215T060800Z
UID:10001427-1809763200-1809766800@mensharpenmen.org
SUMMARY:Saturday Morning Coffee & Study of The Word of God
DESCRIPTION:
URL:https://mensharpenmen.org/event/saturday-morning-coffee-study-of-the-word-of-god/2027-05-08/
LOCATION:Red Brick Building\, 8303 Alondra Blvd\, Paramount\, 90723\, United States
CATEGORIES:Bible Study
ATTACH;FMTTYPE=image/jpeg:https://mensharpenmen.org/wp-content/uploads/2023/12/19147-scaled.jpg
ORGANIZER;CN="Phillip Hendren":MAILTO:info@mensharpenmen.org
GEO:33.889572;-118.154455
X-APPLE-STRUCTURED-LOCATION;VALUE=URI;X-ADDRESS=Red Brick Building 8303 Alondra Blvd Paramount 90723 United States;X-APPLE-RADIUS=500;X-TITLE=8303 Alondra Blvd:geo:-118.154455,33.889572
END:VEVENT
BEGIN:VEVENT
DTSTART;TZID=America/Los_Angeles:20270515T080000
DTEND;TZID=America/Los_Angeles:20270515T090000
DTSTAMP:20260424T010525
CREATED:20260215T060800Z
LAST-MODIFIED:20260215T060800Z
UID:10001428-1810368000-1810371600@mensharpenmen.org
SUMMARY:Saturday Morning Coffee & Study of The Word of God
DESCRIPTION:
URL:https://mensharpenmen.org/event/saturday-morning-coffee-study-of-the-word-of-god/2027-05-15/
LOCATION:Red Brick Building\, 8303 Alondra Blvd\, Paramount\, 90723\, United States
CATEGORIES:Bible Study
ATTACH;FMTTYPE=image/jpeg:https://mensharpenmen.org/wp-content/uploads/2023/12/19147-scaled.jpg
ORGANIZER;CN="Phillip Hendren":MAILTO:info@mensharpenmen.org
GEO:33.889572;-118.154455
X-APPLE-STRUCTURED-LOCATION;VALUE=URI;X-ADDRESS=Red Brick Building 8303 Alondra Blvd Paramount 90723 United States;X-APPLE-RADIUS=500;X-TITLE=8303 Alondra Blvd:geo:-118.154455,33.889572
END:VEVENT
BEGIN:VEVENT
DTSTART;TZID=America/Los_Angeles:20270522T080000
DTEND;TZID=America/Los_Angeles:20270522T090000
DTSTAMP:20260424T010525
CREATED:20260215T060800Z
LAST-MODIFIED:20260215T060800Z
UID:10001429-1810972800-1810976400@mensharpenmen.org
SUMMARY:Saturday Morning Coffee & Study of The Word of God
DESCRIPTION:
URL:https://mensharpenmen.org/event/saturday-morning-coffee-study-of-the-word-of-god/2027-05-22/
LOCATION:Red Brick Building\, 8303 Alondra Blvd\, Paramount\, 90723\, United States
CATEGORIES:Bible Study
ATTACH;FMTTYPE=image/jpeg:https://mensharpenmen.org/wp-content/uploads/2023/12/19147-scaled.jpg
ORGANIZER;CN="Phillip Hendren":MAILTO:info@mensharpenmen.org
GEO:33.889572;-118.154455
X-APPLE-STRUCTURED-LOCATION;VALUE=URI;X-ADDRESS=Red Brick Building 8303 Alondra Blvd Paramount 90723 United States;X-APPLE-RADIUS=500;X-TITLE=8303 Alondra Blvd:geo:-118.154455,33.889572
END:VEVENT
BEGIN:VEVENT
DTSTART;TZID=America/Los_Angeles:20270529T080000
DTEND;TZID=America/Los_Angeles:20270529T090000
DTSTAMP:20260424T010525
CREATED:20260215T060800Z
LAST-MODIFIED:20260215T060800Z
UID:10001430-1811577600-1811581200@mensharpenmen.org
SUMMARY:Saturday Morning Coffee & Study of The Word of God
DESCRIPTION:
URL:https://mensharpenmen.org/event/saturday-morning-coffee-study-of-the-word-of-god/2027-05-29/
LOCATION:Red Brick Building\, 8303 Alondra Blvd\, Paramount\, 90723\, United States
CATEGORIES:Bible Study
ATTACH;FMTTYPE=image/jpeg:https://mensharpenmen.org/wp-content/uploads/2023/12/19147-scaled.jpg
ORGANIZER;CN="Phillip Hendren":MAILTO:info@mensharpenmen.org
GEO:33.889572;-118.154455
X-APPLE-STRUCTURED-LOCATION;VALUE=URI;X-ADDRESS=Red Brick Building 8303 Alondra Blvd Paramount 90723 United States;X-APPLE-RADIUS=500;X-TITLE=8303 Alondra Blvd:geo:-118.154455,33.889572
END:VEVENT
BEGIN:VEVENT
DTSTART;TZID=America/Los_Angeles:20270605T080000
DTEND;TZID=America/Los_Angeles:20270605T090000
DTSTAMP:20260424T010525
CREATED:20260215T060800Z
LAST-MODIFIED:20260215T060800Z
UID:10001431-1812182400-1812186000@mensharpenmen.org
SUMMARY:Saturday Morning Coffee & Study of The Word of God
DESCRIPTION:
URL:https://mensharpenmen.org/event/saturday-morning-coffee-study-of-the-word-of-god/2027-06-05/
LOCATION:Red Brick Building\, 8303 Alondra Blvd\, Paramount\, 90723\, United States
CATEGORIES:Bible Study
ATTACH;FMTTYPE=image/jpeg:https://mensharpenmen.org/wp-content/uploads/2023/12/19147-scaled.jpg
ORGANIZER;CN="Phillip Hendren":MAILTO:info@mensharpenmen.org
GEO:33.889572;-118.154455
X-APPLE-STRUCTURED-LOCATION;VALUE=URI;X-ADDRESS=Red Brick Building 8303 Alondra Blvd Paramount 90723 United States;X-APPLE-RADIUS=500;X-TITLE=8303 Alondra Blvd:geo:-118.154455,33.889572
END:VEVENT
BEGIN:VEVENT
DTSTART;TZID=America/Los_Angeles:20270612T080000
DTEND;TZID=America/Los_Angeles:20270612T090000
DTSTAMP:20260424T010525
CREATED:20260215T060800Z
LAST-MODIFIED:20260215T060800Z
UID:10001432-1812787200-1812790800@mensharpenmen.org
SUMMARY:Saturday Morning Coffee & Study of The Word of God
DESCRIPTION:
URL:https://mensharpenmen.org/event/saturday-morning-coffee-study-of-the-word-of-god/2027-06-12/
LOCATION:Red Brick Building\, 8303 Alondra Blvd\, Paramount\, 90723\, United States
CATEGORIES:Bible Study
ATTACH;FMTTYPE=image/jpeg:https://mensharpenmen.org/wp-content/uploads/2023/12/19147-scaled.jpg
ORGANIZER;CN="Phillip Hendren":MAILTO:info@mensharpenmen.org
GEO:33.889572;-118.154455
X-APPLE-STRUCTURED-LOCATION;VALUE=URI;X-ADDRESS=Red Brick Building 8303 Alondra Blvd Paramount 90723 United States;X-APPLE-RADIUS=500;X-TITLE=8303 Alondra Blvd:geo:-118.154455,33.889572
END:VEVENT
BEGIN:VEVENT
DTSTART;TZID=America/Los_Angeles:20270619T080000
DTEND;TZID=America/Los_Angeles:20270619T090000
DTSTAMP:20260424T010525
CREATED:20260215T060800Z
LAST-MODIFIED:20260215T060800Z
UID:10001433-1813392000-1813395600@mensharpenmen.org
SUMMARY:Saturday Morning Coffee & Study of The Word of God
DESCRIPTION:
URL:https://mensharpenmen.org/event/saturday-morning-coffee-study-of-the-word-of-god/2027-06-19/
LOCATION:Red Brick Building\, 8303 Alondra Blvd\, Paramount\, 90723\, United States
CATEGORIES:Bible Study
ATTACH;FMTTYPE=image/jpeg:https://mensharpenmen.org/wp-content/uploads/2023/12/19147-scaled.jpg
ORGANIZER;CN="Phillip Hendren":MAILTO:info@mensharpenmen.org
GEO:33.889572;-118.154455
X-APPLE-STRUCTURED-LOCATION;VALUE=URI;X-ADDRESS=Red Brick Building 8303 Alondra Blvd Paramount 90723 United States;X-APPLE-RADIUS=500;X-TITLE=8303 Alondra Blvd:geo:-118.154455,33.889572
END:VEVENT
BEGIN:VEVENT
DTSTART;TZID=America/Los_Angeles:20270626T080000
DTEND;TZID=America/Los_Angeles:20270626T090000
DTSTAMP:20260424T010525
CREATED:20260215T060800Z
LAST-MODIFIED:20260215T060800Z
UID:10001434-1813996800-1814000400@mensharpenmen.org
SUMMARY:Saturday Morning Coffee & Study of The Word of God
DESCRIPTION:
URL:https://mensharpenmen.org/event/saturday-morning-coffee-study-of-the-word-of-god/2027-06-26/
LOCATION:Red Brick Building\, 8303 Alondra Blvd\, Paramount\, 90723\, United States
CATEGORIES:Bible Study
ATTACH;FMTTYPE=image/jpeg:https://mensharpenmen.org/wp-content/uploads/2023/12/19147-scaled.jpg
ORGANIZER;CN="Phillip Hendren":MAILTO:info@mensharpenmen.org
GEO:33.889572;-118.154455
X-APPLE-STRUCTURED-LOCATION;VALUE=URI;X-ADDRESS=Red Brick Building 8303 Alondra Blvd Paramount 90723 United States;X-APPLE-RADIUS=500;X-TITLE=8303 Alondra Blvd:geo:-118.154455,33.889572
END:VEVENT
BEGIN:VEVENT
DTSTART;TZID=America/Los_Angeles:20270703T080000
DTEND;TZID=America/Los_Angeles:20270703T090000
DTSTAMP:20260424T010525
CREATED:20260215T060800Z
LAST-MODIFIED:20260215T060800Z
UID:10001435-1814601600-1814605200@mensharpenmen.org
SUMMARY:Saturday Morning Coffee & Study of The Word of God
DESCRIPTION:
URL:https://mensharpenmen.org/event/saturday-morning-coffee-study-of-the-word-of-god/2027-07-03/
LOCATION:Red Brick Building\, 8303 Alondra Blvd\, Paramount\, 90723\, United States
CATEGORIES:Bible Study
ATTACH;FMTTYPE=image/jpeg:https://mensharpenmen.org/wp-content/uploads/2023/12/19147-scaled.jpg
ORGANIZER;CN="Phillip Hendren":MAILTO:info@mensharpenmen.org
GEO:33.889572;-118.154455
X-APPLE-STRUCTURED-LOCATION;VALUE=URI;X-ADDRESS=Red Brick Building 8303 Alondra Blvd Paramount 90723 United States;X-APPLE-RADIUS=500;X-TITLE=8303 Alondra Blvd:geo:-118.154455,33.889572
END:VEVENT
BEGIN:VEVENT
DTSTART;TZID=America/Los_Angeles:20270710T080000
DTEND;TZID=America/Los_Angeles:20270710T090000
DTSTAMP:20260424T010525
CREATED:20260215T060800Z
LAST-MODIFIED:20260215T060800Z
UID:10001436-1815206400-1815210000@mensharpenmen.org
SUMMARY:Saturday Morning Coffee & Study of The Word of God
DESCRIPTION:
URL:https://mensharpenmen.org/event/saturday-morning-coffee-study-of-the-word-of-god/2027-07-10/
LOCATION:Red Brick Building\, 8303 Alondra Blvd\, Paramount\, 90723\, United States
CATEGORIES:Bible Study
ATTACH;FMTTYPE=image/jpeg:https://mensharpenmen.org/wp-content/uploads/2023/12/19147-scaled.jpg
ORGANIZER;CN="Phillip Hendren":MAILTO:info@mensharpenmen.org
GEO:33.889572;-118.154455
X-APPLE-STRUCTURED-LOCATION;VALUE=URI;X-ADDRESS=Red Brick Building 8303 Alondra Blvd Paramount 90723 United States;X-APPLE-RADIUS=500;X-TITLE=8303 Alondra Blvd:geo:-118.154455,33.889572
END:VEVENT
BEGIN:VEVENT
DTSTART;TZID=America/Los_Angeles:20270717T080000
DTEND;TZID=America/Los_Angeles:20270717T090000
DTSTAMP:20260424T010525
CREATED:20260215T060800Z
LAST-MODIFIED:20260215T060800Z
UID:10001437-1815811200-1815814800@mensharpenmen.org
SUMMARY:Saturday Morning Coffee & Study of The Word of God
DESCRIPTION:
URL:https://mensharpenmen.org/event/saturday-morning-coffee-study-of-the-word-of-god/2027-07-17/
LOCATION:Red Brick Building\, 8303 Alondra Blvd\, Paramount\, 90723\, United States
CATEGORIES:Bible Study
ATTACH;FMTTYPE=image/jpeg:https://mensharpenmen.org/wp-content/uploads/2023/12/19147-scaled.jpg
ORGANIZER;CN="Phillip Hendren":MAILTO:info@mensharpenmen.org
GEO:33.889572;-118.154455
X-APPLE-STRUCTURED-LOCATION;VALUE=URI;X-ADDRESS=Red Brick Building 8303 Alondra Blvd Paramount 90723 United States;X-APPLE-RADIUS=500;X-TITLE=8303 Alondra Blvd:geo:-118.154455,33.889572
END:VEVENT
BEGIN:VEVENT
DTSTART;TZID=America/Los_Angeles:20270724T080000
DTEND;TZID=America/Los_Angeles:20270724T090000
DTSTAMP:20260424T010525
CREATED:20260215T060800Z
LAST-MODIFIED:20260215T060800Z
UID:10001438-1816416000-1816419600@mensharpenmen.org
SUMMARY:Saturday Morning Coffee & Study of The Word of God
DESCRIPTION:
URL:https://mensharpenmen.org/event/saturday-morning-coffee-study-of-the-word-of-god/2027-07-24/
LOCATION:Red Brick Building\, 8303 Alondra Blvd\, Paramount\, 90723\, United States
CATEGORIES:Bible Study
ATTACH;FMTTYPE=image/jpeg:https://mensharpenmen.org/wp-content/uploads/2023/12/19147-scaled.jpg
ORGANIZER;CN="Phillip Hendren":MAILTO:info@mensharpenmen.org
GEO:33.889572;-118.154455
X-APPLE-STRUCTURED-LOCATION;VALUE=URI;X-ADDRESS=Red Brick Building 8303 Alondra Blvd Paramount 90723 United States;X-APPLE-RADIUS=500;X-TITLE=8303 Alondra Blvd:geo:-118.154455,33.889572
END:VEVENT
BEGIN:VEVENT
DTSTART;TZID=America/Los_Angeles:20270731T080000
DTEND;TZID=America/Los_Angeles:20270731T090000
DTSTAMP:20260424T010525
CREATED:20260215T060800Z
LAST-MODIFIED:20260215T060800Z
UID:10001439-1817020800-1817024400@mensharpenmen.org
SUMMARY:Saturday Morning Coffee & Study of The Word of God
DESCRIPTION:
URL:https://mensharpenmen.org/event/saturday-morning-coffee-study-of-the-word-of-god/2027-07-31/
LOCATION:Red Brick Building\, 8303 Alondra Blvd\, Paramount\, 90723\, United States
CATEGORIES:Bible Study
ATTACH;FMTTYPE=image/jpeg:https://mensharpenmen.org/wp-content/uploads/2023/12/19147-scaled.jpg
ORGANIZER;CN="Phillip Hendren":MAILTO:info@mensharpenmen.org
GEO:33.889572;-118.154455
X-APPLE-STRUCTURED-LOCATION;VALUE=URI;X-ADDRESS=Red Brick Building 8303 Alondra Blvd Paramount 90723 United States;X-APPLE-RADIUS=500;X-TITLE=8303 Alondra Blvd:geo:-118.154455,33.889572
END:VEVENT
BEGIN:VEVENT
DTSTART;TZID=America/Los_Angeles:20270807T080000
DTEND;TZID=America/Los_Angeles:20270807T090000
DTSTAMP:20260424T010525
CREATED:20260215T060800Z
LAST-MODIFIED:20260215T060800Z
UID:10001440-1817625600-1817629200@mensharpenmen.org
SUMMARY:Saturday Morning Coffee & Study of The Word of God
DESCRIPTION:
URL:https://mensharpenmen.org/event/saturday-morning-coffee-study-of-the-word-of-god/2027-08-07/
LOCATION:Red Brick Building\, 8303 Alondra Blvd\, Paramount\, 90723\, United States
CATEGORIES:Bible Study
ATTACH;FMTTYPE=image/jpeg:https://mensharpenmen.org/wp-content/uploads/2023/12/19147-scaled.jpg
ORGANIZER;CN="Phillip Hendren":MAILTO:info@mensharpenmen.org
GEO:33.889572;-118.154455
X-APPLE-STRUCTURED-LOCATION;VALUE=URI;X-ADDRESS=Red Brick Building 8303 Alondra Blvd Paramount 90723 United States;X-APPLE-RADIUS=500;X-TITLE=8303 Alondra Blvd:geo:-118.154455,33.889572
END:VEVENT
BEGIN:VEVENT
DTSTART;TZID=America/Los_Angeles:20270814T080000
DTEND;TZID=America/Los_Angeles:20270814T090000
DTSTAMP:20260424T010525
CREATED:20260215T060800Z
LAST-MODIFIED:20260215T060800Z
UID:10001441-1818230400-1818234000@mensharpenmen.org
SUMMARY:Saturday Morning Coffee & Study of The Word of God
DESCRIPTION:
URL:https://mensharpenmen.org/event/saturday-morning-coffee-study-of-the-word-of-god/2027-08-14/
LOCATION:Red Brick Building\, 8303 Alondra Blvd\, Paramount\, 90723\, United States
CATEGORIES:Bible Study
ATTACH;FMTTYPE=image/jpeg:https://mensharpenmen.org/wp-content/uploads/2023/12/19147-scaled.jpg
ORGANIZER;CN="Phillip Hendren":MAILTO:info@mensharpenmen.org
GEO:33.889572;-118.154455
X-APPLE-STRUCTURED-LOCATION;VALUE=URI;X-ADDRESS=Red Brick Building 8303 Alondra Blvd Paramount 90723 United States;X-APPLE-RADIUS=500;X-TITLE=8303 Alondra Blvd:geo:-118.154455,33.889572
END:VEVENT
BEGIN:VEVENT
DTSTART;TZID=America/Los_Angeles:20270821T080000
DTEND;TZID=America/Los_Angeles:20270821T090000
DTSTAMP:20260424T010525
CREATED:20260215T060800Z
LAST-MODIFIED:20260215T060800Z
UID:10001442-1818835200-1818838800@mensharpenmen.org
SUMMARY:Saturday Morning Coffee & Study of The Word of God
DESCRIPTION:
URL:https://mensharpenmen.org/event/saturday-morning-coffee-study-of-the-word-of-god/2027-08-21/
LOCATION:Red Brick Building\, 8303 Alondra Blvd\, Paramount\, 90723\, United States
CATEGORIES:Bible Study
ATTACH;FMTTYPE=image/jpeg:https://mensharpenmen.org/wp-content/uploads/2023/12/19147-scaled.jpg
ORGANIZER;CN="Phillip Hendren":MAILTO:info@mensharpenmen.org
GEO:33.889572;-118.154455
X-APPLE-STRUCTURED-LOCATION;VALUE=URI;X-ADDRESS=Red Brick Building 8303 Alondra Blvd Paramount 90723 United States;X-APPLE-RADIUS=500;X-TITLE=8303 Alondra Blvd:geo:-118.154455,33.889572
END:VEVENT
BEGIN:VEVENT
DTSTART;TZID=America/Los_Angeles:20270828T080000
DTEND;TZID=America/Los_Angeles:20270828T090000
DTSTAMP:20260424T010525
CREATED:20260215T060800Z
LAST-MODIFIED:20260215T060800Z
UID:10001443-1819440000-1819443600@mensharpenmen.org
SUMMARY:Saturday Morning Coffee & Study of The Word of God
DESCRIPTION:
URL:https://mensharpenmen.org/event/saturday-morning-coffee-study-of-the-word-of-god/2027-08-28/
LOCATION:Red Brick Building\, 8303 Alondra Blvd\, Paramount\, 90723\, United States
CATEGORIES:Bible Study
ATTACH;FMTTYPE=image/jpeg:https://mensharpenmen.org/wp-content/uploads/2023/12/19147-scaled.jpg
ORGANIZER;CN="Phillip Hendren":MAILTO:info@mensharpenmen.org
GEO:33.889572;-118.154455
X-APPLE-STRUCTURED-LOCATION;VALUE=URI;X-ADDRESS=Red Brick Building 8303 Alondra Blvd Paramount 90723 United States;X-APPLE-RADIUS=500;X-TITLE=8303 Alondra Blvd:geo:-118.154455,33.889572
END:VEVENT
BEGIN:VEVENT
DTSTART;TZID=America/Los_Angeles:20270904T080000
DTEND;TZID=America/Los_Angeles:20270904T090000
DTSTAMP:20260424T010525
CREATED:20260215T060800Z
LAST-MODIFIED:20260215T060800Z
UID:10001444-1820044800-1820048400@mensharpenmen.org
SUMMARY:Saturday Morning Coffee & Study of The Word of God
DESCRIPTION:
URL:https://mensharpenmen.org/event/saturday-morning-coffee-study-of-the-word-of-god/2027-09-04/
LOCATION:Red Brick Building\, 8303 Alondra Blvd\, Paramount\, 90723\, United States
CATEGORIES:Bible Study
ATTACH;FMTTYPE=image/jpeg:https://mensharpenmen.org/wp-content/uploads/2023/12/19147-scaled.jpg
ORGANIZER;CN="Phillip Hendren":MAILTO:info@mensharpenmen.org
GEO:33.889572;-118.154455
X-APPLE-STRUCTURED-LOCATION;VALUE=URI;X-ADDRESS=Red Brick Building 8303 Alondra Blvd Paramount 90723 United States;X-APPLE-RADIUS=500;X-TITLE=8303 Alondra Blvd:geo:-118.154455,33.889572
END:VEVENT
BEGIN:VEVENT
DTSTART;TZID=America/Los_Angeles:20270911T080000
DTEND;TZID=America/Los_Angeles:20270911T090000
DTSTAMP:20260424T010525
CREATED:20260215T060800Z
LAST-MODIFIED:20260215T060800Z
UID:10001445-1820649600-1820653200@mensharpenmen.org
SUMMARY:Saturday Morning Coffee & Study of The Word of God
DESCRIPTION:
URL:https://mensharpenmen.org/event/saturday-morning-coffee-study-of-the-word-of-god/2027-09-11/
LOCATION:Red Brick Building\, 8303 Alondra Blvd\, Paramount\, 90723\, United States
CATEGORIES:Bible Study
ATTACH;FMTTYPE=image/jpeg:https://mensharpenmen.org/wp-content/uploads/2023/12/19147-scaled.jpg
ORGANIZER;CN="Phillip Hendren":MAILTO:info@mensharpenmen.org
GEO:33.889572;-118.154455
X-APPLE-STRUCTURED-LOCATION;VALUE=URI;X-ADDRESS=Red Brick Building 8303 Alondra Blvd Paramount 90723 United States;X-APPLE-RADIUS=500;X-TITLE=8303 Alondra Blvd:geo:-118.154455,33.889572
END:VEVENT
BEGIN:VEVENT
DTSTART;TZID=America/Los_Angeles:20270918T080000
DTEND;TZID=America/Los_Angeles:20270918T090000
DTSTAMP:20260424T010525
CREATED:20260215T060800Z
LAST-MODIFIED:20260215T060800Z
UID:10001446-1821254400-1821258000@mensharpenmen.org
SUMMARY:Saturday Morning Coffee & Study of The Word of God
DESCRIPTION:
URL:https://mensharpenmen.org/event/saturday-morning-coffee-study-of-the-word-of-god/2027-09-18/
LOCATION:Red Brick Building\, 8303 Alondra Blvd\, Paramount\, 90723\, United States
CATEGORIES:Bible Study
ATTACH;FMTTYPE=image/jpeg:https://mensharpenmen.org/wp-content/uploads/2023/12/19147-scaled.jpg
ORGANIZER;CN="Phillip Hendren":MAILTO:info@mensharpenmen.org
GEO:33.889572;-118.154455
X-APPLE-STRUCTURED-LOCATION;VALUE=URI;X-ADDRESS=Red Brick Building 8303 Alondra Blvd Paramount 90723 United States;X-APPLE-RADIUS=500;X-TITLE=8303 Alondra Blvd:geo:-118.154455,33.889572
END:VEVENT
BEGIN:VEVENT
DTSTART;TZID=America/Los_Angeles:20270925T080000
DTEND;TZID=America/Los_Angeles:20270925T090000
DTSTAMP:20260424T010525
CREATED:20260215T060800Z
LAST-MODIFIED:20260215T060800Z
UID:10001447-1821859200-1821862800@mensharpenmen.org
SUMMARY:Saturday Morning Coffee & Study of The Word of God
DESCRIPTION:
URL:https://mensharpenmen.org/event/saturday-morning-coffee-study-of-the-word-of-god/2027-09-25/
LOCATION:Red Brick Building\, 8303 Alondra Blvd\, Paramount\, 90723\, United States
CATEGORIES:Bible Study
ATTACH;FMTTYPE=image/jpeg:https://mensharpenmen.org/wp-content/uploads/2023/12/19147-scaled.jpg
ORGANIZER;CN="Phillip Hendren":MAILTO:info@mensharpenmen.org
GEO:33.889572;-118.154455
X-APPLE-STRUCTURED-LOCATION;VALUE=URI;X-ADDRESS=Red Brick Building 8303 Alondra Blvd Paramount 90723 United States;X-APPLE-RADIUS=500;X-TITLE=8303 Alondra Blvd:geo:-118.154455,33.889572
END:VEVENT
BEGIN:VEVENT
DTSTART;TZID=America/Los_Angeles:20271002T080000
DTEND;TZID=America/Los_Angeles:20271002T090000
DTSTAMP:20260424T010525
CREATED:20260215T060800Z
LAST-MODIFIED:20260215T060800Z
UID:10001448-1822464000-1822467600@mensharpenmen.org
SUMMARY:Saturday Morning Coffee & Study of The Word of God
DESCRIPTION:
URL:https://mensharpenmen.org/event/saturday-morning-coffee-study-of-the-word-of-god/2027-10-02/
LOCATION:Red Brick Building\, 8303 Alondra Blvd\, Paramount\, 90723\, United States
CATEGORIES:Bible Study
ATTACH;FMTTYPE=image/jpeg:https://mensharpenmen.org/wp-content/uploads/2023/12/19147-scaled.jpg
ORGANIZER;CN="Phillip Hendren":MAILTO:info@mensharpenmen.org
GEO:33.889572;-118.154455
X-APPLE-STRUCTURED-LOCATION;VALUE=URI;X-ADDRESS=Red Brick Building 8303 Alondra Blvd Paramount 90723 United States;X-APPLE-RADIUS=500;X-TITLE=8303 Alondra Blvd:geo:-118.154455,33.889572
END:VEVENT
BEGIN:VEVENT
DTSTART;TZID=America/Los_Angeles:20271009T080000
DTEND;TZID=America/Los_Angeles:20271009T090000
DTSTAMP:20260424T010525
CREATED:20260215T060800Z
LAST-MODIFIED:20260215T060800Z
UID:10001449-1823068800-1823072400@mensharpenmen.org
SUMMARY:Saturday Morning Coffee & Study of The Word of God
DESCRIPTION:
URL:https://mensharpenmen.org/event/saturday-morning-coffee-study-of-the-word-of-god/2027-10-09/
LOCATION:Red Brick Building\, 8303 Alondra Blvd\, Paramount\, 90723\, United States
CATEGORIES:Bible Study
ATTACH;FMTTYPE=image/jpeg:https://mensharpenmen.org/wp-content/uploads/2023/12/19147-scaled.jpg
ORGANIZER;CN="Phillip Hendren":MAILTO:info@mensharpenmen.org
GEO:33.889572;-118.154455
X-APPLE-STRUCTURED-LOCATION;VALUE=URI;X-ADDRESS=Red Brick Building 8303 Alondra Blvd Paramount 90723 United States;X-APPLE-RADIUS=500;X-TITLE=8303 Alondra Blvd:geo:-118.154455,33.889572
END:VEVENT
BEGIN:VEVENT
DTSTART;TZID=America/Los_Angeles:20271016T080000
DTEND;TZID=America/Los_Angeles:20271016T090000
DTSTAMP:20260424T010525
CREATED:20260215T060800Z
LAST-MODIFIED:20260215T060800Z
UID:10001450-1823673600-1823677200@mensharpenmen.org
SUMMARY:Saturday Morning Coffee & Study of The Word of God
DESCRIPTION:
URL:https://mensharpenmen.org/event/saturday-morning-coffee-study-of-the-word-of-god/2027-10-16/
LOCATION:Red Brick Building\, 8303 Alondra Blvd\, Paramount\, 90723\, United States
CATEGORIES:Bible Study
ATTACH;FMTTYPE=image/jpeg:https://mensharpenmen.org/wp-content/uploads/2023/12/19147-scaled.jpg
ORGANIZER;CN="Phillip Hendren":MAILTO:info@mensharpenmen.org
GEO:33.889572;-118.154455
X-APPLE-STRUCTURED-LOCATION;VALUE=URI;X-ADDRESS=Red Brick Building 8303 Alondra Blvd Paramount 90723 United States;X-APPLE-RADIUS=500;X-TITLE=8303 Alondra Blvd:geo:-118.154455,33.889572
END:VEVENT
BEGIN:VEVENT
DTSTART;TZID=America/Los_Angeles:20271023T080000
DTEND;TZID=America/Los_Angeles:20271023T090000
DTSTAMP:20260424T010525
CREATED:20260215T060800Z
LAST-MODIFIED:20260215T060800Z
UID:10001451-1824278400-1824282000@mensharpenmen.org
SUMMARY:Saturday Morning Coffee & Study of The Word of God
DESCRIPTION:
URL:https://mensharpenmen.org/event/saturday-morning-coffee-study-of-the-word-of-god/2027-10-23/
LOCATION:Red Brick Building\, 8303 Alondra Blvd\, Paramount\, 90723\, United States
CATEGORIES:Bible Study
ATTACH;FMTTYPE=image/jpeg:https://mensharpenmen.org/wp-content/uploads/2023/12/19147-scaled.jpg
ORGANIZER;CN="Phillip Hendren":MAILTO:info@mensharpenmen.org
GEO:33.889572;-118.154455
X-APPLE-STRUCTURED-LOCATION;VALUE=URI;X-ADDRESS=Red Brick Building 8303 Alondra Blvd Paramount 90723 United States;X-APPLE-RADIUS=500;X-TITLE=8303 Alondra Blvd:geo:-118.154455,33.889572
END:VEVENT
BEGIN:VEVENT
DTSTART;TZID=America/Los_Angeles:20271030T080000
DTEND;TZID=America/Los_Angeles:20271030T090000
DTSTAMP:20260424T010525
CREATED:20260215T060800Z
LAST-MODIFIED:20260215T060800Z
UID:10001452-1824883200-1824886800@mensharpenmen.org
SUMMARY:Saturday Morning Coffee & Study of The Word of God
DESCRIPTION:
URL:https://mensharpenmen.org/event/saturday-morning-coffee-study-of-the-word-of-god/2027-10-30/
LOCATION:Red Brick Building\, 8303 Alondra Blvd\, Paramount\, 90723\, United States
CATEGORIES:Bible Study
ATTACH;FMTTYPE=image/jpeg:https://mensharpenmen.org/wp-content/uploads/2023/12/19147-scaled.jpg
ORGANIZER;CN="Phillip Hendren":MAILTO:info@mensharpenmen.org
GEO:33.889572;-118.154455
X-APPLE-STRUCTURED-LOCATION;VALUE=URI;X-ADDRESS=Red Brick Building 8303 Alondra Blvd Paramount 90723 United States;X-APPLE-RADIUS=500;X-TITLE=8303 Alondra Blvd:geo:-118.154455,33.889572
END:VEVENT
BEGIN:VEVENT
DTSTART;TZID=America/Los_Angeles:20271106T080000
DTEND;TZID=America/Los_Angeles:20271106T090000
DTSTAMP:20260424T010525
CREATED:20260215T060800Z
LAST-MODIFIED:20260215T060800Z
UID:10001453-1825488000-1825491600@mensharpenmen.org
SUMMARY:Saturday Morning Coffee & Study of The Word of God
DESCRIPTION:
URL:https://mensharpenmen.org/event/saturday-morning-coffee-study-of-the-word-of-god/2027-11-06/
LOCATION:Red Brick Building\, 8303 Alondra Blvd\, Paramount\, 90723\, United States
CATEGORIES:Bible Study
ATTACH;FMTTYPE=image/jpeg:https://mensharpenmen.org/wp-content/uploads/2023/12/19147-scaled.jpg
ORGANIZER;CN="Phillip Hendren":MAILTO:info@mensharpenmen.org
GEO:33.889572;-118.154455
X-APPLE-STRUCTURED-LOCATION;VALUE=URI;X-ADDRESS=Red Brick Building 8303 Alondra Blvd Paramount 90723 United States;X-APPLE-RADIUS=500;X-TITLE=8303 Alondra Blvd:geo:-118.154455,33.889572
END:VEVENT
END:VCALENDAR