BEGIN:VCALENDAR
VERSION:2.0
PRODID:-//Men Sharpen Men - ECPv6.15.20//NONSGML v1.0//EN
CALSCALE:GREGORIAN
METHOD:PUBLISH
X-WR-CALNAME:Men Sharpen Men
X-ORIGINAL-URL:https://mensharpenmen.org
X-WR-CALDESC:Events for Men Sharpen Men
REFRESH-INTERVAL;VALUE=DURATION:PT1H
X-Robots-Tag:noindex
X-PUBLISHED-TTL:PT1H
BEGIN:VTIMEZONE
TZID:America/Los_Angeles
BEGIN:DAYLIGHT
TZOFFSETFROM:-0800
TZOFFSETTO:-0700
TZNAME:PDT
DTSTART:20240310T100000
END:DAYLIGHT
BEGIN:STANDARD
TZOFFSETFROM:-0700
TZOFFSETTO:-0800
TZNAME:PST
DTSTART:20241103T090000
END:STANDARD
BEGIN:DAYLIGHT
TZOFFSETFROM:-0800
TZOFFSETTO:-0700
TZNAME:PDT
DTSTART:20250309T100000
END:DAYLIGHT
BEGIN:STANDARD
TZOFFSETFROM:-0700
TZOFFSETTO:-0800
TZNAME:PST
DTSTART:20251102T090000
END:STANDARD
BEGIN:DAYLIGHT
TZOFFSETFROM:-0800
TZOFFSETTO:-0700
TZNAME:PDT
DTSTART:20260308T100000
END:DAYLIGHT
BEGIN:STANDARD
TZOFFSETFROM:-0700
TZOFFSETTO:-0800
TZNAME:PST
DTSTART:20261101T090000
END:STANDARD
BEGIN:DAYLIGHT
TZOFFSETFROM:-0800
TZOFFSETTO:-0700
TZNAME:PDT
DTSTART:20270314T100000
END:DAYLIGHT
BEGIN:STANDARD
TZOFFSETFROM:-0700
TZOFFSETTO:-0800
TZNAME:PST
DTSTART:20271107T090000
END:STANDARD
END:VTIMEZONE
BEGIN:VEVENT
DTSTART;TZID=America/Los_Angeles:20260228T080000
DTEND;TZID=America/Los_Angeles:20260228T090000
DTSTAMP:20260423T163129
CREATED:20260215T060800Z
LAST-MODIFIED:20260215T060800Z
UID:10001365-1772265600-1772269200@mensharpenmen.org
SUMMARY:Saturday Morning Coffee & Study of The Word of God
DESCRIPTION:
URL:https://mensharpenmen.org/event/saturday-morning-coffee-study-of-the-word-of-god/2026-02-28/
LOCATION:Red Brick Building\, 8303 Alondra Blvd\, Paramount\, 90723\, United States
CATEGORIES:Bible Study
ATTACH;FMTTYPE=image/jpeg:https://mensharpenmen.org/wp-content/uploads/2023/12/19147-scaled.jpg
ORGANIZER;CN="Phillip Hendren":MAILTO:info@mensharpenmen.org
GEO:33.889572;-118.154455
X-APPLE-STRUCTURED-LOCATION;VALUE=URI;X-ADDRESS=Red Brick Building 8303 Alondra Blvd Paramount 90723 United States;X-APPLE-RADIUS=500;X-TITLE=8303 Alondra Blvd:geo:-118.154455,33.889572
END:VEVENT
BEGIN:VEVENT
DTSTART;TZID=America/Los_Angeles:20260221T080000
DTEND;TZID=America/Los_Angeles:20260221T090000
DTSTAMP:20260423T163129
CREATED:20260215T060800Z
LAST-MODIFIED:20260215T060800Z
UID:10001364-1771660800-1771664400@mensharpenmen.org
SUMMARY:Saturday Morning Coffee & Study of The Word of God
DESCRIPTION:
URL:https://mensharpenmen.org/event/saturday-morning-coffee-study-of-the-word-of-god/2026-02-21/
LOCATION:Red Brick Building\, 8303 Alondra Blvd\, Paramount\, 90723\, United States
CATEGORIES:Bible Study
ATTACH;FMTTYPE=image/jpeg:https://mensharpenmen.org/wp-content/uploads/2023/12/19147-scaled.jpg
ORGANIZER;CN="Phillip Hendren":MAILTO:info@mensharpenmen.org
GEO:33.889572;-118.154455
X-APPLE-STRUCTURED-LOCATION;VALUE=URI;X-ADDRESS=Red Brick Building 8303 Alondra Blvd Paramount 90723 United States;X-APPLE-RADIUS=500;X-TITLE=8303 Alondra Blvd:geo:-118.154455,33.889572
END:VEVENT
BEGIN:VEVENT
DTSTART;TZID=America/Los_Angeles:20260214T080000
DTEND;TZID=America/Los_Angeles:20260214T090000
DTSTAMP:20260423T163129
CREATED:20260215T060800Z
LAST-MODIFIED:20260215T060800Z
UID:10001363-1771056000-1771059600@mensharpenmen.org
SUMMARY:Saturday Morning Coffee & Study of The Word of God
DESCRIPTION:
URL:https://mensharpenmen.org/event/saturday-morning-coffee-study-of-the-word-of-god/2026-02-14/
LOCATION:Red Brick Building\, 8303 Alondra Blvd\, Paramount\, 90723\, United States
CATEGORIES:Bible Study
ATTACH;FMTTYPE=image/jpeg:https://mensharpenmen.org/wp-content/uploads/2023/12/19147-scaled.jpg
ORGANIZER;CN="Phillip Hendren":MAILTO:info@mensharpenmen.org
GEO:33.889572;-118.154455
X-APPLE-STRUCTURED-LOCATION;VALUE=URI;X-ADDRESS=Red Brick Building 8303 Alondra Blvd Paramount 90723 United States;X-APPLE-RADIUS=500;X-TITLE=8303 Alondra Blvd:geo:-118.154455,33.889572
END:VEVENT
BEGIN:VEVENT
DTSTART;TZID=America/Los_Angeles:20251227T080000
DTEND;TZID=America/Los_Angeles:20251227T090000
DTSTAMP:20260423T163129
CREATED:20241229T212022Z
LAST-MODIFIED:20241229T212443Z
UID:10001362-1766822400-1766826000@mensharpenmen.org
SUMMARY:Stepping Up Saturday Men's Bible Study
DESCRIPTION:Topic: Men’s Saturday Morning Bible Study\nTime: January 4\, 2025 08:00 AM Pacific Time (US and Canada)\nEvery week on Sat\, until Dec 29\, 2025\, 52 occurrence(s)
URL:https://mensharpenmen.org/event/stepping-up-saturday-mens-bible-study/2025-12-27/
LOCATION:Emmanuel Church Office\, 8303 Alondra\, Paramount\, 90723\, United States
CATEGORIES:Bible Study
ORGANIZER;CN="John Osterman":MAILTO:john.r.osterman@gmail.com
GEO:33.8894928;-118.1544527
X-APPLE-STRUCTURED-LOCATION;VALUE=URI;X-ADDRESS=Emmanuel Church Office 8303 Alondra Paramount 90723 United States;X-APPLE-RADIUS=500;X-TITLE=8303 Alondra:geo:-118.1544527,33.8894928
END:VEVENT
BEGIN:VEVENT
DTSTART;TZID=America/Los_Angeles:20251220T080000
DTEND;TZID=America/Los_Angeles:20251220T090000
DTSTAMP:20260423T163129
CREATED:20241229T212022Z
LAST-MODIFIED:20241229T212443Z
UID:10001361-1766217600-1766221200@mensharpenmen.org
SUMMARY:Stepping Up Saturday Men's Bible Study
DESCRIPTION:Topic: Men’s Saturday Morning Bible Study\nTime: January 4\, 2025 08:00 AM Pacific Time (US and Canada)\nEvery week on Sat\, until Dec 29\, 2025\, 52 occurrence(s)
URL:https://mensharpenmen.org/event/stepping-up-saturday-mens-bible-study/2025-12-20/
LOCATION:Emmanuel Church Office\, 8303 Alondra\, Paramount\, 90723\, United States
CATEGORIES:Bible Study
ORGANIZER;CN="John Osterman":MAILTO:john.r.osterman@gmail.com
GEO:33.8894928;-118.1544527
X-APPLE-STRUCTURED-LOCATION;VALUE=URI;X-ADDRESS=Emmanuel Church Office 8303 Alondra Paramount 90723 United States;X-APPLE-RADIUS=500;X-TITLE=8303 Alondra:geo:-118.1544527,33.8894928
END:VEVENT
BEGIN:VEVENT
DTSTART;TZID=America/Los_Angeles:20251213T080000
DTEND;TZID=America/Los_Angeles:20251213T090000
DTSTAMP:20260423T163129
CREATED:20241229T212022Z
LAST-MODIFIED:20241229T212443Z
UID:10001360-1765612800-1765616400@mensharpenmen.org
SUMMARY:Stepping Up Saturday Men's Bible Study
DESCRIPTION:Topic: Men’s Saturday Morning Bible Study\nTime: January 4\, 2025 08:00 AM Pacific Time (US and Canada)\nEvery week on Sat\, until Dec 29\, 2025\, 52 occurrence(s)
URL:https://mensharpenmen.org/event/stepping-up-saturday-mens-bible-study/2025-12-13/
LOCATION:Emmanuel Church Office\, 8303 Alondra\, Paramount\, 90723\, United States
CATEGORIES:Bible Study
ORGANIZER;CN="John Osterman":MAILTO:john.r.osterman@gmail.com
GEO:33.8894928;-118.1544527
X-APPLE-STRUCTURED-LOCATION;VALUE=URI;X-ADDRESS=Emmanuel Church Office 8303 Alondra Paramount 90723 United States;X-APPLE-RADIUS=500;X-TITLE=8303 Alondra:geo:-118.1544527,33.8894928
END:VEVENT
BEGIN:VEVENT
DTSTART;TZID=America/Los_Angeles:20251206T080000
DTEND;TZID=America/Los_Angeles:20251206T090000
DTSTAMP:20260423T163129
CREATED:20241229T212022Z
LAST-MODIFIED:20241229T212443Z
UID:10001359-1765008000-1765011600@mensharpenmen.org
SUMMARY:Stepping Up Saturday Men's Bible Study
DESCRIPTION:Topic: Men’s Saturday Morning Bible Study\nTime: January 4\, 2025 08:00 AM Pacific Time (US and Canada)\nEvery week on Sat\, until Dec 29\, 2025\, 52 occurrence(s)
URL:https://mensharpenmen.org/event/stepping-up-saturday-mens-bible-study/2025-12-06/
LOCATION:Emmanuel Church Office\, 8303 Alondra\, Paramount\, 90723\, United States
CATEGORIES:Bible Study
ORGANIZER;CN="John Osterman":MAILTO:john.r.osterman@gmail.com
GEO:33.8894928;-118.1544527
X-APPLE-STRUCTURED-LOCATION;VALUE=URI;X-ADDRESS=Emmanuel Church Office 8303 Alondra Paramount 90723 United States;X-APPLE-RADIUS=500;X-TITLE=8303 Alondra:geo:-118.1544527,33.8894928
END:VEVENT
BEGIN:VEVENT
DTSTART;TZID=America/Los_Angeles:20251129T080000
DTEND;TZID=America/Los_Angeles:20251129T090000
DTSTAMP:20260423T163129
CREATED:20241229T212022Z
LAST-MODIFIED:20241229T212443Z
UID:10001358-1764403200-1764406800@mensharpenmen.org
SUMMARY:Stepping Up Saturday Men's Bible Study
DESCRIPTION:Topic: Men’s Saturday Morning Bible Study\nTime: January 4\, 2025 08:00 AM Pacific Time (US and Canada)\nEvery week on Sat\, until Dec 29\, 2025\, 52 occurrence(s)
URL:https://mensharpenmen.org/event/stepping-up-saturday-mens-bible-study/2025-11-29/
LOCATION:Emmanuel Church Office\, 8303 Alondra\, Paramount\, 90723\, United States
CATEGORIES:Bible Study
ORGANIZER;CN="John Osterman":MAILTO:john.r.osterman@gmail.com
GEO:33.8894928;-118.1544527
X-APPLE-STRUCTURED-LOCATION;VALUE=URI;X-ADDRESS=Emmanuel Church Office 8303 Alondra Paramount 90723 United States;X-APPLE-RADIUS=500;X-TITLE=8303 Alondra:geo:-118.1544527,33.8894928
END:VEVENT
BEGIN:VEVENT
DTSTART;TZID=America/Los_Angeles:20251122T080000
DTEND;TZID=America/Los_Angeles:20251122T090000
DTSTAMP:20260423T163129
CREATED:20241229T212022Z
LAST-MODIFIED:20241229T212443Z
UID:10001357-1763798400-1763802000@mensharpenmen.org
SUMMARY:Stepping Up Saturday Men's Bible Study
DESCRIPTION:Topic: Men’s Saturday Morning Bible Study\nTime: January 4\, 2025 08:00 AM Pacific Time (US and Canada)\nEvery week on Sat\, until Dec 29\, 2025\, 52 occurrence(s)
URL:https://mensharpenmen.org/event/stepping-up-saturday-mens-bible-study/2025-11-22/
LOCATION:Emmanuel Church Office\, 8303 Alondra\, Paramount\, 90723\, United States
CATEGORIES:Bible Study
ORGANIZER;CN="John Osterman":MAILTO:john.r.osterman@gmail.com
GEO:33.8894928;-118.1544527
X-APPLE-STRUCTURED-LOCATION;VALUE=URI;X-ADDRESS=Emmanuel Church Office 8303 Alondra Paramount 90723 United States;X-APPLE-RADIUS=500;X-TITLE=8303 Alondra:geo:-118.1544527,33.8894928
END:VEVENT
BEGIN:VEVENT
DTSTART;TZID=America/Los_Angeles:20251115T080000
DTEND;TZID=America/Los_Angeles:20251115T090000
DTSTAMP:20260423T163129
CREATED:20241229T212022Z
LAST-MODIFIED:20241229T212443Z
UID:10001356-1763193600-1763197200@mensharpenmen.org
SUMMARY:Stepping Up Saturday Men's Bible Study
DESCRIPTION:Topic: Men’s Saturday Morning Bible Study\nTime: January 4\, 2025 08:00 AM Pacific Time (US and Canada)\nEvery week on Sat\, until Dec 29\, 2025\, 52 occurrence(s)
URL:https://mensharpenmen.org/event/stepping-up-saturday-mens-bible-study/2025-11-15/
LOCATION:Emmanuel Church Office\, 8303 Alondra\, Paramount\, 90723\, United States
CATEGORIES:Bible Study
ORGANIZER;CN="John Osterman":MAILTO:john.r.osterman@gmail.com
GEO:33.8894928;-118.1544527
X-APPLE-STRUCTURED-LOCATION;VALUE=URI;X-ADDRESS=Emmanuel Church Office 8303 Alondra Paramount 90723 United States;X-APPLE-RADIUS=500;X-TITLE=8303 Alondra:geo:-118.1544527,33.8894928
END:VEVENT
BEGIN:VEVENT
DTSTART;TZID=America/Los_Angeles:20251108T080000
DTEND;TZID=America/Los_Angeles:20251108T090000
DTSTAMP:20260423T163129
CREATED:20241229T212022Z
LAST-MODIFIED:20241229T212443Z
UID:10001355-1762588800-1762592400@mensharpenmen.org
SUMMARY:Stepping Up Saturday Men's Bible Study
DESCRIPTION:Topic: Men’s Saturday Morning Bible Study\nTime: January 4\, 2025 08:00 AM Pacific Time (US and Canada)\nEvery week on Sat\, until Dec 29\, 2025\, 52 occurrence(s)
URL:https://mensharpenmen.org/event/stepping-up-saturday-mens-bible-study/2025-11-08/
LOCATION:Emmanuel Church Office\, 8303 Alondra\, Paramount\, 90723\, United States
CATEGORIES:Bible Study
ORGANIZER;CN="John Osterman":MAILTO:john.r.osterman@gmail.com
GEO:33.8894928;-118.1544527
X-APPLE-STRUCTURED-LOCATION;VALUE=URI;X-ADDRESS=Emmanuel Church Office 8303 Alondra Paramount 90723 United States;X-APPLE-RADIUS=500;X-TITLE=8303 Alondra:geo:-118.1544527,33.8894928
END:VEVENT
BEGIN:VEVENT
DTSTART;TZID=America/Los_Angeles:20251101T080000
DTEND;TZID=America/Los_Angeles:20251101T090000
DTSTAMP:20260423T163129
CREATED:20241229T212022Z
LAST-MODIFIED:20241229T212443Z
UID:10001354-1761984000-1761987600@mensharpenmen.org
SUMMARY:Stepping Up Saturday Men's Bible Study
DESCRIPTION:Topic: Men’s Saturday Morning Bible Study\nTime: January 4\, 2025 08:00 AM Pacific Time (US and Canada)\nEvery week on Sat\, until Dec 29\, 2025\, 52 occurrence(s)
URL:https://mensharpenmen.org/event/stepping-up-saturday-mens-bible-study/2025-11-01/
LOCATION:Emmanuel Church Office\, 8303 Alondra\, Paramount\, 90723\, United States
CATEGORIES:Bible Study
ORGANIZER;CN="John Osterman":MAILTO:john.r.osterman@gmail.com
GEO:33.8894928;-118.1544527
X-APPLE-STRUCTURED-LOCATION;VALUE=URI;X-ADDRESS=Emmanuel Church Office 8303 Alondra Paramount 90723 United States;X-APPLE-RADIUS=500;X-TITLE=8303 Alondra:geo:-118.1544527,33.8894928
END:VEVENT
BEGIN:VEVENT
DTSTART;TZID=America/Los_Angeles:20251025T080000
DTEND;TZID=America/Los_Angeles:20251025T090000
DTSTAMP:20260423T163129
CREATED:20241229T212022Z
LAST-MODIFIED:20241229T212443Z
UID:10001353-1761379200-1761382800@mensharpenmen.org
SUMMARY:Stepping Up Saturday Men's Bible Study
DESCRIPTION:Topic: Men’s Saturday Morning Bible Study\nTime: January 4\, 2025 08:00 AM Pacific Time (US and Canada)\nEvery week on Sat\, until Dec 29\, 2025\, 52 occurrence(s)
URL:https://mensharpenmen.org/event/stepping-up-saturday-mens-bible-study/2025-10-25/
LOCATION:Emmanuel Church Office\, 8303 Alondra\, Paramount\, 90723\, United States
CATEGORIES:Bible Study
ORGANIZER;CN="John Osterman":MAILTO:john.r.osterman@gmail.com
GEO:33.8894928;-118.1544527
X-APPLE-STRUCTURED-LOCATION;VALUE=URI;X-ADDRESS=Emmanuel Church Office 8303 Alondra Paramount 90723 United States;X-APPLE-RADIUS=500;X-TITLE=8303 Alondra:geo:-118.1544527,33.8894928
END:VEVENT
BEGIN:VEVENT
DTSTART;TZID=America/Los_Angeles:20251018T080000
DTEND;TZID=America/Los_Angeles:20251018T090000
DTSTAMP:20260423T163129
CREATED:20241229T212022Z
LAST-MODIFIED:20241229T212443Z
UID:10001352-1760774400-1760778000@mensharpenmen.org
SUMMARY:Stepping Up Saturday Men's Bible Study
DESCRIPTION:Topic: Men’s Saturday Morning Bible Study\nTime: January 4\, 2025 08:00 AM Pacific Time (US and Canada)\nEvery week on Sat\, until Dec 29\, 2025\, 52 occurrence(s)
URL:https://mensharpenmen.org/event/stepping-up-saturday-mens-bible-study/2025-10-18/
LOCATION:Emmanuel Church Office\, 8303 Alondra\, Paramount\, 90723\, United States
CATEGORIES:Bible Study
ORGANIZER;CN="John Osterman":MAILTO:john.r.osterman@gmail.com
GEO:33.8894928;-118.1544527
X-APPLE-STRUCTURED-LOCATION;VALUE=URI;X-ADDRESS=Emmanuel Church Office 8303 Alondra Paramount 90723 United States;X-APPLE-RADIUS=500;X-TITLE=8303 Alondra:geo:-118.1544527,33.8894928
END:VEVENT
BEGIN:VEVENT
DTSTART;TZID=America/Los_Angeles:20251011T080000
DTEND;TZID=America/Los_Angeles:20251011T090000
DTSTAMP:20260423T163129
CREATED:20241229T212022Z
LAST-MODIFIED:20241229T212443Z
UID:10001351-1760169600-1760173200@mensharpenmen.org
SUMMARY:Stepping Up Saturday Men's Bible Study
DESCRIPTION:Topic: Men’s Saturday Morning Bible Study\nTime: January 4\, 2025 08:00 AM Pacific Time (US and Canada)\nEvery week on Sat\, until Dec 29\, 2025\, 52 occurrence(s)
URL:https://mensharpenmen.org/event/stepping-up-saturday-mens-bible-study/2025-10-11/
LOCATION:Emmanuel Church Office\, 8303 Alondra\, Paramount\, 90723\, United States
CATEGORIES:Bible Study
ORGANIZER;CN="John Osterman":MAILTO:john.r.osterman@gmail.com
GEO:33.8894928;-118.1544527
X-APPLE-STRUCTURED-LOCATION;VALUE=URI;X-ADDRESS=Emmanuel Church Office 8303 Alondra Paramount 90723 United States;X-APPLE-RADIUS=500;X-TITLE=8303 Alondra:geo:-118.1544527,33.8894928
END:VEVENT
BEGIN:VEVENT
DTSTART;TZID=America/Los_Angeles:20251004T080000
DTEND;TZID=America/Los_Angeles:20251004T090000
DTSTAMP:20260423T163129
CREATED:20241229T212022Z
LAST-MODIFIED:20241229T212443Z
UID:10001350-1759564800-1759568400@mensharpenmen.org
SUMMARY:Stepping Up Saturday Men's Bible Study
DESCRIPTION:Topic: Men’s Saturday Morning Bible Study\nTime: January 4\, 2025 08:00 AM Pacific Time (US and Canada)\nEvery week on Sat\, until Dec 29\, 2025\, 52 occurrence(s)
URL:https://mensharpenmen.org/event/stepping-up-saturday-mens-bible-study/2025-10-04/
LOCATION:Emmanuel Church Office\, 8303 Alondra\, Paramount\, 90723\, United States
CATEGORIES:Bible Study
ORGANIZER;CN="John Osterman":MAILTO:john.r.osterman@gmail.com
GEO:33.8894928;-118.1544527
X-APPLE-STRUCTURED-LOCATION;VALUE=URI;X-ADDRESS=Emmanuel Church Office 8303 Alondra Paramount 90723 United States;X-APPLE-RADIUS=500;X-TITLE=8303 Alondra:geo:-118.1544527,33.8894928
END:VEVENT
BEGIN:VEVENT
DTSTART;TZID=America/Los_Angeles:20250927T080000
DTEND;TZID=America/Los_Angeles:20250927T090000
DTSTAMP:20260423T163129
CREATED:20241229T212022Z
LAST-MODIFIED:20241229T212443Z
UID:10001349-1758960000-1758963600@mensharpenmen.org
SUMMARY:Stepping Up Saturday Men's Bible Study
DESCRIPTION:Topic: Men’s Saturday Morning Bible Study\nTime: January 4\, 2025 08:00 AM Pacific Time (US and Canada)\nEvery week on Sat\, until Dec 29\, 2025\, 52 occurrence(s)
URL:https://mensharpenmen.org/event/stepping-up-saturday-mens-bible-study/2025-09-27/
LOCATION:Emmanuel Church Office\, 8303 Alondra\, Paramount\, 90723\, United States
CATEGORIES:Bible Study
ORGANIZER;CN="John Osterman":MAILTO:john.r.osterman@gmail.com
GEO:33.8894928;-118.1544527
X-APPLE-STRUCTURED-LOCATION;VALUE=URI;X-ADDRESS=Emmanuel Church Office 8303 Alondra Paramount 90723 United States;X-APPLE-RADIUS=500;X-TITLE=8303 Alondra:geo:-118.1544527,33.8894928
END:VEVENT
BEGIN:VEVENT
DTSTART;TZID=America/Los_Angeles:20250920T080000
DTEND;TZID=America/Los_Angeles:20250920T090000
DTSTAMP:20260423T163129
CREATED:20241229T212022Z
LAST-MODIFIED:20241229T212443Z
UID:10001348-1758355200-1758358800@mensharpenmen.org
SUMMARY:Stepping Up Saturday Men's Bible Study
DESCRIPTION:Topic: Men’s Saturday Morning Bible Study\nTime: January 4\, 2025 08:00 AM Pacific Time (US and Canada)\nEvery week on Sat\, until Dec 29\, 2025\, 52 occurrence(s)
URL:https://mensharpenmen.org/event/stepping-up-saturday-mens-bible-study/2025-09-20/
LOCATION:Emmanuel Church Office\, 8303 Alondra\, Paramount\, 90723\, United States
CATEGORIES:Bible Study
ORGANIZER;CN="John Osterman":MAILTO:john.r.osterman@gmail.com
GEO:33.8894928;-118.1544527
X-APPLE-STRUCTURED-LOCATION;VALUE=URI;X-ADDRESS=Emmanuel Church Office 8303 Alondra Paramount 90723 United States;X-APPLE-RADIUS=500;X-TITLE=8303 Alondra:geo:-118.1544527,33.8894928
END:VEVENT
BEGIN:VEVENT
DTSTART;TZID=America/Los_Angeles:20250913T080000
DTEND;TZID=America/Los_Angeles:20250913T090000
DTSTAMP:20260423T163129
CREATED:20241229T212022Z
LAST-MODIFIED:20241229T212443Z
UID:10001347-1757750400-1757754000@mensharpenmen.org
SUMMARY:Stepping Up Saturday Men's Bible Study
DESCRIPTION:Topic: Men’s Saturday Morning Bible Study\nTime: January 4\, 2025 08:00 AM Pacific Time (US and Canada)\nEvery week on Sat\, until Dec 29\, 2025\, 52 occurrence(s)
URL:https://mensharpenmen.org/event/stepping-up-saturday-mens-bible-study/2025-09-13/
LOCATION:Emmanuel Church Office\, 8303 Alondra\, Paramount\, 90723\, United States
CATEGORIES:Bible Study
ORGANIZER;CN="John Osterman":MAILTO:john.r.osterman@gmail.com
GEO:33.8894928;-118.1544527
X-APPLE-STRUCTURED-LOCATION;VALUE=URI;X-ADDRESS=Emmanuel Church Office 8303 Alondra Paramount 90723 United States;X-APPLE-RADIUS=500;X-TITLE=8303 Alondra:geo:-118.1544527,33.8894928
END:VEVENT
BEGIN:VEVENT
DTSTART;TZID=America/Los_Angeles:20250906T080000
DTEND;TZID=America/Los_Angeles:20250906T090000
DTSTAMP:20260423T163129
CREATED:20241229T212022Z
LAST-MODIFIED:20241229T212443Z
UID:10001346-1757145600-1757149200@mensharpenmen.org
SUMMARY:Stepping Up Saturday Men's Bible Study
DESCRIPTION:Topic: Men’s Saturday Morning Bible Study\nTime: January 4\, 2025 08:00 AM Pacific Time (US and Canada)\nEvery week on Sat\, until Dec 29\, 2025\, 52 occurrence(s)
URL:https://mensharpenmen.org/event/stepping-up-saturday-mens-bible-study/2025-09-06/
LOCATION:Emmanuel Church Office\, 8303 Alondra\, Paramount\, 90723\, United States
CATEGORIES:Bible Study
ORGANIZER;CN="John Osterman":MAILTO:john.r.osterman@gmail.com
GEO:33.8894928;-118.1544527
X-APPLE-STRUCTURED-LOCATION;VALUE=URI;X-ADDRESS=Emmanuel Church Office 8303 Alondra Paramount 90723 United States;X-APPLE-RADIUS=500;X-TITLE=8303 Alondra:geo:-118.1544527,33.8894928
END:VEVENT
BEGIN:VEVENT
DTSTART;TZID=America/Los_Angeles:20250830T080000
DTEND;TZID=America/Los_Angeles:20250830T090000
DTSTAMP:20260423T163129
CREATED:20241229T212022Z
LAST-MODIFIED:20241229T212443Z
UID:10001345-1756540800-1756544400@mensharpenmen.org
SUMMARY:Stepping Up Saturday Men's Bible Study
DESCRIPTION:Topic: Men’s Saturday Morning Bible Study\nTime: January 4\, 2025 08:00 AM Pacific Time (US and Canada)\nEvery week on Sat\, until Dec 29\, 2025\, 52 occurrence(s)
URL:https://mensharpenmen.org/event/stepping-up-saturday-mens-bible-study/2025-08-30/
LOCATION:Emmanuel Church Office\, 8303 Alondra\, Paramount\, 90723\, United States
CATEGORIES:Bible Study
ORGANIZER;CN="John Osterman":MAILTO:john.r.osterman@gmail.com
GEO:33.8894928;-118.1544527
X-APPLE-STRUCTURED-LOCATION;VALUE=URI;X-ADDRESS=Emmanuel Church Office 8303 Alondra Paramount 90723 United States;X-APPLE-RADIUS=500;X-TITLE=8303 Alondra:geo:-118.1544527,33.8894928
END:VEVENT
BEGIN:VEVENT
DTSTART;TZID=America/Los_Angeles:20250823T080000
DTEND;TZID=America/Los_Angeles:20250823T090000
DTSTAMP:20260423T163129
CREATED:20241229T212022Z
LAST-MODIFIED:20241229T212443Z
UID:10001344-1755936000-1755939600@mensharpenmen.org
SUMMARY:Stepping Up Saturday Men's Bible Study
DESCRIPTION:Topic: Men’s Saturday Morning Bible Study\nTime: January 4\, 2025 08:00 AM Pacific Time (US and Canada)\nEvery week on Sat\, until Dec 29\, 2025\, 52 occurrence(s)
URL:https://mensharpenmen.org/event/stepping-up-saturday-mens-bible-study/2025-08-23/
LOCATION:Emmanuel Church Office\, 8303 Alondra\, Paramount\, 90723\, United States
CATEGORIES:Bible Study
ORGANIZER;CN="John Osterman":MAILTO:john.r.osterman@gmail.com
GEO:33.8894928;-118.1544527
X-APPLE-STRUCTURED-LOCATION;VALUE=URI;X-ADDRESS=Emmanuel Church Office 8303 Alondra Paramount 90723 United States;X-APPLE-RADIUS=500;X-TITLE=8303 Alondra:geo:-118.1544527,33.8894928
END:VEVENT
BEGIN:VEVENT
DTSTART;TZID=America/Los_Angeles:20250816T080000
DTEND;TZID=America/Los_Angeles:20250816T090000
DTSTAMP:20260423T163129
CREATED:20241229T212022Z
LAST-MODIFIED:20241229T212443Z
UID:10001343-1755331200-1755334800@mensharpenmen.org
SUMMARY:Stepping Up Saturday Men's Bible Study
DESCRIPTION:Topic: Men’s Saturday Morning Bible Study\nTime: January 4\, 2025 08:00 AM Pacific Time (US and Canada)\nEvery week on Sat\, until Dec 29\, 2025\, 52 occurrence(s)
URL:https://mensharpenmen.org/event/stepping-up-saturday-mens-bible-study/2025-08-16/
LOCATION:Emmanuel Church Office\, 8303 Alondra\, Paramount\, 90723\, United States
CATEGORIES:Bible Study
ORGANIZER;CN="John Osterman":MAILTO:john.r.osterman@gmail.com
GEO:33.8894928;-118.1544527
X-APPLE-STRUCTURED-LOCATION;VALUE=URI;X-ADDRESS=Emmanuel Church Office 8303 Alondra Paramount 90723 United States;X-APPLE-RADIUS=500;X-TITLE=8303 Alondra:geo:-118.1544527,33.8894928
END:VEVENT
BEGIN:VEVENT
DTSTART;TZID=America/Los_Angeles:20250809T080000
DTEND;TZID=America/Los_Angeles:20250809T090000
DTSTAMP:20260423T163129
CREATED:20241229T212022Z
LAST-MODIFIED:20241229T212443Z
UID:10001342-1754726400-1754730000@mensharpenmen.org
SUMMARY:Stepping Up Saturday Men's Bible Study
DESCRIPTION:Topic: Men’s Saturday Morning Bible Study\nTime: January 4\, 2025 08:00 AM Pacific Time (US and Canada)\nEvery week on Sat\, until Dec 29\, 2025\, 52 occurrence(s)
URL:https://mensharpenmen.org/event/stepping-up-saturday-mens-bible-study/2025-08-09/
LOCATION:Emmanuel Church Office\, 8303 Alondra\, Paramount\, 90723\, United States
CATEGORIES:Bible Study
ORGANIZER;CN="John Osterman":MAILTO:john.r.osterman@gmail.com
GEO:33.8894928;-118.1544527
X-APPLE-STRUCTURED-LOCATION;VALUE=URI;X-ADDRESS=Emmanuel Church Office 8303 Alondra Paramount 90723 United States;X-APPLE-RADIUS=500;X-TITLE=8303 Alondra:geo:-118.1544527,33.8894928
END:VEVENT
BEGIN:VEVENT
DTSTART;TZID=America/Los_Angeles:20250802T080000
DTEND;TZID=America/Los_Angeles:20250802T090000
DTSTAMP:20260423T163129
CREATED:20241229T212022Z
LAST-MODIFIED:20241229T212443Z
UID:10001341-1754121600-1754125200@mensharpenmen.org
SUMMARY:Stepping Up Saturday Men's Bible Study
DESCRIPTION:Topic: Men’s Saturday Morning Bible Study\nTime: January 4\, 2025 08:00 AM Pacific Time (US and Canada)\nEvery week on Sat\, until Dec 29\, 2025\, 52 occurrence(s)
URL:https://mensharpenmen.org/event/stepping-up-saturday-mens-bible-study/2025-08-02/
LOCATION:Emmanuel Church Office\, 8303 Alondra\, Paramount\, 90723\, United States
CATEGORIES:Bible Study
ORGANIZER;CN="John Osterman":MAILTO:john.r.osterman@gmail.com
GEO:33.8894928;-118.1544527
X-APPLE-STRUCTURED-LOCATION;VALUE=URI;X-ADDRESS=Emmanuel Church Office 8303 Alondra Paramount 90723 United States;X-APPLE-RADIUS=500;X-TITLE=8303 Alondra:geo:-118.1544527,33.8894928
END:VEVENT
BEGIN:VEVENT
DTSTART;TZID=America/Los_Angeles:20250726T080000
DTEND;TZID=America/Los_Angeles:20250726T090000
DTSTAMP:20260423T163129
CREATED:20241229T212022Z
LAST-MODIFIED:20241229T212443Z
UID:10001340-1753516800-1753520400@mensharpenmen.org
SUMMARY:Stepping Up Saturday Men's Bible Study
DESCRIPTION:Topic: Men’s Saturday Morning Bible Study\nTime: January 4\, 2025 08:00 AM Pacific Time (US and Canada)\nEvery week on Sat\, until Dec 29\, 2025\, 52 occurrence(s)
URL:https://mensharpenmen.org/event/stepping-up-saturday-mens-bible-study/2025-07-26/
LOCATION:Emmanuel Church Office\, 8303 Alondra\, Paramount\, 90723\, United States
CATEGORIES:Bible Study
ORGANIZER;CN="John Osterman":MAILTO:john.r.osterman@gmail.com
GEO:33.8894928;-118.1544527
X-APPLE-STRUCTURED-LOCATION;VALUE=URI;X-ADDRESS=Emmanuel Church Office 8303 Alondra Paramount 90723 United States;X-APPLE-RADIUS=500;X-TITLE=8303 Alondra:geo:-118.1544527,33.8894928
END:VEVENT
BEGIN:VEVENT
DTSTART;TZID=America/Los_Angeles:20250719T080000
DTEND;TZID=America/Los_Angeles:20250719T090000
DTSTAMP:20260423T163129
CREATED:20241229T212022Z
LAST-MODIFIED:20241229T212443Z
UID:10001339-1752912000-1752915600@mensharpenmen.org
SUMMARY:Stepping Up Saturday Men's Bible Study
DESCRIPTION:Topic: Men’s Saturday Morning Bible Study\nTime: January 4\, 2025 08:00 AM Pacific Time (US and Canada)\nEvery week on Sat\, until Dec 29\, 2025\, 52 occurrence(s)
URL:https://mensharpenmen.org/event/stepping-up-saturday-mens-bible-study/2025-07-19/
LOCATION:Emmanuel Church Office\, 8303 Alondra\, Paramount\, 90723\, United States
CATEGORIES:Bible Study
ORGANIZER;CN="John Osterman":MAILTO:john.r.osterman@gmail.com
GEO:33.8894928;-118.1544527
X-APPLE-STRUCTURED-LOCATION;VALUE=URI;X-ADDRESS=Emmanuel Church Office 8303 Alondra Paramount 90723 United States;X-APPLE-RADIUS=500;X-TITLE=8303 Alondra:geo:-118.1544527,33.8894928
END:VEVENT
BEGIN:VEVENT
DTSTART;TZID=America/Los_Angeles:20250712T080000
DTEND;TZID=America/Los_Angeles:20250712T090000
DTSTAMP:20260423T163129
CREATED:20241229T212022Z
LAST-MODIFIED:20241229T212443Z
UID:10001338-1752307200-1752310800@mensharpenmen.org
SUMMARY:Stepping Up Saturday Men's Bible Study
DESCRIPTION:Topic: Men’s Saturday Morning Bible Study\nTime: January 4\, 2025 08:00 AM Pacific Time (US and Canada)\nEvery week on Sat\, until Dec 29\, 2025\, 52 occurrence(s)
URL:https://mensharpenmen.org/event/stepping-up-saturday-mens-bible-study/2025-07-12/
LOCATION:Emmanuel Church Office\, 8303 Alondra\, Paramount\, 90723\, United States
CATEGORIES:Bible Study
ORGANIZER;CN="John Osterman":MAILTO:john.r.osterman@gmail.com
GEO:33.8894928;-118.1544527
X-APPLE-STRUCTURED-LOCATION;VALUE=URI;X-ADDRESS=Emmanuel Church Office 8303 Alondra Paramount 90723 United States;X-APPLE-RADIUS=500;X-TITLE=8303 Alondra:geo:-118.1544527,33.8894928
END:VEVENT
BEGIN:VEVENT
DTSTART;TZID=America/Los_Angeles:20250705T080000
DTEND;TZID=America/Los_Angeles:20250705T090000
DTSTAMP:20260423T163129
CREATED:20241229T212022Z
LAST-MODIFIED:20241229T212443Z
UID:10001337-1751702400-1751706000@mensharpenmen.org
SUMMARY:Stepping Up Saturday Men's Bible Study
DESCRIPTION:Topic: Men’s Saturday Morning Bible Study\nTime: January 4\, 2025 08:00 AM Pacific Time (US and Canada)\nEvery week on Sat\, until Dec 29\, 2025\, 52 occurrence(s)
URL:https://mensharpenmen.org/event/stepping-up-saturday-mens-bible-study/2025-07-05/
LOCATION:Emmanuel Church Office\, 8303 Alondra\, Paramount\, 90723\, United States
CATEGORIES:Bible Study
ORGANIZER;CN="John Osterman":MAILTO:john.r.osterman@gmail.com
GEO:33.8894928;-118.1544527
X-APPLE-STRUCTURED-LOCATION;VALUE=URI;X-ADDRESS=Emmanuel Church Office 8303 Alondra Paramount 90723 United States;X-APPLE-RADIUS=500;X-TITLE=8303 Alondra:geo:-118.1544527,33.8894928
END:VEVENT
BEGIN:VEVENT
DTSTART;TZID=America/Los_Angeles:20250628T080000
DTEND;TZID=America/Los_Angeles:20250628T090000
DTSTAMP:20260423T163129
CREATED:20241229T212022Z
LAST-MODIFIED:20241229T212443Z
UID:10001336-1751097600-1751101200@mensharpenmen.org
SUMMARY:Stepping Up Saturday Men's Bible Study
DESCRIPTION:Topic: Men’s Saturday Morning Bible Study\nTime: January 4\, 2025 08:00 AM Pacific Time (US and Canada)\nEvery week on Sat\, until Dec 29\, 2025\, 52 occurrence(s)
URL:https://mensharpenmen.org/event/stepping-up-saturday-mens-bible-study/2025-06-28/
LOCATION:Emmanuel Church Office\, 8303 Alondra\, Paramount\, 90723\, United States
CATEGORIES:Bible Study
ORGANIZER;CN="John Osterman":MAILTO:john.r.osterman@gmail.com
GEO:33.8894928;-118.1544527
X-APPLE-STRUCTURED-LOCATION;VALUE=URI;X-ADDRESS=Emmanuel Church Office 8303 Alondra Paramount 90723 United States;X-APPLE-RADIUS=500;X-TITLE=8303 Alondra:geo:-118.1544527,33.8894928
END:VEVENT
END:VCALENDAR