BEGIN:VCALENDAR
VERSION:2.0
PRODID:-//Men Sharpen Men - ECPv6.15.20//NONSGML v1.0//EN
CALSCALE:GREGORIAN
METHOD:PUBLISH
X-WR-CALNAME:Men Sharpen Men
X-ORIGINAL-URL:https://mensharpenmen.org
X-WR-CALDESC:Events for Men Sharpen Men
REFRESH-INTERVAL;VALUE=DURATION:PT1H
X-Robots-Tag:noindex
X-PUBLISHED-TTL:PT1H
BEGIN:VTIMEZONE
TZID:America/Los_Angeles
BEGIN:DAYLIGHT
TZOFFSETFROM:-0800
TZOFFSETTO:-0700
TZNAME:PDT
DTSTART:20230312T100000
END:DAYLIGHT
BEGIN:STANDARD
TZOFFSETFROM:-0700
TZOFFSETTO:-0800
TZNAME:PST
DTSTART:20231105T090000
END:STANDARD
BEGIN:DAYLIGHT
TZOFFSETFROM:-0800
TZOFFSETTO:-0700
TZNAME:PDT
DTSTART:20240310T100000
END:DAYLIGHT
BEGIN:STANDARD
TZOFFSETFROM:-0700
TZOFFSETTO:-0800
TZNAME:PST
DTSTART:20241103T090000
END:STANDARD
BEGIN:DAYLIGHT
TZOFFSETFROM:-0800
TZOFFSETTO:-0700
TZNAME:PDT
DTSTART:20250309T100000
END:DAYLIGHT
BEGIN:STANDARD
TZOFFSETFROM:-0700
TZOFFSETTO:-0800
TZNAME:PST
DTSTART:20251102T090000
END:STANDARD
END:VTIMEZONE
BEGIN:VEVENT
DTSTART;TZID=America/Los_Angeles:20240309T080000
DTEND;TZID=America/Los_Angeles:20240309T090000
DTSTAMP:20260425T041532
CREATED:20231230T183711Z
LAST-MODIFIED:20240212T034452Z
UID:10001268-1709971200-1709974800@mensharpenmen.org
SUMMARY:Stepping Up! Men's Saturday Morning Study
DESCRIPTION:Topic: Men’s Saturday Morning Bible Study\nTime: Feb 17\, 2024 08:00 AM Pacific Time (US and Canada)\nEvery week on Sat\, until Dec 28\, 2024\, 46 occurrence(s) \n  \n 
URL:https://mensharpenmen.org/event/stepping-up-mens-saturday-morning-study/2024-03-09/
LOCATION:Red Brick Building\, 8303 Alondra Blvd\, Paramount\, 90723\, United States
CATEGORIES:Bible Study
ORGANIZER;CN="Phillip Hendren":MAILTO:info@mensharpenmen.org
GEO:33.889572;-118.154455
X-APPLE-STRUCTURED-LOCATION;VALUE=URI;X-ADDRESS=Red Brick Building 8303 Alondra Blvd Paramount 90723 United States;X-APPLE-RADIUS=500;X-TITLE=8303 Alondra Blvd:geo:-118.154455,33.889572
END:VEVENT
BEGIN:VEVENT
DTSTART;TZID=America/Los_Angeles:20240302T080000
DTEND;TZID=America/Los_Angeles:20240302T090000
DTSTAMP:20260425T041532
CREATED:20231230T183711Z
LAST-MODIFIED:20240212T034452Z
UID:10001267-1709366400-1709370000@mensharpenmen.org
SUMMARY:Stepping Up! Men's Saturday Morning Study
DESCRIPTION:Topic: Men’s Saturday Morning Bible Study\nTime: Feb 17\, 2024 08:00 AM Pacific Time (US and Canada)\nEvery week on Sat\, until Dec 28\, 2024\, 46 occurrence(s) \n  \n 
URL:https://mensharpenmen.org/event/stepping-up-mens-saturday-morning-study/2024-03-02/
LOCATION:Red Brick Building\, 8303 Alondra Blvd\, Paramount\, 90723\, United States
CATEGORIES:Bible Study
ORGANIZER;CN="Phillip Hendren":MAILTO:info@mensharpenmen.org
GEO:33.889572;-118.154455
X-APPLE-STRUCTURED-LOCATION;VALUE=URI;X-ADDRESS=Red Brick Building 8303 Alondra Blvd Paramount 90723 United States;X-APPLE-RADIUS=500;X-TITLE=8303 Alondra Blvd:geo:-118.154455,33.889572
END:VEVENT
BEGIN:VEVENT
DTSTART;TZID=America/Los_Angeles:20240224T080000
DTEND;TZID=America/Los_Angeles:20240224T090000
DTSTAMP:20260425T041532
CREATED:20231230T183711Z
LAST-MODIFIED:20240212T034452Z
UID:10001266-1708761600-1708765200@mensharpenmen.org
SUMMARY:Stepping Up! Men's Saturday Morning Study
DESCRIPTION:Topic: Men’s Saturday Morning Bible Study\nTime: Feb 17\, 2024 08:00 AM Pacific Time (US and Canada)\nEvery week on Sat\, until Dec 28\, 2024\, 46 occurrence(s) \n  \n 
URL:https://mensharpenmen.org/event/stepping-up-mens-saturday-morning-study/2024-02-24/
LOCATION:Red Brick Building\, 8303 Alondra Blvd\, Paramount\, 90723\, United States
CATEGORIES:Bible Study
ORGANIZER;CN="Phillip Hendren":MAILTO:info@mensharpenmen.org
GEO:33.889572;-118.154455
X-APPLE-STRUCTURED-LOCATION;VALUE=URI;X-ADDRESS=Red Brick Building 8303 Alondra Blvd Paramount 90723 United States;X-APPLE-RADIUS=500;X-TITLE=8303 Alondra Blvd:geo:-118.154455,33.889572
END:VEVENT
BEGIN:VEVENT
DTSTART;TZID=America/Los_Angeles:20240217T080000
DTEND;TZID=America/Los_Angeles:20240217T090000
DTSTAMP:20260425T041532
CREATED:20231230T183711Z
LAST-MODIFIED:20240212T034452Z
UID:10001265-1708156800-1708160400@mensharpenmen.org
SUMMARY:Stepping Up! Men's Saturday Morning Study
DESCRIPTION:Topic: Men’s Saturday Morning Bible Study\nTime: Feb 17\, 2024 08:00 AM Pacific Time (US and Canada)\nEvery week on Sat\, until Dec 28\, 2024\, 46 occurrence(s) \n  \n 
URL:https://mensharpenmen.org/event/stepping-up-mens-saturday-morning-study/2024-02-17/
LOCATION:Red Brick Building\, 8303 Alondra Blvd\, Paramount\, 90723\, United States
CATEGORIES:Bible Study
ORGANIZER;CN="Phillip Hendren":MAILTO:info@mensharpenmen.org
GEO:33.889572;-118.154455
X-APPLE-STRUCTURED-LOCATION;VALUE=URI;X-ADDRESS=Red Brick Building 8303 Alondra Blvd Paramount 90723 United States;X-APPLE-RADIUS=500;X-TITLE=8303 Alondra Blvd:geo:-118.154455,33.889572
END:VEVENT
BEGIN:VEVENT
DTSTART;TZID=America/Los_Angeles:20240210T080000
DTEND;TZID=America/Los_Angeles:20240210T090000
DTSTAMP:20260425T041532
CREATED:20231230T183711Z
LAST-MODIFIED:20240212T034452Z
UID:10001264-1707552000-1707555600@mensharpenmen.org
SUMMARY:Stepping Up! Men's Saturday Morning Study
DESCRIPTION:Topic: Men’s Saturday Morning Bible Study\nTime: Feb 17\, 2024 08:00 AM Pacific Time (US and Canada)\nEvery week on Sat\, until Dec 28\, 2024\, 46 occurrence(s) \n  \n 
URL:https://mensharpenmen.org/event/stepping-up-mens-saturday-morning-study/2024-02-10/
LOCATION:Red Brick Building\, 8303 Alondra Blvd\, Paramount\, 90723\, United States
CATEGORIES:Bible Study
ORGANIZER;CN="Phillip Hendren":MAILTO:info@mensharpenmen.org
GEO:33.889572;-118.154455
X-APPLE-STRUCTURED-LOCATION;VALUE=URI;X-ADDRESS=Red Brick Building 8303 Alondra Blvd Paramount 90723 United States;X-APPLE-RADIUS=500;X-TITLE=8303 Alondra Blvd:geo:-118.154455,33.889572
END:VEVENT
BEGIN:VEVENT
DTSTART;TZID=America/Los_Angeles:20240203T080000
DTEND;TZID=America/Los_Angeles:20240203T090000
DTSTAMP:20260425T041532
CREATED:20231230T183711Z
LAST-MODIFIED:20240212T034452Z
UID:10001263-1706947200-1706950800@mensharpenmen.org
SUMMARY:Stepping Up! Men's Saturday Morning Study
DESCRIPTION:Topic: Men’s Saturday Morning Bible Study\nTime: Feb 17\, 2024 08:00 AM Pacific Time (US and Canada)\nEvery week on Sat\, until Dec 28\, 2024\, 46 occurrence(s) \n  \n 
URL:https://mensharpenmen.org/event/stepping-up-mens-saturday-morning-study/2024-02-03/
LOCATION:Red Brick Building\, 8303 Alondra Blvd\, Paramount\, 90723\, United States
CATEGORIES:Bible Study
ORGANIZER;CN="Phillip Hendren":MAILTO:info@mensharpenmen.org
GEO:33.889572;-118.154455
X-APPLE-STRUCTURED-LOCATION;VALUE=URI;X-ADDRESS=Red Brick Building 8303 Alondra Blvd Paramount 90723 United States;X-APPLE-RADIUS=500;X-TITLE=8303 Alondra Blvd:geo:-118.154455,33.889572
END:VEVENT
BEGIN:VEVENT
DTSTART;TZID=America/Los_Angeles:20240127T080000
DTEND;TZID=America/Los_Angeles:20240127T090000
DTSTAMP:20260425T041532
CREATED:20231230T183711Z
LAST-MODIFIED:20240212T034452Z
UID:10001262-1706342400-1706346000@mensharpenmen.org
SUMMARY:Stepping Up! Men's Saturday Morning Study
DESCRIPTION:Topic: Men’s Saturday Morning Bible Study\nTime: Feb 17\, 2024 08:00 AM Pacific Time (US and Canada)\nEvery week on Sat\, until Dec 28\, 2024\, 46 occurrence(s) \n  \n 
URL:https://mensharpenmen.org/event/stepping-up-mens-saturday-morning-study/2024-01-27/
LOCATION:Red Brick Building\, 8303 Alondra Blvd\, Paramount\, 90723\, United States
CATEGORIES:Bible Study
ORGANIZER;CN="Phillip Hendren":MAILTO:info@mensharpenmen.org
GEO:33.889572;-118.154455
X-APPLE-STRUCTURED-LOCATION;VALUE=URI;X-ADDRESS=Red Brick Building 8303 Alondra Blvd Paramount 90723 United States;X-APPLE-RADIUS=500;X-TITLE=8303 Alondra Blvd:geo:-118.154455,33.889572
END:VEVENT
BEGIN:VEVENT
DTSTART;TZID=America/Los_Angeles:20240120T080000
DTEND;TZID=America/Los_Angeles:20240120T090000
DTSTAMP:20260425T041532
CREATED:20231230T183711Z
LAST-MODIFIED:20240212T034452Z
UID:10001261-1705737600-1705741200@mensharpenmen.org
SUMMARY:Stepping Up! Men's Saturday Morning Study
DESCRIPTION:Topic: Men’s Saturday Morning Bible Study\nTime: Feb 17\, 2024 08:00 AM Pacific Time (US and Canada)\nEvery week on Sat\, until Dec 28\, 2024\, 46 occurrence(s) \n  \n 
URL:https://mensharpenmen.org/event/stepping-up-mens-saturday-morning-study/2024-01-20/
LOCATION:Red Brick Building\, 8303 Alondra Blvd\, Paramount\, 90723\, United States
CATEGORIES:Bible Study
ORGANIZER;CN="Phillip Hendren":MAILTO:info@mensharpenmen.org
GEO:33.889572;-118.154455
X-APPLE-STRUCTURED-LOCATION;VALUE=URI;X-ADDRESS=Red Brick Building 8303 Alondra Blvd Paramount 90723 United States;X-APPLE-RADIUS=500;X-TITLE=8303 Alondra Blvd:geo:-118.154455,33.889572
END:VEVENT
BEGIN:VEVENT
DTSTART;TZID=America/Los_Angeles:20240113T080000
DTEND;TZID=America/Los_Angeles:20240113T090000
DTSTAMP:20260425T041532
CREATED:20231230T183711Z
LAST-MODIFIED:20240212T034452Z
UID:10001260-1705132800-1705136400@mensharpenmen.org
SUMMARY:Stepping Up! Men's Saturday Morning Study
DESCRIPTION:Topic: Men’s Saturday Morning Bible Study\nTime: Feb 17\, 2024 08:00 AM Pacific Time (US and Canada)\nEvery week on Sat\, until Dec 28\, 2024\, 46 occurrence(s) \n  \n 
URL:https://mensharpenmen.org/event/stepping-up-mens-saturday-morning-study/2024-01-13/
LOCATION:Red Brick Building\, 8303 Alondra Blvd\, Paramount\, 90723\, United States
CATEGORIES:Bible Study
ORGANIZER;CN="Phillip Hendren":MAILTO:info@mensharpenmen.org
GEO:33.889572;-118.154455
X-APPLE-STRUCTURED-LOCATION;VALUE=URI;X-ADDRESS=Red Brick Building 8303 Alondra Blvd Paramount 90723 United States;X-APPLE-RADIUS=500;X-TITLE=8303 Alondra Blvd:geo:-118.154455,33.889572
END:VEVENT
BEGIN:VEVENT
DTSTART;TZID=America/Los_Angeles:20240106T080000
DTEND;TZID=America/Los_Angeles:20240106T090000
DTSTAMP:20260425T041532
CREATED:20231230T183711Z
LAST-MODIFIED:20240212T034452Z
UID:10001259-1704528000-1704531600@mensharpenmen.org
SUMMARY:Stepping Up! Men's Saturday Morning Study
DESCRIPTION:Topic: Men’s Saturday Morning Bible Study\nTime: Feb 17\, 2024 08:00 AM Pacific Time (US and Canada)\nEvery week on Sat\, until Dec 28\, 2024\, 46 occurrence(s) \n  \n 
URL:https://mensharpenmen.org/event/stepping-up-mens-saturday-morning-study/2024-01-06/
LOCATION:Red Brick Building\, 8303 Alondra Blvd\, Paramount\, 90723\, United States
CATEGORIES:Bible Study
ORGANIZER;CN="Phillip Hendren":MAILTO:info@mensharpenmen.org
GEO:33.889572;-118.154455
X-APPLE-STRUCTURED-LOCATION;VALUE=URI;X-ADDRESS=Red Brick Building 8303 Alondra Blvd Paramount 90723 United States;X-APPLE-RADIUS=500;X-TITLE=8303 Alondra Blvd:geo:-118.154455,33.889572
END:VEVENT
END:VCALENDAR