BEGIN:VCALENDAR
VERSION:2.0
PRODID:-//Men Sharpen Men - ECPv6.15.20//NONSGML v1.0//EN
CALSCALE:GREGORIAN
METHOD:PUBLISH
X-ORIGINAL-URL:https://mensharpenmen.org
X-WR-CALDESC:Events for Men Sharpen Men
REFRESH-INTERVAL;VALUE=DURATION:PT1H
X-Robots-Tag:noindex
X-PUBLISHED-TTL:PT1H
BEGIN:VTIMEZONE
TZID:America/Los_Angeles
BEGIN:DAYLIGHT
TZOFFSETFROM:-0800
TZOFFSETTO:-0700
TZNAME:PDT
DTSTART:20250309T100000
END:DAYLIGHT
BEGIN:STANDARD
TZOFFSETFROM:-0700
TZOFFSETTO:-0800
TZNAME:PST
DTSTART:20251102T090000
END:STANDARD
BEGIN:DAYLIGHT
TZOFFSETFROM:-0800
TZOFFSETTO:-0700
TZNAME:PDT
DTSTART:20260308T100000
END:DAYLIGHT
BEGIN:STANDARD
TZOFFSETFROM:-0700
TZOFFSETTO:-0800
TZNAME:PST
DTSTART:20261101T090000
END:STANDARD
BEGIN:DAYLIGHT
TZOFFSETFROM:-0800
TZOFFSETTO:-0700
TZNAME:PDT
DTSTART:20270314T100000
END:DAYLIGHT
BEGIN:STANDARD
TZOFFSETFROM:-0700
TZOFFSETTO:-0800
TZNAME:PST
DTSTART:20271107T090000
END:STANDARD
END:VTIMEZONE
BEGIN:VEVENT
DTSTART;TZID=America/Los_Angeles:20260509T080000
DTEND;TZID=America/Los_Angeles:20260509T090000
DTSTAMP:20260423T132000
CREATED:20260215T060800Z
LAST-MODIFIED:20260215T060800Z
UID:10001375-1778313600-1778317200@mensharpenmen.org
SUMMARY:Saturday Morning Coffee & Study of The Word of God
DESCRIPTION:
URL:https://mensharpenmen.org/event/saturday-morning-coffee-study-of-the-word-of-god/2026-05-09/
LOCATION:Red Brick Building\, 8303 Alondra Blvd\, Paramount\, 90723\, United States
CATEGORIES:Bible Study
ATTACH;FMTTYPE=image/jpeg:https://mensharpenmen.org/wp-content/uploads/2023/12/19147-scaled.jpg
ORGANIZER;CN="Phillip Hendren":MAILTO:info@mensharpenmen.org
GEO:33.889572;-118.154455
X-APPLE-STRUCTURED-LOCATION;VALUE=URI;X-ADDRESS=Red Brick Building 8303 Alondra Blvd Paramount 90723 United States;X-APPLE-RADIUS=500;X-TITLE=8303 Alondra Blvd:geo:-118.154455,33.889572
END:VEVENT
BEGIN:VEVENT
DTSTART;TZID=America/Los_Angeles:20260516T080000
DTEND;TZID=America/Los_Angeles:20260516T090000
DTSTAMP:20260423T132000
CREATED:20260215T060800Z
LAST-MODIFIED:20260215T060800Z
UID:10001376-1778918400-1778922000@mensharpenmen.org
SUMMARY:Saturday Morning Coffee & Study of The Word of God
DESCRIPTION:
URL:https://mensharpenmen.org/event/saturday-morning-coffee-study-of-the-word-of-god/2026-05-16/
LOCATION:Red Brick Building\, 8303 Alondra Blvd\, Paramount\, 90723\, United States
CATEGORIES:Bible Study
ATTACH;FMTTYPE=image/jpeg:https://mensharpenmen.org/wp-content/uploads/2023/12/19147-scaled.jpg
ORGANIZER;CN="Phillip Hendren":MAILTO:info@mensharpenmen.org
GEO:33.889572;-118.154455
X-APPLE-STRUCTURED-LOCATION;VALUE=URI;X-ADDRESS=Red Brick Building 8303 Alondra Blvd Paramount 90723 United States;X-APPLE-RADIUS=500;X-TITLE=8303 Alondra Blvd:geo:-118.154455,33.889572
END:VEVENT
BEGIN:VEVENT
DTSTART;TZID=America/Los_Angeles:20260523T080000
DTEND;TZID=America/Los_Angeles:20260523T090000
DTSTAMP:20260423T132000
CREATED:20260215T060800Z
LAST-MODIFIED:20260215T060800Z
UID:10001377-1779523200-1779526800@mensharpenmen.org
SUMMARY:Saturday Morning Coffee & Study of The Word of God
DESCRIPTION:
URL:https://mensharpenmen.org/event/saturday-morning-coffee-study-of-the-word-of-god/2026-05-23/
LOCATION:Red Brick Building\, 8303 Alondra Blvd\, Paramount\, 90723\, United States
CATEGORIES:Bible Study
ATTACH;FMTTYPE=image/jpeg:https://mensharpenmen.org/wp-content/uploads/2023/12/19147-scaled.jpg
ORGANIZER;CN="Phillip Hendren":MAILTO:info@mensharpenmen.org
GEO:33.889572;-118.154455
X-APPLE-STRUCTURED-LOCATION;VALUE=URI;X-ADDRESS=Red Brick Building 8303 Alondra Blvd Paramount 90723 United States;X-APPLE-RADIUS=500;X-TITLE=8303 Alondra Blvd:geo:-118.154455,33.889572
END:VEVENT
BEGIN:VEVENT
DTSTART;TZID=America/Los_Angeles:20260530T080000
DTEND;TZID=America/Los_Angeles:20260530T090000
DTSTAMP:20260423T132000
CREATED:20260215T060800Z
LAST-MODIFIED:20260215T060800Z
UID:10001378-1780128000-1780131600@mensharpenmen.org
SUMMARY:Saturday Morning Coffee & Study of The Word of God
DESCRIPTION:
URL:https://mensharpenmen.org/event/saturday-morning-coffee-study-of-the-word-of-god/2026-05-30/
LOCATION:Red Brick Building\, 8303 Alondra Blvd\, Paramount\, 90723\, United States
CATEGORIES:Bible Study
ATTACH;FMTTYPE=image/jpeg:https://mensharpenmen.org/wp-content/uploads/2023/12/19147-scaled.jpg
ORGANIZER;CN="Phillip Hendren":MAILTO:info@mensharpenmen.org
GEO:33.889572;-118.154455
X-APPLE-STRUCTURED-LOCATION;VALUE=URI;X-ADDRESS=Red Brick Building 8303 Alondra Blvd Paramount 90723 United States;X-APPLE-RADIUS=500;X-TITLE=8303 Alondra Blvd:geo:-118.154455,33.889572
END:VEVENT
BEGIN:VEVENT
DTSTART;TZID=America/Los_Angeles:20260606T080000
DTEND;TZID=America/Los_Angeles:20260606T090000
DTSTAMP:20260423T132000
CREATED:20260215T060800Z
LAST-MODIFIED:20260215T060800Z
UID:10001379-1780732800-1780736400@mensharpenmen.org
SUMMARY:Saturday Morning Coffee & Study of The Word of God
DESCRIPTION:
URL:https://mensharpenmen.org/event/saturday-morning-coffee-study-of-the-word-of-god/2026-06-06/
LOCATION:Red Brick Building\, 8303 Alondra Blvd\, Paramount\, 90723\, United States
CATEGORIES:Bible Study
ATTACH;FMTTYPE=image/jpeg:https://mensharpenmen.org/wp-content/uploads/2023/12/19147-scaled.jpg
ORGANIZER;CN="Phillip Hendren":MAILTO:info@mensharpenmen.org
GEO:33.889572;-118.154455
X-APPLE-STRUCTURED-LOCATION;VALUE=URI;X-ADDRESS=Red Brick Building 8303 Alondra Blvd Paramount 90723 United States;X-APPLE-RADIUS=500;X-TITLE=8303 Alondra Blvd:geo:-118.154455,33.889572
END:VEVENT
BEGIN:VEVENT
DTSTART;TZID=America/Los_Angeles:20260613T080000
DTEND;TZID=America/Los_Angeles:20260613T090000
DTSTAMP:20260423T132000
CREATED:20260215T060800Z
LAST-MODIFIED:20260215T060800Z
UID:10001380-1781337600-1781341200@mensharpenmen.org
SUMMARY:Saturday Morning Coffee & Study of The Word of God
DESCRIPTION:
URL:https://mensharpenmen.org/event/saturday-morning-coffee-study-of-the-word-of-god/2026-06-13/
LOCATION:Red Brick Building\, 8303 Alondra Blvd\, Paramount\, 90723\, United States
CATEGORIES:Bible Study
ATTACH;FMTTYPE=image/jpeg:https://mensharpenmen.org/wp-content/uploads/2023/12/19147-scaled.jpg
ORGANIZER;CN="Phillip Hendren":MAILTO:info@mensharpenmen.org
GEO:33.889572;-118.154455
X-APPLE-STRUCTURED-LOCATION;VALUE=URI;X-ADDRESS=Red Brick Building 8303 Alondra Blvd Paramount 90723 United States;X-APPLE-RADIUS=500;X-TITLE=8303 Alondra Blvd:geo:-118.154455,33.889572
END:VEVENT
BEGIN:VEVENT
DTSTART;TZID=America/Los_Angeles:20260620T080000
DTEND;TZID=America/Los_Angeles:20260620T090000
DTSTAMP:20260423T132000
CREATED:20260215T060800Z
LAST-MODIFIED:20260215T060800Z
UID:10001381-1781942400-1781946000@mensharpenmen.org
SUMMARY:Saturday Morning Coffee & Study of The Word of God
DESCRIPTION:
URL:https://mensharpenmen.org/event/saturday-morning-coffee-study-of-the-word-of-god/2026-06-20/
LOCATION:Red Brick Building\, 8303 Alondra Blvd\, Paramount\, 90723\, United States
CATEGORIES:Bible Study
ATTACH;FMTTYPE=image/jpeg:https://mensharpenmen.org/wp-content/uploads/2023/12/19147-scaled.jpg
ORGANIZER;CN="Phillip Hendren":MAILTO:info@mensharpenmen.org
GEO:33.889572;-118.154455
X-APPLE-STRUCTURED-LOCATION;VALUE=URI;X-ADDRESS=Red Brick Building 8303 Alondra Blvd Paramount 90723 United States;X-APPLE-RADIUS=500;X-TITLE=8303 Alondra Blvd:geo:-118.154455,33.889572
END:VEVENT
BEGIN:VEVENT
DTSTART;TZID=America/Los_Angeles:20260627T080000
DTEND;TZID=America/Los_Angeles:20260627T090000
DTSTAMP:20260423T132000
CREATED:20260215T060800Z
LAST-MODIFIED:20260215T060800Z
UID:10001382-1782547200-1782550800@mensharpenmen.org
SUMMARY:Saturday Morning Coffee & Study of The Word of God
DESCRIPTION:
URL:https://mensharpenmen.org/event/saturday-morning-coffee-study-of-the-word-of-god/2026-06-27/
LOCATION:Red Brick Building\, 8303 Alondra Blvd\, Paramount\, 90723\, United States
CATEGORIES:Bible Study
ATTACH;FMTTYPE=image/jpeg:https://mensharpenmen.org/wp-content/uploads/2023/12/19147-scaled.jpg
ORGANIZER;CN="Phillip Hendren":MAILTO:info@mensharpenmen.org
GEO:33.889572;-118.154455
X-APPLE-STRUCTURED-LOCATION;VALUE=URI;X-ADDRESS=Red Brick Building 8303 Alondra Blvd Paramount 90723 United States;X-APPLE-RADIUS=500;X-TITLE=8303 Alondra Blvd:geo:-118.154455,33.889572
END:VEVENT
BEGIN:VEVENT
DTSTART;TZID=America/Los_Angeles:20260704T080000
DTEND;TZID=America/Los_Angeles:20260704T090000
DTSTAMP:20260423T132000
CREATED:20260215T060800Z
LAST-MODIFIED:20260215T060800Z
UID:10001383-1783152000-1783155600@mensharpenmen.org
SUMMARY:Saturday Morning Coffee & Study of The Word of God
DESCRIPTION:
URL:https://mensharpenmen.org/event/saturday-morning-coffee-study-of-the-word-of-god/2026-07-04/
LOCATION:Red Brick Building\, 8303 Alondra Blvd\, Paramount\, 90723\, United States
CATEGORIES:Bible Study
ATTACH;FMTTYPE=image/jpeg:https://mensharpenmen.org/wp-content/uploads/2023/12/19147-scaled.jpg
ORGANIZER;CN="Phillip Hendren":MAILTO:info@mensharpenmen.org
GEO:33.889572;-118.154455
X-APPLE-STRUCTURED-LOCATION;VALUE=URI;X-ADDRESS=Red Brick Building 8303 Alondra Blvd Paramount 90723 United States;X-APPLE-RADIUS=500;X-TITLE=8303 Alondra Blvd:geo:-118.154455,33.889572
END:VEVENT
BEGIN:VEVENT
DTSTART;TZID=America/Los_Angeles:20260711T080000
DTEND;TZID=America/Los_Angeles:20260711T090000
DTSTAMP:20260423T132000
CREATED:20260215T060800Z
LAST-MODIFIED:20260215T060800Z
UID:10001384-1783756800-1783760400@mensharpenmen.org
SUMMARY:Saturday Morning Coffee & Study of The Word of God
DESCRIPTION:
URL:https://mensharpenmen.org/event/saturday-morning-coffee-study-of-the-word-of-god/2026-07-11/
LOCATION:Red Brick Building\, 8303 Alondra Blvd\, Paramount\, 90723\, United States
CATEGORIES:Bible Study
ATTACH;FMTTYPE=image/jpeg:https://mensharpenmen.org/wp-content/uploads/2023/12/19147-scaled.jpg
ORGANIZER;CN="Phillip Hendren":MAILTO:info@mensharpenmen.org
GEO:33.889572;-118.154455
X-APPLE-STRUCTURED-LOCATION;VALUE=URI;X-ADDRESS=Red Brick Building 8303 Alondra Blvd Paramount 90723 United States;X-APPLE-RADIUS=500;X-TITLE=8303 Alondra Blvd:geo:-118.154455,33.889572
END:VEVENT
BEGIN:VEVENT
DTSTART;TZID=America/Los_Angeles:20260718T080000
DTEND;TZID=America/Los_Angeles:20260718T090000
DTSTAMP:20260423T132000
CREATED:20260215T060800Z
LAST-MODIFIED:20260215T060800Z
UID:10001385-1784361600-1784365200@mensharpenmen.org
SUMMARY:Saturday Morning Coffee & Study of The Word of God
DESCRIPTION:
URL:https://mensharpenmen.org/event/saturday-morning-coffee-study-of-the-word-of-god/2026-07-18/
LOCATION:Red Brick Building\, 8303 Alondra Blvd\, Paramount\, 90723\, United States
CATEGORIES:Bible Study
ATTACH;FMTTYPE=image/jpeg:https://mensharpenmen.org/wp-content/uploads/2023/12/19147-scaled.jpg
ORGANIZER;CN="Phillip Hendren":MAILTO:info@mensharpenmen.org
GEO:33.889572;-118.154455
X-APPLE-STRUCTURED-LOCATION;VALUE=URI;X-ADDRESS=Red Brick Building 8303 Alondra Blvd Paramount 90723 United States;X-APPLE-RADIUS=500;X-TITLE=8303 Alondra Blvd:geo:-118.154455,33.889572
END:VEVENT
BEGIN:VEVENT
DTSTART;TZID=America/Los_Angeles:20260725T080000
DTEND;TZID=America/Los_Angeles:20260725T090000
DTSTAMP:20260423T132000
CREATED:20260215T060800Z
LAST-MODIFIED:20260215T060800Z
UID:10001386-1784966400-1784970000@mensharpenmen.org
SUMMARY:Saturday Morning Coffee & Study of The Word of God
DESCRIPTION:
URL:https://mensharpenmen.org/event/saturday-morning-coffee-study-of-the-word-of-god/2026-07-25/
LOCATION:Red Brick Building\, 8303 Alondra Blvd\, Paramount\, 90723\, United States
CATEGORIES:Bible Study
ATTACH;FMTTYPE=image/jpeg:https://mensharpenmen.org/wp-content/uploads/2023/12/19147-scaled.jpg
ORGANIZER;CN="Phillip Hendren":MAILTO:info@mensharpenmen.org
GEO:33.889572;-118.154455
X-APPLE-STRUCTURED-LOCATION;VALUE=URI;X-ADDRESS=Red Brick Building 8303 Alondra Blvd Paramount 90723 United States;X-APPLE-RADIUS=500;X-TITLE=8303 Alondra Blvd:geo:-118.154455,33.889572
END:VEVENT
BEGIN:VEVENT
DTSTART;TZID=America/Los_Angeles:20260801T080000
DTEND;TZID=America/Los_Angeles:20260801T090000
DTSTAMP:20260423T132000
CREATED:20260215T060800Z
LAST-MODIFIED:20260215T060800Z
UID:10001387-1785571200-1785574800@mensharpenmen.org
SUMMARY:Saturday Morning Coffee & Study of The Word of God
DESCRIPTION:
URL:https://mensharpenmen.org/event/saturday-morning-coffee-study-of-the-word-of-god/2026-08-01/
LOCATION:Red Brick Building\, 8303 Alondra Blvd\, Paramount\, 90723\, United States
CATEGORIES:Bible Study
ATTACH;FMTTYPE=image/jpeg:https://mensharpenmen.org/wp-content/uploads/2023/12/19147-scaled.jpg
ORGANIZER;CN="Phillip Hendren":MAILTO:info@mensharpenmen.org
GEO:33.889572;-118.154455
X-APPLE-STRUCTURED-LOCATION;VALUE=URI;X-ADDRESS=Red Brick Building 8303 Alondra Blvd Paramount 90723 United States;X-APPLE-RADIUS=500;X-TITLE=8303 Alondra Blvd:geo:-118.154455,33.889572
END:VEVENT
BEGIN:VEVENT
DTSTART;TZID=America/Los_Angeles:20260808T080000
DTEND;TZID=America/Los_Angeles:20260808T090000
DTSTAMP:20260423T132000
CREATED:20260215T060800Z
LAST-MODIFIED:20260215T060800Z
UID:10001388-1786176000-1786179600@mensharpenmen.org
SUMMARY:Saturday Morning Coffee & Study of The Word of God
DESCRIPTION:
URL:https://mensharpenmen.org/event/saturday-morning-coffee-study-of-the-word-of-god/2026-08-08/
LOCATION:Red Brick Building\, 8303 Alondra Blvd\, Paramount\, 90723\, United States
CATEGORIES:Bible Study
ATTACH;FMTTYPE=image/jpeg:https://mensharpenmen.org/wp-content/uploads/2023/12/19147-scaled.jpg
ORGANIZER;CN="Phillip Hendren":MAILTO:info@mensharpenmen.org
GEO:33.889572;-118.154455
X-APPLE-STRUCTURED-LOCATION;VALUE=URI;X-ADDRESS=Red Brick Building 8303 Alondra Blvd Paramount 90723 United States;X-APPLE-RADIUS=500;X-TITLE=8303 Alondra Blvd:geo:-118.154455,33.889572
END:VEVENT
BEGIN:VEVENT
DTSTART;TZID=America/Los_Angeles:20260815T080000
DTEND;TZID=America/Los_Angeles:20260815T090000
DTSTAMP:20260423T132000
CREATED:20260215T060800Z
LAST-MODIFIED:20260215T060800Z
UID:10001389-1786780800-1786784400@mensharpenmen.org
SUMMARY:Saturday Morning Coffee & Study of The Word of God
DESCRIPTION:
URL:https://mensharpenmen.org/event/saturday-morning-coffee-study-of-the-word-of-god/2026-08-15/
LOCATION:Red Brick Building\, 8303 Alondra Blvd\, Paramount\, 90723\, United States
CATEGORIES:Bible Study
ATTACH;FMTTYPE=image/jpeg:https://mensharpenmen.org/wp-content/uploads/2023/12/19147-scaled.jpg
ORGANIZER;CN="Phillip Hendren":MAILTO:info@mensharpenmen.org
GEO:33.889572;-118.154455
X-APPLE-STRUCTURED-LOCATION;VALUE=URI;X-ADDRESS=Red Brick Building 8303 Alondra Blvd Paramount 90723 United States;X-APPLE-RADIUS=500;X-TITLE=8303 Alondra Blvd:geo:-118.154455,33.889572
END:VEVENT
BEGIN:VEVENT
DTSTART;TZID=America/Los_Angeles:20260822T080000
DTEND;TZID=America/Los_Angeles:20260822T090000
DTSTAMP:20260423T132000
CREATED:20260215T060800Z
LAST-MODIFIED:20260215T060800Z
UID:10001390-1787385600-1787389200@mensharpenmen.org
SUMMARY:Saturday Morning Coffee & Study of The Word of God
DESCRIPTION:
URL:https://mensharpenmen.org/event/saturday-morning-coffee-study-of-the-word-of-god/2026-08-22/
LOCATION:Red Brick Building\, 8303 Alondra Blvd\, Paramount\, 90723\, United States
CATEGORIES:Bible Study
ATTACH;FMTTYPE=image/jpeg:https://mensharpenmen.org/wp-content/uploads/2023/12/19147-scaled.jpg
ORGANIZER;CN="Phillip Hendren":MAILTO:info@mensharpenmen.org
GEO:33.889572;-118.154455
X-APPLE-STRUCTURED-LOCATION;VALUE=URI;X-ADDRESS=Red Brick Building 8303 Alondra Blvd Paramount 90723 United States;X-APPLE-RADIUS=500;X-TITLE=8303 Alondra Blvd:geo:-118.154455,33.889572
END:VEVENT
BEGIN:VEVENT
DTSTART;TZID=America/Los_Angeles:20260829T080000
DTEND;TZID=America/Los_Angeles:20260829T090000
DTSTAMP:20260423T132000
CREATED:20260215T060800Z
LAST-MODIFIED:20260215T060800Z
UID:10001391-1787990400-1787994000@mensharpenmen.org
SUMMARY:Saturday Morning Coffee & Study of The Word of God
DESCRIPTION:
URL:https://mensharpenmen.org/event/saturday-morning-coffee-study-of-the-word-of-god/2026-08-29/
LOCATION:Red Brick Building\, 8303 Alondra Blvd\, Paramount\, 90723\, United States
CATEGORIES:Bible Study
ATTACH;FMTTYPE=image/jpeg:https://mensharpenmen.org/wp-content/uploads/2023/12/19147-scaled.jpg
ORGANIZER;CN="Phillip Hendren":MAILTO:info@mensharpenmen.org
GEO:33.889572;-118.154455
X-APPLE-STRUCTURED-LOCATION;VALUE=URI;X-ADDRESS=Red Brick Building 8303 Alondra Blvd Paramount 90723 United States;X-APPLE-RADIUS=500;X-TITLE=8303 Alondra Blvd:geo:-118.154455,33.889572
END:VEVENT
BEGIN:VEVENT
DTSTART;TZID=America/Los_Angeles:20260905T080000
DTEND;TZID=America/Los_Angeles:20260905T090000
DTSTAMP:20260423T132000
CREATED:20260215T060800Z
LAST-MODIFIED:20260215T060800Z
UID:10001392-1788595200-1788598800@mensharpenmen.org
SUMMARY:Saturday Morning Coffee & Study of The Word of God
DESCRIPTION:
URL:https://mensharpenmen.org/event/saturday-morning-coffee-study-of-the-word-of-god/2026-09-05/
LOCATION:Red Brick Building\, 8303 Alondra Blvd\, Paramount\, 90723\, United States
CATEGORIES:Bible Study
ATTACH;FMTTYPE=image/jpeg:https://mensharpenmen.org/wp-content/uploads/2023/12/19147-scaled.jpg
ORGANIZER;CN="Phillip Hendren":MAILTO:info@mensharpenmen.org
GEO:33.889572;-118.154455
X-APPLE-STRUCTURED-LOCATION;VALUE=URI;X-ADDRESS=Red Brick Building 8303 Alondra Blvd Paramount 90723 United States;X-APPLE-RADIUS=500;X-TITLE=8303 Alondra Blvd:geo:-118.154455,33.889572
END:VEVENT
BEGIN:VEVENT
DTSTART;TZID=America/Los_Angeles:20260912T080000
DTEND;TZID=America/Los_Angeles:20260912T090000
DTSTAMP:20260423T132000
CREATED:20260215T060800Z
LAST-MODIFIED:20260215T060800Z
UID:10001393-1789200000-1789203600@mensharpenmen.org
SUMMARY:Saturday Morning Coffee & Study of The Word of God
DESCRIPTION:
URL:https://mensharpenmen.org/event/saturday-morning-coffee-study-of-the-word-of-god/2026-09-12/
LOCATION:Red Brick Building\, 8303 Alondra Blvd\, Paramount\, 90723\, United States
CATEGORIES:Bible Study
ATTACH;FMTTYPE=image/jpeg:https://mensharpenmen.org/wp-content/uploads/2023/12/19147-scaled.jpg
ORGANIZER;CN="Phillip Hendren":MAILTO:info@mensharpenmen.org
GEO:33.889572;-118.154455
X-APPLE-STRUCTURED-LOCATION;VALUE=URI;X-ADDRESS=Red Brick Building 8303 Alondra Blvd Paramount 90723 United States;X-APPLE-RADIUS=500;X-TITLE=8303 Alondra Blvd:geo:-118.154455,33.889572
END:VEVENT
BEGIN:VEVENT
DTSTART;TZID=America/Los_Angeles:20260919T080000
DTEND;TZID=America/Los_Angeles:20260919T090000
DTSTAMP:20260423T132000
CREATED:20260215T060800Z
LAST-MODIFIED:20260215T060800Z
UID:10001394-1789804800-1789808400@mensharpenmen.org
SUMMARY:Saturday Morning Coffee & Study of The Word of God
DESCRIPTION:
URL:https://mensharpenmen.org/event/saturday-morning-coffee-study-of-the-word-of-god/2026-09-19/
LOCATION:Red Brick Building\, 8303 Alondra Blvd\, Paramount\, 90723\, United States
CATEGORIES:Bible Study
ATTACH;FMTTYPE=image/jpeg:https://mensharpenmen.org/wp-content/uploads/2023/12/19147-scaled.jpg
ORGANIZER;CN="Phillip Hendren":MAILTO:info@mensharpenmen.org
GEO:33.889572;-118.154455
X-APPLE-STRUCTURED-LOCATION;VALUE=URI;X-ADDRESS=Red Brick Building 8303 Alondra Blvd Paramount 90723 United States;X-APPLE-RADIUS=500;X-TITLE=8303 Alondra Blvd:geo:-118.154455,33.889572
END:VEVENT
BEGIN:VEVENT
DTSTART;TZID=America/Los_Angeles:20260926T080000
DTEND;TZID=America/Los_Angeles:20260926T090000
DTSTAMP:20260423T132000
CREATED:20260215T060800Z
LAST-MODIFIED:20260215T060800Z
UID:10001395-1790409600-1790413200@mensharpenmen.org
SUMMARY:Saturday Morning Coffee & Study of The Word of God
DESCRIPTION:
URL:https://mensharpenmen.org/event/saturday-morning-coffee-study-of-the-word-of-god/2026-09-26/
LOCATION:Red Brick Building\, 8303 Alondra Blvd\, Paramount\, 90723\, United States
CATEGORIES:Bible Study
ATTACH;FMTTYPE=image/jpeg:https://mensharpenmen.org/wp-content/uploads/2023/12/19147-scaled.jpg
ORGANIZER;CN="Phillip Hendren":MAILTO:info@mensharpenmen.org
GEO:33.889572;-118.154455
X-APPLE-STRUCTURED-LOCATION;VALUE=URI;X-ADDRESS=Red Brick Building 8303 Alondra Blvd Paramount 90723 United States;X-APPLE-RADIUS=500;X-TITLE=8303 Alondra Blvd:geo:-118.154455,33.889572
END:VEVENT
BEGIN:VEVENT
DTSTART;TZID=America/Los_Angeles:20261003T080000
DTEND;TZID=America/Los_Angeles:20261003T090000
DTSTAMP:20260423T132000
CREATED:20260215T060800Z
LAST-MODIFIED:20260215T060800Z
UID:10001396-1791014400-1791018000@mensharpenmen.org
SUMMARY:Saturday Morning Coffee & Study of The Word of God
DESCRIPTION:
URL:https://mensharpenmen.org/event/saturday-morning-coffee-study-of-the-word-of-god/2026-10-03/
LOCATION:Red Brick Building\, 8303 Alondra Blvd\, Paramount\, 90723\, United States
CATEGORIES:Bible Study
ATTACH;FMTTYPE=image/jpeg:https://mensharpenmen.org/wp-content/uploads/2023/12/19147-scaled.jpg
ORGANIZER;CN="Phillip Hendren":MAILTO:info@mensharpenmen.org
GEO:33.889572;-118.154455
X-APPLE-STRUCTURED-LOCATION;VALUE=URI;X-ADDRESS=Red Brick Building 8303 Alondra Blvd Paramount 90723 United States;X-APPLE-RADIUS=500;X-TITLE=8303 Alondra Blvd:geo:-118.154455,33.889572
END:VEVENT
BEGIN:VEVENT
DTSTART;TZID=America/Los_Angeles:20261010T080000
DTEND;TZID=America/Los_Angeles:20261010T090000
DTSTAMP:20260423T132000
CREATED:20260215T060800Z
LAST-MODIFIED:20260215T060800Z
UID:10001397-1791619200-1791622800@mensharpenmen.org
SUMMARY:Saturday Morning Coffee & Study of The Word of God
DESCRIPTION:
URL:https://mensharpenmen.org/event/saturday-morning-coffee-study-of-the-word-of-god/2026-10-10/
LOCATION:Red Brick Building\, 8303 Alondra Blvd\, Paramount\, 90723\, United States
CATEGORIES:Bible Study
ATTACH;FMTTYPE=image/jpeg:https://mensharpenmen.org/wp-content/uploads/2023/12/19147-scaled.jpg
ORGANIZER;CN="Phillip Hendren":MAILTO:info@mensharpenmen.org
GEO:33.889572;-118.154455
X-APPLE-STRUCTURED-LOCATION;VALUE=URI;X-ADDRESS=Red Brick Building 8303 Alondra Blvd Paramount 90723 United States;X-APPLE-RADIUS=500;X-TITLE=8303 Alondra Blvd:geo:-118.154455,33.889572
END:VEVENT
BEGIN:VEVENT
DTSTART;TZID=America/Los_Angeles:20261017T080000
DTEND;TZID=America/Los_Angeles:20261017T090000
DTSTAMP:20260423T132000
CREATED:20260215T060800Z
LAST-MODIFIED:20260215T060800Z
UID:10001398-1792224000-1792227600@mensharpenmen.org
SUMMARY:Saturday Morning Coffee & Study of The Word of God
DESCRIPTION:
URL:https://mensharpenmen.org/event/saturday-morning-coffee-study-of-the-word-of-god/2026-10-17/
LOCATION:Red Brick Building\, 8303 Alondra Blvd\, Paramount\, 90723\, United States
CATEGORIES:Bible Study
ATTACH;FMTTYPE=image/jpeg:https://mensharpenmen.org/wp-content/uploads/2023/12/19147-scaled.jpg
ORGANIZER;CN="Phillip Hendren":MAILTO:info@mensharpenmen.org
GEO:33.889572;-118.154455
X-APPLE-STRUCTURED-LOCATION;VALUE=URI;X-ADDRESS=Red Brick Building 8303 Alondra Blvd Paramount 90723 United States;X-APPLE-RADIUS=500;X-TITLE=8303 Alondra Blvd:geo:-118.154455,33.889572
END:VEVENT
BEGIN:VEVENT
DTSTART;TZID=America/Los_Angeles:20261024T080000
DTEND;TZID=America/Los_Angeles:20261024T090000
DTSTAMP:20260423T132000
CREATED:20260215T060800Z
LAST-MODIFIED:20260215T060800Z
UID:10001399-1792828800-1792832400@mensharpenmen.org
SUMMARY:Saturday Morning Coffee & Study of The Word of God
DESCRIPTION:
URL:https://mensharpenmen.org/event/saturday-morning-coffee-study-of-the-word-of-god/2026-10-24/
LOCATION:Red Brick Building\, 8303 Alondra Blvd\, Paramount\, 90723\, United States
CATEGORIES:Bible Study
ATTACH;FMTTYPE=image/jpeg:https://mensharpenmen.org/wp-content/uploads/2023/12/19147-scaled.jpg
ORGANIZER;CN="Phillip Hendren":MAILTO:info@mensharpenmen.org
GEO:33.889572;-118.154455
X-APPLE-STRUCTURED-LOCATION;VALUE=URI;X-ADDRESS=Red Brick Building 8303 Alondra Blvd Paramount 90723 United States;X-APPLE-RADIUS=500;X-TITLE=8303 Alondra Blvd:geo:-118.154455,33.889572
END:VEVENT
BEGIN:VEVENT
DTSTART;TZID=America/Los_Angeles:20261031T080000
DTEND;TZID=America/Los_Angeles:20261031T090000
DTSTAMP:20260423T132000
CREATED:20260215T060800Z
LAST-MODIFIED:20260215T060800Z
UID:10001400-1793433600-1793437200@mensharpenmen.org
SUMMARY:Saturday Morning Coffee & Study of The Word of God
DESCRIPTION:
URL:https://mensharpenmen.org/event/saturday-morning-coffee-study-of-the-word-of-god/2026-10-31/
LOCATION:Red Brick Building\, 8303 Alondra Blvd\, Paramount\, 90723\, United States
CATEGORIES:Bible Study
ATTACH;FMTTYPE=image/jpeg:https://mensharpenmen.org/wp-content/uploads/2023/12/19147-scaled.jpg
ORGANIZER;CN="Phillip Hendren":MAILTO:info@mensharpenmen.org
GEO:33.889572;-118.154455
X-APPLE-STRUCTURED-LOCATION;VALUE=URI;X-ADDRESS=Red Brick Building 8303 Alondra Blvd Paramount 90723 United States;X-APPLE-RADIUS=500;X-TITLE=8303 Alondra Blvd:geo:-118.154455,33.889572
END:VEVENT
BEGIN:VEVENT
DTSTART;TZID=America/Los_Angeles:20261107T080000
DTEND;TZID=America/Los_Angeles:20261107T090000
DTSTAMP:20260423T132000
CREATED:20260215T060800Z
LAST-MODIFIED:20260215T060800Z
UID:10001401-1794038400-1794042000@mensharpenmen.org
SUMMARY:Saturday Morning Coffee & Study of The Word of God
DESCRIPTION:
URL:https://mensharpenmen.org/event/saturday-morning-coffee-study-of-the-word-of-god/2026-11-07/
LOCATION:Red Brick Building\, 8303 Alondra Blvd\, Paramount\, 90723\, United States
CATEGORIES:Bible Study
ATTACH;FMTTYPE=image/jpeg:https://mensharpenmen.org/wp-content/uploads/2023/12/19147-scaled.jpg
ORGANIZER;CN="Phillip Hendren":MAILTO:info@mensharpenmen.org
GEO:33.889572;-118.154455
X-APPLE-STRUCTURED-LOCATION;VALUE=URI;X-ADDRESS=Red Brick Building 8303 Alondra Blvd Paramount 90723 United States;X-APPLE-RADIUS=500;X-TITLE=8303 Alondra Blvd:geo:-118.154455,33.889572
END:VEVENT
BEGIN:VEVENT
DTSTART;TZID=America/Los_Angeles:20261114T080000
DTEND;TZID=America/Los_Angeles:20261114T090000
DTSTAMP:20260423T132000
CREATED:20260215T060800Z
LAST-MODIFIED:20260215T060800Z
UID:10001402-1794643200-1794646800@mensharpenmen.org
SUMMARY:Saturday Morning Coffee & Study of The Word of God
DESCRIPTION:
URL:https://mensharpenmen.org/event/saturday-morning-coffee-study-of-the-word-of-god/2026-11-14/
LOCATION:Red Brick Building\, 8303 Alondra Blvd\, Paramount\, 90723\, United States
CATEGORIES:Bible Study
ATTACH;FMTTYPE=image/jpeg:https://mensharpenmen.org/wp-content/uploads/2023/12/19147-scaled.jpg
ORGANIZER;CN="Phillip Hendren":MAILTO:info@mensharpenmen.org
GEO:33.889572;-118.154455
X-APPLE-STRUCTURED-LOCATION;VALUE=URI;X-ADDRESS=Red Brick Building 8303 Alondra Blvd Paramount 90723 United States;X-APPLE-RADIUS=500;X-TITLE=8303 Alondra Blvd:geo:-118.154455,33.889572
END:VEVENT
BEGIN:VEVENT
DTSTART;TZID=America/Los_Angeles:20261121T080000
DTEND;TZID=America/Los_Angeles:20261121T090000
DTSTAMP:20260423T132000
CREATED:20260215T060800Z
LAST-MODIFIED:20260215T060800Z
UID:10001403-1795248000-1795251600@mensharpenmen.org
SUMMARY:Saturday Morning Coffee & Study of The Word of God
DESCRIPTION:
URL:https://mensharpenmen.org/event/saturday-morning-coffee-study-of-the-word-of-god/2026-11-21/
LOCATION:Red Brick Building\, 8303 Alondra Blvd\, Paramount\, 90723\, United States
CATEGORIES:Bible Study
ATTACH;FMTTYPE=image/jpeg:https://mensharpenmen.org/wp-content/uploads/2023/12/19147-scaled.jpg
ORGANIZER;CN="Phillip Hendren":MAILTO:info@mensharpenmen.org
GEO:33.889572;-118.154455
X-APPLE-STRUCTURED-LOCATION;VALUE=URI;X-ADDRESS=Red Brick Building 8303 Alondra Blvd Paramount 90723 United States;X-APPLE-RADIUS=500;X-TITLE=8303 Alondra Blvd:geo:-118.154455,33.889572
END:VEVENT
BEGIN:VEVENT
DTSTART;TZID=America/Los_Angeles:20261128T080000
DTEND;TZID=America/Los_Angeles:20261128T090000
DTSTAMP:20260423T132000
CREATED:20260215T060800Z
LAST-MODIFIED:20260215T060800Z
UID:10001404-1795852800-1795856400@mensharpenmen.org
SUMMARY:Saturday Morning Coffee & Study of The Word of God
DESCRIPTION:
URL:https://mensharpenmen.org/event/saturday-morning-coffee-study-of-the-word-of-god/2026-11-28/
LOCATION:Red Brick Building\, 8303 Alondra Blvd\, Paramount\, 90723\, United States
CATEGORIES:Bible Study
ATTACH;FMTTYPE=image/jpeg:https://mensharpenmen.org/wp-content/uploads/2023/12/19147-scaled.jpg
ORGANIZER;CN="Phillip Hendren":MAILTO:info@mensharpenmen.org
GEO:33.889572;-118.154455
X-APPLE-STRUCTURED-LOCATION;VALUE=URI;X-ADDRESS=Red Brick Building 8303 Alondra Blvd Paramount 90723 United States;X-APPLE-RADIUS=500;X-TITLE=8303 Alondra Blvd:geo:-118.154455,33.889572
END:VEVENT
END:VCALENDAR