BEGIN:VCALENDAR
VERSION:2.0
PRODID:-//Men Sharpen Men - ECPv6.15.20//NONSGML v1.0//EN
CALSCALE:GREGORIAN
METHOD:PUBLISH
X-ORIGINAL-URL:https://mensharpenmen.org
X-WR-CALDESC:Events for Men Sharpen Men
REFRESH-INTERVAL;VALUE=DURATION:PT1H
X-Robots-Tag:noindex
X-PUBLISHED-TTL:PT1H
BEGIN:VTIMEZONE
TZID:America/Los_Angeles
BEGIN:DAYLIGHT
TZOFFSETFROM:-0800
TZOFFSETTO:-0700
TZNAME:PDT
DTSTART:20240310T100000
END:DAYLIGHT
BEGIN:STANDARD
TZOFFSETFROM:-0700
TZOFFSETTO:-0800
TZNAME:PST
DTSTART:20241103T090000
END:STANDARD
BEGIN:DAYLIGHT
TZOFFSETFROM:-0800
TZOFFSETTO:-0700
TZNAME:PDT
DTSTART:20250309T100000
END:DAYLIGHT
BEGIN:STANDARD
TZOFFSETFROM:-0700
TZOFFSETTO:-0800
TZNAME:PST
DTSTART:20251102T090000
END:STANDARD
BEGIN:DAYLIGHT
TZOFFSETFROM:-0800
TZOFFSETTO:-0700
TZNAME:PDT
DTSTART:20260308T100000
END:DAYLIGHT
BEGIN:STANDARD
TZOFFSETFROM:-0700
TZOFFSETTO:-0800
TZNAME:PST
DTSTART:20261101T090000
END:STANDARD
END:VTIMEZONE
BEGIN:VEVENT
DTSTART;TZID=America/Los_Angeles:20251227T080000
DTEND;TZID=America/Los_Angeles:20251227T090000
DTSTAMP:20260423T172311
CREATED:20241229T212022Z
LAST-MODIFIED:20241229T212443Z
UID:10001362-1766822400-1766826000@mensharpenmen.org
SUMMARY:Stepping Up Saturday Men's Bible Study
DESCRIPTION:Topic: Men’s Saturday Morning Bible Study\nTime: January 4\, 2025 08:00 AM Pacific Time (US and Canada)\nEvery week on Sat\, until Dec 29\, 2025\, 52 occurrence(s)
URL:https://mensharpenmen.org/event/stepping-up-saturday-mens-bible-study/2025-12-27/
LOCATION:Emmanuel Church Office\, 8303 Alondra\, Paramount\, 90723\, United States
CATEGORIES:Bible Study
ORGANIZER;CN="John Osterman":MAILTO:john.r.osterman@gmail.com
GEO:33.8894928;-118.1544527
X-APPLE-STRUCTURED-LOCATION;VALUE=URI;X-ADDRESS=Emmanuel Church Office 8303 Alondra Paramount 90723 United States;X-APPLE-RADIUS=500;X-TITLE=8303 Alondra:geo:-118.1544527,33.8894928
END:VEVENT
END:VCALENDAR